BEGIN:VCALENDAR
VERSION:2.0
PRODID:-//Visit Delco, PA - ECPv6.15.17.1//NONSGML v1.0//EN
CALSCALE:GREGORIAN
METHOD:PUBLISH
X-ORIGINAL-URL:https://visitdelco.com
X-WR-CALDESC:Events for Visit Delco, PA
REFRESH-INTERVAL;VALUE=DURATION:PT1H
X-Robots-Tag:noindex
X-PUBLISHED-TTL:PT1H
BEGIN:VTIMEZONE
TZID:America/New_York
BEGIN:DAYLIGHT
TZOFFSETFROM:-0500
TZOFFSETTO:-0400
TZNAME:EDT
DTSTART:20250309T070000
END:DAYLIGHT
BEGIN:STANDARD
TZOFFSETFROM:-0400
TZOFFSETTO:-0500
TZNAME:EST
DTSTART:20251102T060000
END:STANDARD
BEGIN:DAYLIGHT
TZOFFSETFROM:-0500
TZOFFSETTO:-0400
TZNAME:EDT
DTSTART:20260308T070000
END:DAYLIGHT
BEGIN:STANDARD
TZOFFSETFROM:-0400
TZOFFSETTO:-0500
TZNAME:EST
DTSTART:20261101T060000
END:STANDARD
BEGIN:DAYLIGHT
TZOFFSETFROM:-0500
TZOFFSETTO:-0400
TZNAME:EDT
DTSTART:20270314T070000
END:DAYLIGHT
BEGIN:STANDARD
TZOFFSETFROM:-0400
TZOFFSETTO:-0500
TZNAME:EST
DTSTART:20271107T060000
END:STANDARD
END:VTIMEZONE
BEGIN:VEVENT
DTSTART;TZID=America/New_York:20260424T190000
DTEND;TZID=America/New_York:20260424T220000
DTSTAMP:20260421T070521
CREATED:20260418T173909Z
LAST-MODIFIED:20260418T173909Z
UID:10034923-1777057200-1777068000@visitdelco.com
SUMMARY:Ship Bottom Brewery Swarthmore:  Live Music
DESCRIPTION:
URL:https://visitdelco.com/event/ship-bottom-brewery-swarthmore-live-music/2026-04-24/
LOCATION:Ship Bottom (Swarthmore)\, 5 Park Avenue\, Swarthmore\, PA\, 19081\, United States
CATEGORIES:Concerts & Live Music,Beer & Wine
ATTACH;FMTTYPE=image/jpeg:https://visitdelco.com/wp-content/uploads/2026/04/423313704_329029143455000_8520617768446376909_n-2.jpg
END:VEVENT
BEGIN:VEVENT
DTSTART;TZID=America/New_York:20260425T190000
DTEND;TZID=America/New_York:20260425T220000
DTSTAMP:20260421T070521
CREATED:20260418T173909Z
LAST-MODIFIED:20260418T173909Z
UID:10034924-1777143600-1777154400@visitdelco.com
SUMMARY:Ship Bottom Brewery Swarthmore:  Live Music
DESCRIPTION:
URL:https://visitdelco.com/event/ship-bottom-brewery-swarthmore-live-music/2026-04-25/
LOCATION:Ship Bottom (Swarthmore)\, 5 Park Avenue\, Swarthmore\, PA\, 19081\, United States
CATEGORIES:Concerts & Live Music,Beer & Wine
ATTACH;FMTTYPE=image/jpeg:https://visitdelco.com/wp-content/uploads/2026/04/423313704_329029143455000_8520617768446376909_n-2.jpg
END:VEVENT
BEGIN:VEVENT
DTSTART;TZID=America/New_York:20260426T130000
DTEND;TZID=America/New_York:20260426T160000
DTSTAMP:20260421T070521
CREATED:20260408T135227Z
LAST-MODIFIED:20260408T135338Z
UID:10034141-1777208400-1777219200@visitdelco.com
SUMMARY:Ship Bottom Brewery:  Dog-Friendly Pop-Up Happy Hour
DESCRIPTION:The event will feature: \n\nFree dog bandanas\nSniff tests of our “Happy Hour Collection” (premium Daily Fur Mists for pets)\nFun street interviews with local dogs\nA relaxed afternoon for dog owners to enjoy the brewery patio with their pups
URL:https://visitdelco.com/event/ship-bottom-brewery-dog-friendly-pop-up-happy-hour/
LOCATION:Ship Bottom (Swarthmore)\, 5 Park Avenue\, Swarthmore\, PA\, 19081\, United States
CATEGORIES:Family Fun,Beer & Wine
ATTACH;FMTTYPE=image/png:https://visitdelco.com/wp-content/uploads/2026/04/HAPPY-HOUR-SHIP-BOTTOM-1.png
END:VEVENT
BEGIN:VEVENT
DTSTART;TZID=America/New_York:20260501T190000
DTEND;TZID=America/New_York:20260501T220000
DTSTAMP:20260421T070521
CREATED:20260418T173909Z
LAST-MODIFIED:20260418T173909Z
UID:10034925-1777662000-1777672800@visitdelco.com
SUMMARY:Ship Bottom Brewery Swarthmore:  Live Music
DESCRIPTION:
URL:https://visitdelco.com/event/ship-bottom-brewery-swarthmore-live-music/2026-05-01/
LOCATION:Ship Bottom (Swarthmore)\, 5 Park Avenue\, Swarthmore\, PA\, 19081\, United States
CATEGORIES:Concerts & Live Music,Beer & Wine
ATTACH;FMTTYPE=image/jpeg:https://visitdelco.com/wp-content/uploads/2026/04/423313704_329029143455000_8520617768446376909_n-2.jpg
END:VEVENT
BEGIN:VEVENT
DTSTART;TZID=America/New_York:20260502T190000
DTEND;TZID=America/New_York:20260502T220000
DTSTAMP:20260421T070521
CREATED:20260418T173909Z
LAST-MODIFIED:20260418T173909Z
UID:10034926-1777748400-1777759200@visitdelco.com
SUMMARY:Ship Bottom Brewery Swarthmore:  Live Music
DESCRIPTION:
URL:https://visitdelco.com/event/ship-bottom-brewery-swarthmore-live-music/2026-05-02/
LOCATION:Ship Bottom (Swarthmore)\, 5 Park Avenue\, Swarthmore\, PA\, 19081\, United States
CATEGORIES:Concerts & Live Music,Beer & Wine
ATTACH;FMTTYPE=image/jpeg:https://visitdelco.com/wp-content/uploads/2026/04/423313704_329029143455000_8520617768446376909_n-2.jpg
END:VEVENT
BEGIN:VEVENT
DTSTART;TZID=America/New_York:20260508T190000
DTEND;TZID=America/New_York:20260508T220000
DTSTAMP:20260421T070521
CREATED:20260418T173909Z
LAST-MODIFIED:20260418T173909Z
UID:10034927-1778266800-1778277600@visitdelco.com
SUMMARY:Ship Bottom Brewery Swarthmore:  Live Music
DESCRIPTION:
URL:https://visitdelco.com/event/ship-bottom-brewery-swarthmore-live-music/2026-05-08/
LOCATION:Ship Bottom (Swarthmore)\, 5 Park Avenue\, Swarthmore\, PA\, 19081\, United States
CATEGORIES:Concerts & Live Music,Beer & Wine
ATTACH;FMTTYPE=image/jpeg:https://visitdelco.com/wp-content/uploads/2026/04/423313704_329029143455000_8520617768446376909_n-2.jpg
END:VEVENT
BEGIN:VEVENT
DTSTART;TZID=America/New_York:20260509T190000
DTEND;TZID=America/New_York:20260509T220000
DTSTAMP:20260421T070521
CREATED:20260418T173909Z
LAST-MODIFIED:20260418T173909Z
UID:10034928-1778353200-1778364000@visitdelco.com
SUMMARY:Ship Bottom Brewery Swarthmore:  Live Music
DESCRIPTION:
URL:https://visitdelco.com/event/ship-bottom-brewery-swarthmore-live-music/2026-05-09/
LOCATION:Ship Bottom (Swarthmore)\, 5 Park Avenue\, Swarthmore\, PA\, 19081\, United States
CATEGORIES:Concerts & Live Music,Beer & Wine
ATTACH;FMTTYPE=image/jpeg:https://visitdelco.com/wp-content/uploads/2026/04/423313704_329029143455000_8520617768446376909_n-2.jpg
END:VEVENT
BEGIN:VEVENT
DTSTART;TZID=America/New_York:20260515T190000
DTEND;TZID=America/New_York:20260515T220000
DTSTAMP:20260421T070521
CREATED:20260418T173909Z
LAST-MODIFIED:20260418T173909Z
UID:10034929-1778871600-1778882400@visitdelco.com
SUMMARY:Ship Bottom Brewery Swarthmore:  Live Music
DESCRIPTION:
URL:https://visitdelco.com/event/ship-bottom-brewery-swarthmore-live-music/2026-05-15/
LOCATION:Ship Bottom (Swarthmore)\, 5 Park Avenue\, Swarthmore\, PA\, 19081\, United States
CATEGORIES:Concerts & Live Music,Beer & Wine
ATTACH;FMTTYPE=image/jpeg:https://visitdelco.com/wp-content/uploads/2026/04/423313704_329029143455000_8520617768446376909_n-2.jpg
END:VEVENT
BEGIN:VEVENT
DTSTART;TZID=America/New_York:20260516T190000
DTEND;TZID=America/New_York:20260516T220000
DTSTAMP:20260421T070521
CREATED:20260418T173909Z
LAST-MODIFIED:20260418T173909Z
UID:10034930-1778958000-1778968800@visitdelco.com
SUMMARY:Ship Bottom Brewery Swarthmore:  Live Music
DESCRIPTION:
URL:https://visitdelco.com/event/ship-bottom-brewery-swarthmore-live-music/2026-05-16/
LOCATION:Ship Bottom (Swarthmore)\, 5 Park Avenue\, Swarthmore\, PA\, 19081\, United States
CATEGORIES:Concerts & Live Music,Beer & Wine
ATTACH;FMTTYPE=image/jpeg:https://visitdelco.com/wp-content/uploads/2026/04/423313704_329029143455000_8520617768446376909_n-2.jpg
END:VEVENT
BEGIN:VEVENT
DTSTART;TZID=America/New_York:20260522T190000
DTEND;TZID=America/New_York:20260522T220000
DTSTAMP:20260421T070521
CREATED:20260418T173909Z
LAST-MODIFIED:20260418T173909Z
UID:10034931-1779476400-1779487200@visitdelco.com
SUMMARY:Ship Bottom Brewery Swarthmore:  Live Music
DESCRIPTION:
URL:https://visitdelco.com/event/ship-bottom-brewery-swarthmore-live-music/2026-05-22/
LOCATION:Ship Bottom (Swarthmore)\, 5 Park Avenue\, Swarthmore\, PA\, 19081\, United States
CATEGORIES:Concerts & Live Music,Beer & Wine
ATTACH;FMTTYPE=image/jpeg:https://visitdelco.com/wp-content/uploads/2026/04/423313704_329029143455000_8520617768446376909_n-2.jpg
END:VEVENT
BEGIN:VEVENT
DTSTART;TZID=America/New_York:20260523T190000
DTEND;TZID=America/New_York:20260523T220000
DTSTAMP:20260421T070521
CREATED:20260418T173909Z
LAST-MODIFIED:20260418T173909Z
UID:10034932-1779562800-1779573600@visitdelco.com
SUMMARY:Ship Bottom Brewery Swarthmore:  Live Music
DESCRIPTION:
URL:https://visitdelco.com/event/ship-bottom-brewery-swarthmore-live-music/2026-05-23/
LOCATION:Ship Bottom (Swarthmore)\, 5 Park Avenue\, Swarthmore\, PA\, 19081\, United States
CATEGORIES:Concerts & Live Music,Beer & Wine
ATTACH;FMTTYPE=image/jpeg:https://visitdelco.com/wp-content/uploads/2026/04/423313704_329029143455000_8520617768446376909_n-2.jpg
END:VEVENT
BEGIN:VEVENT
DTSTART;TZID=America/New_York:20260529T190000
DTEND;TZID=America/New_York:20260529T220000
DTSTAMP:20260421T070521
CREATED:20260418T173909Z
LAST-MODIFIED:20260418T173909Z
UID:10034933-1780081200-1780092000@visitdelco.com
SUMMARY:Ship Bottom Brewery Swarthmore:  Live Music
DESCRIPTION:
URL:https://visitdelco.com/event/ship-bottom-brewery-swarthmore-live-music/2026-05-29/
LOCATION:Ship Bottom (Swarthmore)\, 5 Park Avenue\, Swarthmore\, PA\, 19081\, United States
CATEGORIES:Concerts & Live Music,Beer & Wine
ATTACH;FMTTYPE=image/jpeg:https://visitdelco.com/wp-content/uploads/2026/04/423313704_329029143455000_8520617768446376909_n-2.jpg
END:VEVENT
BEGIN:VEVENT
DTSTART;TZID=America/New_York:20260530T190000
DTEND;TZID=America/New_York:20260530T220000
DTSTAMP:20260421T070521
CREATED:20260418T173909Z
LAST-MODIFIED:20260418T173909Z
UID:10034934-1780167600-1780178400@visitdelco.com
SUMMARY:Ship Bottom Brewery Swarthmore:  Live Music
DESCRIPTION:
URL:https://visitdelco.com/event/ship-bottom-brewery-swarthmore-live-music/2026-05-30/
LOCATION:Ship Bottom (Swarthmore)\, 5 Park Avenue\, Swarthmore\, PA\, 19081\, United States
CATEGORIES:Concerts & Live Music,Beer & Wine
ATTACH;FMTTYPE=image/jpeg:https://visitdelco.com/wp-content/uploads/2026/04/423313704_329029143455000_8520617768446376909_n-2.jpg
END:VEVENT
END:VCALENDAR