BEGIN:VCALENDAR
VERSION:2.0
PRODID:-//Visit Delco, PA - ECPv6.15.17.1//NONSGML v1.0//EN
CALSCALE:GREGORIAN
METHOD:PUBLISH
X-WR-CALNAME:Visit Delco, PA
X-ORIGINAL-URL:https://visitdelco.com
X-WR-CALDESC:Events for Visit Delco, PA
REFRESH-INTERVAL;VALUE=DURATION:PT1H
X-Robots-Tag:noindex
X-PUBLISHED-TTL:PT1H
BEGIN:VTIMEZONE
TZID:America/New_York
BEGIN:DAYLIGHT
TZOFFSETFROM:-0500
TZOFFSETTO:-0400
TZNAME:EDT
DTSTART:20250309T070000
END:DAYLIGHT
BEGIN:STANDARD
TZOFFSETFROM:-0400
TZOFFSETTO:-0500
TZNAME:EST
DTSTART:20251102T060000
END:STANDARD
BEGIN:DAYLIGHT
TZOFFSETFROM:-0500
TZOFFSETTO:-0400
TZNAME:EDT
DTSTART:20260308T070000
END:DAYLIGHT
BEGIN:STANDARD
TZOFFSETFROM:-0400
TZOFFSETTO:-0500
TZNAME:EST
DTSTART:20261101T060000
END:STANDARD
BEGIN:DAYLIGHT
TZOFFSETFROM:-0500
TZOFFSETTO:-0400
TZNAME:EDT
DTSTART:20270314T070000
END:DAYLIGHT
BEGIN:STANDARD
TZOFFSETFROM:-0400
TZOFFSETTO:-0500
TZNAME:EST
DTSTART:20271107T060000
END:STANDARD
END:VTIMEZONE
BEGIN:VEVENT
DTSTART;TZID=America/New_York:20260419T080000
DTEND;TZID=America/New_York:20260419T090000
DTSTAMP:20260421T091044
CREATED:20251201T202040Z
LAST-MODIFIED:20260129T014512Z
UID:10032232-1776585600-1776589200@visitdelco.com
SUMMARY:Newlin Grist Mill:  Guided Mill Tours
DESCRIPTION:Guided tours of the 1704 Grist Mill:\n\nWednesday-Friday at2pm; Sat. & Sun. 1pm\nWhile the Mill is not currently operational\, visitors on guided tours will get a rare opportunity to see the process of building a new waterwheel and waterbox.\nVisitors must be on a guided tour to go inside the Grist Mill.\nGuided tours are $6 per person (children under 3 years of ages admitted free).
URL:https://visitdelco.com/event/newlin-grist-mill-guided-mill-tours-2/2026-04-19/
LOCATION:Newlin Grist Mill\, 219 Cheyney Road\, Glen Mills\, PA\, 19342\, United States
CATEGORIES:History & Heritage,Gardens/ Nature/ Outdoors,Educational
ATTACH;FMTTYPE=image/jpeg:https://visitdelco.com/wp-content/uploads/2025/12/Screenshot_1-12-2025_101642_newlingristmill.org_.jpeg
END:VEVENT
BEGIN:VEVENT
DTSTART;TZID=America/New_York:20260418T080000
DTEND;TZID=America/New_York:20260418T090000
DTSTAMP:20260421T091044
CREATED:20251201T202040Z
LAST-MODIFIED:20260129T014512Z
UID:10032231-1776499200-1776502800@visitdelco.com
SUMMARY:Newlin Grist Mill:  Guided Mill Tours
DESCRIPTION:Guided tours of the 1704 Grist Mill:\n\nWednesday-Friday at2pm; Sat. & Sun. 1pm\nWhile the Mill is not currently operational\, visitors on guided tours will get a rare opportunity to see the process of building a new waterwheel and waterbox.\nVisitors must be on a guided tour to go inside the Grist Mill.\nGuided tours are $6 per person (children under 3 years of ages admitted free).
URL:https://visitdelco.com/event/newlin-grist-mill-guided-mill-tours-2/2026-04-18/
LOCATION:Newlin Grist Mill\, 219 Cheyney Road\, Glen Mills\, PA\, 19342\, United States
CATEGORIES:History & Heritage,Gardens/ Nature/ Outdoors,Educational
ATTACH;FMTTYPE=image/jpeg:https://visitdelco.com/wp-content/uploads/2025/12/Screenshot_1-12-2025_101642_newlingristmill.org_.jpeg
END:VEVENT
BEGIN:VEVENT
DTSTART;TZID=America/New_York:20260418T050000
DTEND;TZID=America/New_York:20260418T100000
DTSTAMP:20260421T091044
CREATED:20260130T012352Z
LAST-MODIFIED:20260203T214609Z
UID:10032735-1776488400-1776506400@visitdelco.com
SUMMARY:Newlin Grist Mill Presents:  Historical Roofing Demonstration
DESCRIPTION:
URL:https://visitdelco.com/event/newlin-grist-mill-presents-historical-roofing-demonstration/
LOCATION:Newlin Grist Mill\, 219 Cheyney Road\, Glen Mills\, PA\, 19342\, United States
CATEGORIES:History & Heritage,Delco 250
ATTACH;FMTTYPE=image/jpeg:https://visitdelco.com/wp-content/uploads/2026/01/Red-White-and-Blue-Vintage-Retro-USA-American-Flag-Patriotic-Fourth-of-July-Presentation-6-600x338-1.jpg
END:VEVENT
BEGIN:VEVENT
DTSTART;TZID=America/New_York:20260418T050000
DTEND;TZID=America/New_York:20260418T100000
DTSTAMP:20260421T091044
CREATED:20260128T234355Z
LAST-MODIFIED:20260128T234420Z
UID:10032200-1776488400-1776506400@visitdelco.com
SUMMARY:Newlin Grist Mill:  Public Archaeology
DESCRIPTION:
URL:https://visitdelco.com/event/newlin-grist-mill-public-archaeology/2026-04-18/
LOCATION:Newlin Grist Mill\, 219 Cheyney Road\, Glen Mills\, PA\, 19342\, United States
CATEGORIES:History & Heritage,Family Fun,Gardens/ Nature/ Outdoors,Educational
ATTACH;FMTTYPE=image/jpeg:https://visitdelco.com/wp-content/uploads/2026/01/Chester-Soccer-D-300x225-1.jpg
END:VEVENT
BEGIN:VEVENT
DTSTART;TZID=America/New_York:20260417T090000
DTEND;TZID=America/New_York:20260417T100000
DTSTAMP:20260421T091044
CREATED:20251201T201904Z
LAST-MODIFIED:20260128T233839Z
UID:10031447-1776416400-1776420000@visitdelco.com
SUMMARY:Newlin Grist Mill:  Guided Mill Tours
DESCRIPTION:Guided tours of the 1704 Grist Mill:\n\nWednesday-Friday at 2pm\, Sat. & Sun. 1pm\nWhile the Mill is not currently operational\, visitors on guided tours will get a rare opportunity to see the process of building a new waterwheel and waterbox.\nVisitors must be on a guided tour to go inside the Grist Mill.\nGuided tours are $6 per person (children under 3 years of ages admitted free).
URL:https://visitdelco.com/event/newlin-grist-mill-guided-mill-tours/2026-04-17/
LOCATION:Newlin Grist Mill\, 219 Cheyney Road\, Glen Mills\, PA\, 19342\, United States
CATEGORIES:History & Heritage,Gardens/ Nature/ Outdoors,Educational
ATTACH;FMTTYPE=image/jpeg:https://visitdelco.com/wp-content/uploads/2025/12/Screenshot_1-12-2025_101642_newlingristmill.org_.jpeg
END:VEVENT
BEGIN:VEVENT
DTSTART;TZID=America/New_York:20260416T090000
DTEND;TZID=America/New_York:20260416T100000
DTSTAMP:20260421T091044
CREATED:20251201T201904Z
LAST-MODIFIED:20260128T233839Z
UID:10031446-1776330000-1776333600@visitdelco.com
SUMMARY:Newlin Grist Mill:  Guided Mill Tours
DESCRIPTION:Guided tours of the 1704 Grist Mill:\n\nWednesday-Friday at 2pm\, Sat. & Sun. 1pm\nWhile the Mill is not currently operational\, visitors on guided tours will get a rare opportunity to see the process of building a new waterwheel and waterbox.\nVisitors must be on a guided tour to go inside the Grist Mill.\nGuided tours are $6 per person (children under 3 years of ages admitted free).
URL:https://visitdelco.com/event/newlin-grist-mill-guided-mill-tours/2026-04-16/
LOCATION:Newlin Grist Mill\, 219 Cheyney Road\, Glen Mills\, PA\, 19342\, United States
CATEGORIES:History & Heritage,Gardens/ Nature/ Outdoors,Educational
ATTACH;FMTTYPE=image/jpeg:https://visitdelco.com/wp-content/uploads/2025/12/Screenshot_1-12-2025_101642_newlingristmill.org_.jpeg
END:VEVENT
BEGIN:VEVENT
DTSTART;TZID=America/New_York:20260415T090000
DTEND;TZID=America/New_York:20260415T100000
DTSTAMP:20260421T091044
CREATED:20251201T201904Z
LAST-MODIFIED:20260128T233839Z
UID:10031445-1776243600-1776247200@visitdelco.com
SUMMARY:Newlin Grist Mill:  Guided Mill Tours
DESCRIPTION:Guided tours of the 1704 Grist Mill:\n\nWednesday-Friday at 2pm\, Sat. & Sun. 1pm\nWhile the Mill is not currently operational\, visitors on guided tours will get a rare opportunity to see the process of building a new waterwheel and waterbox.\nVisitors must be on a guided tour to go inside the Grist Mill.\nGuided tours are $6 per person (children under 3 years of ages admitted free).
URL:https://visitdelco.com/event/newlin-grist-mill-guided-mill-tours/2026-04-15/
LOCATION:Newlin Grist Mill\, 219 Cheyney Road\, Glen Mills\, PA\, 19342\, United States
CATEGORIES:History & Heritage,Gardens/ Nature/ Outdoors,Educational
ATTACH;FMTTYPE=image/jpeg:https://visitdelco.com/wp-content/uploads/2025/12/Screenshot_1-12-2025_101642_newlingristmill.org_.jpeg
END:VEVENT
BEGIN:VEVENT
DTSTART;TZID=America/New_York:20260412T080000
DTEND;TZID=America/New_York:20260412T090000
DTSTAMP:20260421T091044
CREATED:20251201T202040Z
LAST-MODIFIED:20260129T014512Z
UID:10032230-1775980800-1775984400@visitdelco.com
SUMMARY:Newlin Grist Mill:  Guided Mill Tours
DESCRIPTION:Guided tours of the 1704 Grist Mill:\n\nWednesday-Friday at2pm; Sat. & Sun. 1pm\nWhile the Mill is not currently operational\, visitors on guided tours will get a rare opportunity to see the process of building a new waterwheel and waterbox.\nVisitors must be on a guided tour to go inside the Grist Mill.\nGuided tours are $6 per person (children under 3 years of ages admitted free).
URL:https://visitdelco.com/event/newlin-grist-mill-guided-mill-tours-2/2026-04-12/
LOCATION:Newlin Grist Mill\, 219 Cheyney Road\, Glen Mills\, PA\, 19342\, United States
CATEGORIES:History & Heritage,Gardens/ Nature/ Outdoors,Educational
ATTACH;FMTTYPE=image/jpeg:https://visitdelco.com/wp-content/uploads/2025/12/Screenshot_1-12-2025_101642_newlingristmill.org_.jpeg
END:VEVENT
BEGIN:VEVENT
DTSTART;TZID=America/New_York:20260411T080000
DTEND;TZID=America/New_York:20260411T090000
DTSTAMP:20260421T091044
CREATED:20251201T202040Z
LAST-MODIFIED:20260129T014512Z
UID:10032229-1775894400-1775898000@visitdelco.com
SUMMARY:Newlin Grist Mill:  Guided Mill Tours
DESCRIPTION:Guided tours of the 1704 Grist Mill:\n\nWednesday-Friday at2pm; Sat. & Sun. 1pm\nWhile the Mill is not currently operational\, visitors on guided tours will get a rare opportunity to see the process of building a new waterwheel and waterbox.\nVisitors must be on a guided tour to go inside the Grist Mill.\nGuided tours are $6 per person (children under 3 years of ages admitted free).
URL:https://visitdelco.com/event/newlin-grist-mill-guided-mill-tours-2/2026-04-11/
LOCATION:Newlin Grist Mill\, 219 Cheyney Road\, Glen Mills\, PA\, 19342\, United States
CATEGORIES:History & Heritage,Gardens/ Nature/ Outdoors,Educational
ATTACH;FMTTYPE=image/jpeg:https://visitdelco.com/wp-content/uploads/2025/12/Screenshot_1-12-2025_101642_newlingristmill.org_.jpeg
END:VEVENT
BEGIN:VEVENT
DTSTART;TZID=America/New_York:20260410T090000
DTEND;TZID=America/New_York:20260410T100000
DTSTAMP:20260421T091044
CREATED:20251201T201904Z
LAST-MODIFIED:20260128T233839Z
UID:10031444-1775811600-1775815200@visitdelco.com
SUMMARY:Newlin Grist Mill:  Guided Mill Tours
DESCRIPTION:Guided tours of the 1704 Grist Mill:\n\nWednesday-Friday at 2pm\, Sat. & Sun. 1pm\nWhile the Mill is not currently operational\, visitors on guided tours will get a rare opportunity to see the process of building a new waterwheel and waterbox.\nVisitors must be on a guided tour to go inside the Grist Mill.\nGuided tours are $6 per person (children under 3 years of ages admitted free).
URL:https://visitdelco.com/event/newlin-grist-mill-guided-mill-tours/2026-04-10/
LOCATION:Newlin Grist Mill\, 219 Cheyney Road\, Glen Mills\, PA\, 19342\, United States
CATEGORIES:History & Heritage,Gardens/ Nature/ Outdoors,Educational
ATTACH;FMTTYPE=image/jpeg:https://visitdelco.com/wp-content/uploads/2025/12/Screenshot_1-12-2025_101642_newlingristmill.org_.jpeg
END:VEVENT
BEGIN:VEVENT
DTSTART;TZID=America/New_York:20260409T090000
DTEND;TZID=America/New_York:20260409T100000
DTSTAMP:20260421T091044
CREATED:20251201T201904Z
LAST-MODIFIED:20260128T233839Z
UID:10031443-1775725200-1775728800@visitdelco.com
SUMMARY:Newlin Grist Mill:  Guided Mill Tours
DESCRIPTION:Guided tours of the 1704 Grist Mill:\n\nWednesday-Friday at 2pm\, Sat. & Sun. 1pm\nWhile the Mill is not currently operational\, visitors on guided tours will get a rare opportunity to see the process of building a new waterwheel and waterbox.\nVisitors must be on a guided tour to go inside the Grist Mill.\nGuided tours are $6 per person (children under 3 years of ages admitted free).
URL:https://visitdelco.com/event/newlin-grist-mill-guided-mill-tours/2026-04-09/
LOCATION:Newlin Grist Mill\, 219 Cheyney Road\, Glen Mills\, PA\, 19342\, United States
CATEGORIES:History & Heritage,Gardens/ Nature/ Outdoors,Educational
ATTACH;FMTTYPE=image/jpeg:https://visitdelco.com/wp-content/uploads/2025/12/Screenshot_1-12-2025_101642_newlingristmill.org_.jpeg
END:VEVENT
BEGIN:VEVENT
DTSTART;TZID=America/New_York:20260408T090000
DTEND;TZID=America/New_York:20260408T100000
DTSTAMP:20260421T091044
CREATED:20251201T201904Z
LAST-MODIFIED:20260128T233839Z
UID:10031442-1775638800-1775642400@visitdelco.com
SUMMARY:Newlin Grist Mill:  Guided Mill Tours
DESCRIPTION:Guided tours of the 1704 Grist Mill:\n\nWednesday-Friday at 2pm\, Sat. & Sun. 1pm\nWhile the Mill is not currently operational\, visitors on guided tours will get a rare opportunity to see the process of building a new waterwheel and waterbox.\nVisitors must be on a guided tour to go inside the Grist Mill.\nGuided tours are $6 per person (children under 3 years of ages admitted free).
URL:https://visitdelco.com/event/newlin-grist-mill-guided-mill-tours/2026-04-08/
LOCATION:Newlin Grist Mill\, 219 Cheyney Road\, Glen Mills\, PA\, 19342\, United States
CATEGORIES:History & Heritage,Gardens/ Nature/ Outdoors,Educational
ATTACH;FMTTYPE=image/jpeg:https://visitdelco.com/wp-content/uploads/2025/12/Screenshot_1-12-2025_101642_newlingristmill.org_.jpeg
END:VEVENT
BEGIN:VEVENT
DTSTART;TZID=America/New_York:20260405T080000
DTEND;TZID=America/New_York:20260405T090000
DTSTAMP:20260421T091044
CREATED:20251201T202040Z
LAST-MODIFIED:20260129T014512Z
UID:10032228-1775376000-1775379600@visitdelco.com
SUMMARY:Newlin Grist Mill:  Guided Mill Tours
DESCRIPTION:Guided tours of the 1704 Grist Mill:\n\nWednesday-Friday at2pm; Sat. & Sun. 1pm\nWhile the Mill is not currently operational\, visitors on guided tours will get a rare opportunity to see the process of building a new waterwheel and waterbox.\nVisitors must be on a guided tour to go inside the Grist Mill.\nGuided tours are $6 per person (children under 3 years of ages admitted free).
URL:https://visitdelco.com/event/newlin-grist-mill-guided-mill-tours-2/2026-04-05/
LOCATION:Newlin Grist Mill\, 219 Cheyney Road\, Glen Mills\, PA\, 19342\, United States
CATEGORIES:History & Heritage,Gardens/ Nature/ Outdoors,Educational
ATTACH;FMTTYPE=image/jpeg:https://visitdelco.com/wp-content/uploads/2025/12/Screenshot_1-12-2025_101642_newlingristmill.org_.jpeg
END:VEVENT
BEGIN:VEVENT
DTSTART;TZID=America/New_York:20260404T080000
DTEND;TZID=America/New_York:20260404T090000
DTSTAMP:20260421T091044
CREATED:20251201T202040Z
LAST-MODIFIED:20260129T014512Z
UID:10032227-1775289600-1775293200@visitdelco.com
SUMMARY:Newlin Grist Mill:  Guided Mill Tours
DESCRIPTION:Guided tours of the 1704 Grist Mill:\n\nWednesday-Friday at2pm; Sat. & Sun. 1pm\nWhile the Mill is not currently operational\, visitors on guided tours will get a rare opportunity to see the process of building a new waterwheel and waterbox.\nVisitors must be on a guided tour to go inside the Grist Mill.\nGuided tours are $6 per person (children under 3 years of ages admitted free).
URL:https://visitdelco.com/event/newlin-grist-mill-guided-mill-tours-2/2026-04-04/
LOCATION:Newlin Grist Mill\, 219 Cheyney Road\, Glen Mills\, PA\, 19342\, United States
CATEGORIES:History & Heritage,Gardens/ Nature/ Outdoors,Educational
ATTACH;FMTTYPE=image/jpeg:https://visitdelco.com/wp-content/uploads/2025/12/Screenshot_1-12-2025_101642_newlingristmill.org_.jpeg
END:VEVENT
BEGIN:VEVENT
DTSTART;TZID=America/New_York:20260403T090000
DTEND;TZID=America/New_York:20260403T100000
DTSTAMP:20260421T091044
CREATED:20251201T201904Z
LAST-MODIFIED:20260128T233839Z
UID:10031441-1775206800-1775210400@visitdelco.com
SUMMARY:Newlin Grist Mill:  Guided Mill Tours
DESCRIPTION:Guided tours of the 1704 Grist Mill:\n\nWednesday-Friday at 2pm\, Sat. & Sun. 1pm\nWhile the Mill is not currently operational\, visitors on guided tours will get a rare opportunity to see the process of building a new waterwheel and waterbox.\nVisitors must be on a guided tour to go inside the Grist Mill.\nGuided tours are $6 per person (children under 3 years of ages admitted free).
URL:https://visitdelco.com/event/newlin-grist-mill-guided-mill-tours/2026-04-03/
LOCATION:Newlin Grist Mill\, 219 Cheyney Road\, Glen Mills\, PA\, 19342\, United States
CATEGORIES:History & Heritage,Gardens/ Nature/ Outdoors,Educational
ATTACH;FMTTYPE=image/jpeg:https://visitdelco.com/wp-content/uploads/2025/12/Screenshot_1-12-2025_101642_newlingristmill.org_.jpeg
END:VEVENT
BEGIN:VEVENT
DTSTART;TZID=America/New_York:20260402T090000
DTEND;TZID=America/New_York:20260402T100000
DTSTAMP:20260421T091044
CREATED:20251201T201904Z
LAST-MODIFIED:20260128T233839Z
UID:10031440-1775120400-1775124000@visitdelco.com
SUMMARY:Newlin Grist Mill:  Guided Mill Tours
DESCRIPTION:Guided tours of the 1704 Grist Mill:\n\nWednesday-Friday at 2pm\, Sat. & Sun. 1pm\nWhile the Mill is not currently operational\, visitors on guided tours will get a rare opportunity to see the process of building a new waterwheel and waterbox.\nVisitors must be on a guided tour to go inside the Grist Mill.\nGuided tours are $6 per person (children under 3 years of ages admitted free).
URL:https://visitdelco.com/event/newlin-grist-mill-guided-mill-tours/2026-04-02/
LOCATION:Newlin Grist Mill\, 219 Cheyney Road\, Glen Mills\, PA\, 19342\, United States
CATEGORIES:History & Heritage,Gardens/ Nature/ Outdoors,Educational
ATTACH;FMTTYPE=image/jpeg:https://visitdelco.com/wp-content/uploads/2025/12/Screenshot_1-12-2025_101642_newlingristmill.org_.jpeg
END:VEVENT
BEGIN:VEVENT
DTSTART;TZID=America/New_York:20260401T090000
DTEND;TZID=America/New_York:20260401T100000
DTSTAMP:20260421T091044
CREATED:20251201T201904Z
LAST-MODIFIED:20260128T233839Z
UID:10031439-1775034000-1775037600@visitdelco.com
SUMMARY:Newlin Grist Mill:  Guided Mill Tours
DESCRIPTION:Guided tours of the 1704 Grist Mill:\n\nWednesday-Friday at 2pm\, Sat. & Sun. 1pm\nWhile the Mill is not currently operational\, visitors on guided tours will get a rare opportunity to see the process of building a new waterwheel and waterbox.\nVisitors must be on a guided tour to go inside the Grist Mill.\nGuided tours are $6 per person (children under 3 years of ages admitted free).
URL:https://visitdelco.com/event/newlin-grist-mill-guided-mill-tours/2026-04-01/
LOCATION:Newlin Grist Mill\, 219 Cheyney Road\, Glen Mills\, PA\, 19342\, United States
CATEGORIES:History & Heritage,Gardens/ Nature/ Outdoors,Educational
ATTACH;FMTTYPE=image/jpeg:https://visitdelco.com/wp-content/uploads/2025/12/Screenshot_1-12-2025_101642_newlingristmill.org_.jpeg
END:VEVENT
BEGIN:VEVENT
DTSTART;TZID=America/New_York:20260329T080000
DTEND;TZID=America/New_York:20260329T090000
DTSTAMP:20260421T091044
CREATED:20251201T202040Z
LAST-MODIFIED:20260129T014512Z
UID:10032226-1774771200-1774774800@visitdelco.com
SUMMARY:Newlin Grist Mill:  Guided Mill Tours
DESCRIPTION:Guided tours of the 1704 Grist Mill:\n\nWednesday-Friday at2pm; Sat. & Sun. 1pm\nWhile the Mill is not currently operational\, visitors on guided tours will get a rare opportunity to see the process of building a new waterwheel and waterbox.\nVisitors must be on a guided tour to go inside the Grist Mill.\nGuided tours are $6 per person (children under 3 years of ages admitted free).
URL:https://visitdelco.com/event/newlin-grist-mill-guided-mill-tours-2/2026-03-29/
LOCATION:Newlin Grist Mill\, 219 Cheyney Road\, Glen Mills\, PA\, 19342\, United States
CATEGORIES:History & Heritage,Gardens/ Nature/ Outdoors,Educational
ATTACH;FMTTYPE=image/jpeg:https://visitdelco.com/wp-content/uploads/2025/12/Screenshot_1-12-2025_101642_newlingristmill.org_.jpeg
END:VEVENT
BEGIN:VEVENT
DTSTART;TZID=America/New_York:20260328T080000
DTEND;TZID=America/New_York:20260328T090000
DTSTAMP:20260421T091044
CREATED:20251201T202040Z
LAST-MODIFIED:20260129T014512Z
UID:10032225-1774684800-1774688400@visitdelco.com
SUMMARY:Newlin Grist Mill:  Guided Mill Tours
DESCRIPTION:Guided tours of the 1704 Grist Mill:\n\nWednesday-Friday at2pm; Sat. & Sun. 1pm\nWhile the Mill is not currently operational\, visitors on guided tours will get a rare opportunity to see the process of building a new waterwheel and waterbox.\nVisitors must be on a guided tour to go inside the Grist Mill.\nGuided tours are $6 per person (children under 3 years of ages admitted free).
URL:https://visitdelco.com/event/newlin-grist-mill-guided-mill-tours-2/2026-03-28/
LOCATION:Newlin Grist Mill\, 219 Cheyney Road\, Glen Mills\, PA\, 19342\, United States
CATEGORIES:History & Heritage,Gardens/ Nature/ Outdoors,Educational
ATTACH;FMTTYPE=image/jpeg:https://visitdelco.com/wp-content/uploads/2025/12/Screenshot_1-12-2025_101642_newlingristmill.org_.jpeg
END:VEVENT
BEGIN:VEVENT
DTSTART;TZID=America/New_York:20260328T040000
DTEND;TZID=America/New_York:20260328T060000
DTSTAMP:20260421T091044
CREATED:20260128T234240Z
LAST-MODIFIED:20260128T234240Z
UID:10032197-1774670400-1774677600@visitdelco.com
SUMMARY:Newlin Grist Mill:  Bird Walk
DESCRIPTION:
URL:https://visitdelco.com/event/newlin-grist-mill-bird-walk/2026-03-28/
LOCATION:Newlin Grist Mill\, 219 Cheyney Road\, Glen Mills\, PA\, 19342\, United States
CATEGORIES:History & Heritage,Gardens/ Nature/ Outdoors,Seasonal,Educational
ATTACH;FMTTYPE=image/jpeg:https://visitdelco.com/wp-content/uploads/2026/01/Birds-at-Newlin-300x175-1.jpg
END:VEVENT
BEGIN:VEVENT
DTSTART;TZID=America/New_York:20260327T090000
DTEND;TZID=America/New_York:20260327T100000
DTSTAMP:20260421T091044
CREATED:20251201T201904Z
LAST-MODIFIED:20260128T233839Z
UID:10031438-1774602000-1774605600@visitdelco.com
SUMMARY:Newlin Grist Mill:  Guided Mill Tours
DESCRIPTION:Guided tours of the 1704 Grist Mill:\n\nWednesday-Friday at 2pm\, Sat. & Sun. 1pm\nWhile the Mill is not currently operational\, visitors on guided tours will get a rare opportunity to see the process of building a new waterwheel and waterbox.\nVisitors must be on a guided tour to go inside the Grist Mill.\nGuided tours are $6 per person (children under 3 years of ages admitted free).
URL:https://visitdelco.com/event/newlin-grist-mill-guided-mill-tours/2026-03-27/
LOCATION:Newlin Grist Mill\, 219 Cheyney Road\, Glen Mills\, PA\, 19342\, United States
CATEGORIES:History & Heritage,Gardens/ Nature/ Outdoors,Educational
ATTACH;FMTTYPE=image/jpeg:https://visitdelco.com/wp-content/uploads/2025/12/Screenshot_1-12-2025_101642_newlingristmill.org_.jpeg
END:VEVENT
BEGIN:VEVENT
DTSTART;TZID=America/New_York:20260326T090000
DTEND;TZID=America/New_York:20260326T100000
DTSTAMP:20260421T091044
CREATED:20251201T201904Z
LAST-MODIFIED:20260128T233839Z
UID:10031437-1774515600-1774519200@visitdelco.com
SUMMARY:Newlin Grist Mill:  Guided Mill Tours
DESCRIPTION:Guided tours of the 1704 Grist Mill:\n\nWednesday-Friday at 2pm\, Sat. & Sun. 1pm\nWhile the Mill is not currently operational\, visitors on guided tours will get a rare opportunity to see the process of building a new waterwheel and waterbox.\nVisitors must be on a guided tour to go inside the Grist Mill.\nGuided tours are $6 per person (children under 3 years of ages admitted free).
URL:https://visitdelco.com/event/newlin-grist-mill-guided-mill-tours/2026-03-26/
LOCATION:Newlin Grist Mill\, 219 Cheyney Road\, Glen Mills\, PA\, 19342\, United States
CATEGORIES:History & Heritage,Gardens/ Nature/ Outdoors,Educational
ATTACH;FMTTYPE=image/jpeg:https://visitdelco.com/wp-content/uploads/2025/12/Screenshot_1-12-2025_101642_newlingristmill.org_.jpeg
END:VEVENT
BEGIN:VEVENT
DTSTART;TZID=America/New_York:20260325T090000
DTEND;TZID=America/New_York:20260325T100000
DTSTAMP:20260421T091044
CREATED:20251201T201904Z
LAST-MODIFIED:20260128T233839Z
UID:10031436-1774429200-1774432800@visitdelco.com
SUMMARY:Newlin Grist Mill:  Guided Mill Tours
DESCRIPTION:Guided tours of the 1704 Grist Mill:\n\nWednesday-Friday at 2pm\, Sat. & Sun. 1pm\nWhile the Mill is not currently operational\, visitors on guided tours will get a rare opportunity to see the process of building a new waterwheel and waterbox.\nVisitors must be on a guided tour to go inside the Grist Mill.\nGuided tours are $6 per person (children under 3 years of ages admitted free).
URL:https://visitdelco.com/event/newlin-grist-mill-guided-mill-tours/2026-03-25/
LOCATION:Newlin Grist Mill\, 219 Cheyney Road\, Glen Mills\, PA\, 19342\, United States
CATEGORIES:History & Heritage,Gardens/ Nature/ Outdoors,Educational
ATTACH;FMTTYPE=image/jpeg:https://visitdelco.com/wp-content/uploads/2025/12/Screenshot_1-12-2025_101642_newlingristmill.org_.jpeg
END:VEVENT
BEGIN:VEVENT
DTSTART;TZID=America/New_York:20260322T080000
DTEND;TZID=America/New_York:20260322T090000
DTSTAMP:20260421T091044
CREATED:20251201T202040Z
LAST-MODIFIED:20260129T014512Z
UID:10032224-1774166400-1774170000@visitdelco.com
SUMMARY:Newlin Grist Mill:  Guided Mill Tours
DESCRIPTION:Guided tours of the 1704 Grist Mill:\n\nWednesday-Friday at2pm; Sat. & Sun. 1pm\nWhile the Mill is not currently operational\, visitors on guided tours will get a rare opportunity to see the process of building a new waterwheel and waterbox.\nVisitors must be on a guided tour to go inside the Grist Mill.\nGuided tours are $6 per person (children under 3 years of ages admitted free).
URL:https://visitdelco.com/event/newlin-grist-mill-guided-mill-tours-2/2026-03-22/
LOCATION:Newlin Grist Mill\, 219 Cheyney Road\, Glen Mills\, PA\, 19342\, United States
CATEGORIES:History & Heritage,Gardens/ Nature/ Outdoors,Educational
ATTACH;FMTTYPE=image/jpeg:https://visitdelco.com/wp-content/uploads/2025/12/Screenshot_1-12-2025_101642_newlingristmill.org_.jpeg
END:VEVENT
BEGIN:VEVENT
DTSTART;TZID=America/New_York:20260321T080000
DTEND;TZID=America/New_York:20260321T090000
DTSTAMP:20260421T091044
CREATED:20251201T202040Z
LAST-MODIFIED:20260129T014512Z
UID:10032223-1774080000-1774083600@visitdelco.com
SUMMARY:Newlin Grist Mill:  Guided Mill Tours
DESCRIPTION:Guided tours of the 1704 Grist Mill:\n\nWednesday-Friday at2pm; Sat. & Sun. 1pm\nWhile the Mill is not currently operational\, visitors on guided tours will get a rare opportunity to see the process of building a new waterwheel and waterbox.\nVisitors must be on a guided tour to go inside the Grist Mill.\nGuided tours are $6 per person (children under 3 years of ages admitted free).
URL:https://visitdelco.com/event/newlin-grist-mill-guided-mill-tours-2/2026-03-21/
LOCATION:Newlin Grist Mill\, 219 Cheyney Road\, Glen Mills\, PA\, 19342\, United States
CATEGORIES:History & Heritage,Gardens/ Nature/ Outdoors,Educational
ATTACH;FMTTYPE=image/jpeg:https://visitdelco.com/wp-content/uploads/2025/12/Screenshot_1-12-2025_101642_newlingristmill.org_.jpeg
END:VEVENT
BEGIN:VEVENT
DTSTART;TZID=America/New_York:20260321T050000
DTEND;TZID=America/New_York:20260321T100000
DTSTAMP:20260421T091044
CREATED:20260128T234355Z
LAST-MODIFIED:20260128T234420Z
UID:10032199-1774069200-1774087200@visitdelco.com
SUMMARY:Newlin Grist Mill:  Public Archaeology
DESCRIPTION:
URL:https://visitdelco.com/event/newlin-grist-mill-public-archaeology/2026-03-21/
LOCATION:Newlin Grist Mill\, 219 Cheyney Road\, Glen Mills\, PA\, 19342\, United States
CATEGORIES:History & Heritage,Family Fun,Gardens/ Nature/ Outdoors,Educational
ATTACH;FMTTYPE=image/jpeg:https://visitdelco.com/wp-content/uploads/2026/01/Chester-Soccer-D-300x225-1.jpg
END:VEVENT
END:VCALENDAR