BEGIN:VCALENDAR
VERSION:2.0
PRODID:-//Visit Delco, PA - ECPv6.15.17.1//NONSGML v1.0//EN
CALSCALE:GREGORIAN
METHOD:PUBLISH
X-ORIGINAL-URL:https://visitdelco.com
X-WR-CALDESC:Events for Visit Delco, PA
REFRESH-INTERVAL;VALUE=DURATION:PT1H
X-Robots-Tag:noindex
X-PUBLISHED-TTL:PT1H
BEGIN:VTIMEZONE
TZID:America/New_York
BEGIN:DAYLIGHT
TZOFFSETFROM:-0500
TZOFFSETTO:-0400
TZNAME:EDT
DTSTART:20250309T070000
END:DAYLIGHT
BEGIN:STANDARD
TZOFFSETFROM:-0400
TZOFFSETTO:-0500
TZNAME:EST
DTSTART:20251102T060000
END:STANDARD
BEGIN:DAYLIGHT
TZOFFSETFROM:-0500
TZOFFSETTO:-0400
TZNAME:EDT
DTSTART:20260308T070000
END:DAYLIGHT
BEGIN:STANDARD
TZOFFSETFROM:-0400
TZOFFSETTO:-0500
TZNAME:EST
DTSTART:20261101T060000
END:STANDARD
BEGIN:DAYLIGHT
TZOFFSETFROM:-0500
TZOFFSETTO:-0400
TZNAME:EDT
DTSTART:20270314T070000
END:DAYLIGHT
BEGIN:STANDARD
TZOFFSETFROM:-0400
TZOFFSETTO:-0500
TZNAME:EST
DTSTART:20271107T060000
END:STANDARD
END:VTIMEZONE
BEGIN:VEVENT
DTSTART;VALUE=DATE:20260313
DTEND;VALUE=DATE:20260427
DTSTAMP:20260421T083051
CREATED:20260311T184014Z
LAST-MODIFIED:20260311T184014Z
UID:10033418-1773428400-1777229999@visitdelco.com
SUMMARY:20*20 House Gallery: Here and Gone Exhibition
DESCRIPTION:
URL:https://visitdelco.com/event/2020-house-gallery-here-and-gone-exhibition/
LOCATION:Lansdowne\, PA\, Lansdowne\, PA\, 19050\, United States
CATEGORIES:Arts & Culture,Exhibits & Galleries
ATTACH;FMTTYPE=image/png:https://visitdelco.com/wp-content/uploads/2026/03/Here-and-Gone-SM-Square-1.png
END:VEVENT
BEGIN:VEVENT
DTSTART;TZID=America/New_York:20260421T130000
DTEND;TZID=America/New_York:20260421T160000
DTSTAMP:20260421T083051
CREATED:20260210T011048Z
LAST-MODIFIED:20260210T011048Z
UID:10033177-1776776400-1776787200@visitdelco.com
SUMMARY:Intro to Wheel Throwing by LEDC/ Utility Works
DESCRIPTION:Come and learn the joys of making art you can use! \n\n\n\n\nThis class is perfect for beginner to intermediate wheel throwing students. Whether you’ve taken a pottery class before or this is your first time using the wheel\, you will be able to develop your ceramic skills to create beautiful functional pieces. We will cover foundational topics including centering\, handle making\, throwing functional forms (cups\, bowls\, plates\, etc.)\, trimming\, and surface decorations. Come and learn the joys of making art you can use!
URL:https://visitdelco.com/event/intro-to-wheel-throwing-by-ledc-utility-works/2026-04-21/
LOCATION:Lansdowne\, PA\, Lansdowne\, PA\, 19050\, United States
CATEGORIES:Arts & Culture,Workshops/Classes
ATTACH;FMTTYPE=image/jpeg:https://visitdelco.com/wp-content/uploads/2026/02/Screenshot_9-2-2026_151023_www.eventbrite.com_.jpeg
END:VEVENT
BEGIN:VEVENT
DTSTART;TZID=America/New_York:20260428T130000
DTEND;TZID=America/New_York:20260428T160000
DTSTAMP:20260421T083051
CREATED:20260210T011048Z
LAST-MODIFIED:20260210T011048Z
UID:10033178-1777381200-1777392000@visitdelco.com
SUMMARY:Intro to Wheel Throwing by LEDC/ Utility Works
DESCRIPTION:Come and learn the joys of making art you can use! \n\n\n\n\nThis class is perfect for beginner to intermediate wheel throwing students. Whether you’ve taken a pottery class before or this is your first time using the wheel\, you will be able to develop your ceramic skills to create beautiful functional pieces. We will cover foundational topics including centering\, handle making\, throwing functional forms (cups\, bowls\, plates\, etc.)\, trimming\, and surface decorations. Come and learn the joys of making art you can use!
URL:https://visitdelco.com/event/intro-to-wheel-throwing-by-ledc-utility-works/2026-04-28/
LOCATION:Lansdowne\, PA\, Lansdowne\, PA\, 19050\, United States
CATEGORIES:Arts & Culture,Workshops/Classes
ATTACH;FMTTYPE=image/jpeg:https://visitdelco.com/wp-content/uploads/2026/02/Screenshot_9-2-2026_151023_www.eventbrite.com_.jpeg
END:VEVENT
BEGIN:VEVENT
DTSTART;TZID=America/New_York:20260502T040000
DTEND;TZID=America/New_York:20260502T080000
DTSTAMP:20260421T083051
CREATED:20260312T231621Z
LAST-MODIFIED:20260312T231634Z
UID:10033815-1777694400-1777708800@visitdelco.com
SUMMARY:Lansdowne Farmers Market
DESCRIPTION:
URL:https://visitdelco.com/event/lansdowne-farmers-market-3/2026-05-02/
LOCATION:Lansdowne\, PA\, Lansdowne\, PA\, 19050\, United States
CATEGORIES:Family Fun,Market,Seasonal
ATTACH;FMTTYPE=image/jpeg:https://visitdelco.com/wp-content/uploads/2026/03/Screenshot_12-3-2026_141435_www.lansdownefarmersmarket.com_.jpeg
END:VEVENT
BEGIN:VEVENT
DTSTART;TZID=America/New_York:20260505T130000
DTEND;TZID=America/New_York:20260505T160000
DTSTAMP:20260421T083051
CREATED:20260210T011048Z
LAST-MODIFIED:20260210T011048Z
UID:10033179-1777986000-1777996800@visitdelco.com
SUMMARY:Intro to Wheel Throwing by LEDC/ Utility Works
DESCRIPTION:Come and learn the joys of making art you can use! \n\n\n\n\nThis class is perfect for beginner to intermediate wheel throwing students. Whether you’ve taken a pottery class before or this is your first time using the wheel\, you will be able to develop your ceramic skills to create beautiful functional pieces. We will cover foundational topics including centering\, handle making\, throwing functional forms (cups\, bowls\, plates\, etc.)\, trimming\, and surface decorations. Come and learn the joys of making art you can use!
URL:https://visitdelco.com/event/intro-to-wheel-throwing-by-ledc-utility-works/2026-05-05/
LOCATION:Lansdowne\, PA\, Lansdowne\, PA\, 19050\, United States
CATEGORIES:Arts & Culture,Workshops/Classes
ATTACH;FMTTYPE=image/jpeg:https://visitdelco.com/wp-content/uploads/2026/02/Screenshot_9-2-2026_151023_www.eventbrite.com_.jpeg
END:VEVENT
BEGIN:VEVENT
DTSTART;TZID=America/New_York:20260509T040000
DTEND;TZID=America/New_York:20260509T080000
DTSTAMP:20260421T083051
CREATED:20260312T231621Z
LAST-MODIFIED:20260312T231634Z
UID:10033816-1778299200-1778313600@visitdelco.com
SUMMARY:Lansdowne Farmers Market
DESCRIPTION:
URL:https://visitdelco.com/event/lansdowne-farmers-market-3/2026-05-09/
LOCATION:Lansdowne\, PA\, Lansdowne\, PA\, 19050\, United States
CATEGORIES:Family Fun,Market,Seasonal
ATTACH;FMTTYPE=image/jpeg:https://visitdelco.com/wp-content/uploads/2026/03/Screenshot_12-3-2026_141435_www.lansdownefarmersmarket.com_.jpeg
END:VEVENT
BEGIN:VEVENT
DTSTART;TZID=America/New_York:20260512T130000
DTEND;TZID=America/New_York:20260512T160000
DTSTAMP:20260421T083051
CREATED:20260210T011048Z
LAST-MODIFIED:20260210T011048Z
UID:10033180-1778590800-1778601600@visitdelco.com
SUMMARY:Intro to Wheel Throwing by LEDC/ Utility Works
DESCRIPTION:Come and learn the joys of making art you can use! \n\n\n\n\nThis class is perfect for beginner to intermediate wheel throwing students. Whether you’ve taken a pottery class before or this is your first time using the wheel\, you will be able to develop your ceramic skills to create beautiful functional pieces. We will cover foundational topics including centering\, handle making\, throwing functional forms (cups\, bowls\, plates\, etc.)\, trimming\, and surface decorations. Come and learn the joys of making art you can use!
URL:https://visitdelco.com/event/intro-to-wheel-throwing-by-ledc-utility-works/2026-05-12/
LOCATION:Lansdowne\, PA\, Lansdowne\, PA\, 19050\, United States
CATEGORIES:Arts & Culture,Workshops/Classes
ATTACH;FMTTYPE=image/jpeg:https://visitdelco.com/wp-content/uploads/2026/02/Screenshot_9-2-2026_151023_www.eventbrite.com_.jpeg
END:VEVENT
BEGIN:VEVENT
DTSTART;TZID=America/New_York:20260516T040000
DTEND;TZID=America/New_York:20260516T080000
DTSTAMP:20260421T083051
CREATED:20260312T231621Z
LAST-MODIFIED:20260312T231634Z
UID:10033817-1778904000-1778918400@visitdelco.com
SUMMARY:Lansdowne Farmers Market
DESCRIPTION:
URL:https://visitdelco.com/event/lansdowne-farmers-market-3/2026-05-16/
LOCATION:Lansdowne\, PA\, Lansdowne\, PA\, 19050\, United States
CATEGORIES:Family Fun,Market,Seasonal
ATTACH;FMTTYPE=image/jpeg:https://visitdelco.com/wp-content/uploads/2026/03/Screenshot_12-3-2026_141435_www.lansdownefarmersmarket.com_.jpeg
END:VEVENT
BEGIN:VEVENT
DTSTART;TZID=America/New_York:20260517T070000
DTEND;TZID=America/New_York:20260517T130000
DTSTAMP:20260421T083051
CREATED:20260303T010019Z
LAST-MODIFIED:20260303T012114Z
UID:10033374-1779001200-1779022800@visitdelco.com
SUMMARY:Lansdowne Arts on the Avenue
DESCRIPTION:
URL:https://visitdelco.com/event/lansdowne-arts-on-the-avenue/
LOCATION:Lansdowne\, PA\, Lansdowne\, PA\, 19050\, United States
CATEGORIES:Family Fun,Arts & Culture,Festivals/ Fairs Parades
ATTACH;FMTTYPE=image/webp:https://visitdelco.com/wp-content/uploads/2026/03/image.webp
END:VEVENT
BEGIN:VEVENT
DTSTART;TZID=America/New_York:20260523T040000
DTEND;TZID=America/New_York:20260523T080000
DTSTAMP:20260421T083051
CREATED:20260312T231621Z
LAST-MODIFIED:20260312T231634Z
UID:10033818-1779508800-1779523200@visitdelco.com
SUMMARY:Lansdowne Farmers Market
DESCRIPTION:
URL:https://visitdelco.com/event/lansdowne-farmers-market-3/2026-05-23/
LOCATION:Lansdowne\, PA\, Lansdowne\, PA\, 19050\, United States
CATEGORIES:Family Fun,Market,Seasonal
ATTACH;FMTTYPE=image/jpeg:https://visitdelco.com/wp-content/uploads/2026/03/Screenshot_12-3-2026_141435_www.lansdownefarmersmarket.com_.jpeg
END:VEVENT
BEGIN:VEVENT
DTSTART;TZID=America/New_York:20260530T040000
DTEND;TZID=America/New_York:20260530T080000
DTSTAMP:20260421T083051
CREATED:20260312T231621Z
LAST-MODIFIED:20260312T231634Z
UID:10033819-1780113600-1780128000@visitdelco.com
SUMMARY:Lansdowne Farmers Market
DESCRIPTION:
URL:https://visitdelco.com/event/lansdowne-farmers-market-3/2026-05-30/
LOCATION:Lansdowne\, PA\, Lansdowne\, PA\, 19050\, United States
CATEGORIES:Family Fun,Market,Seasonal
ATTACH;FMTTYPE=image/jpeg:https://visitdelco.com/wp-content/uploads/2026/03/Screenshot_12-3-2026_141435_www.lansdownefarmersmarket.com_.jpeg
END:VEVENT
BEGIN:VEVENT
DTSTART;TZID=America/New_York:20260613T180000
DTEND;TZID=America/New_York:20260613T220000
DTSTAMP:20260421T083051
CREATED:20260420T154716Z
LAST-MODIFIED:20260420T154716Z
UID:10035120-1781373600-1781388000@visitdelco.com
SUMMARY:Lansdowne Spring Night Markaet
DESCRIPTION:Lansdowne is celebrating 5 years of community\, culture\, and thriving businesses—and you already know Sip Sisters is bringing the VIBES. \nCatch us serving up refreshing cocktails\, good energy\, games\, and all the vibes you’ve been missing. Been wanting to try our drinks? This is your sign. \nWe’ll also be taking in-person inquiries\, so come chat with us about your next event! \nDon’t meet us there… beat us there!
URL:https://visitdelco.com/event/lansdowne-spring-night-markaet/
LOCATION:Lansdowne\, PA\, Lansdowne\, PA\, 19050\, United States
CATEGORIES:Family Fun,Market,Food & Drink
ATTACH;FMTTYPE=image/jpeg:https://visitdelco.com/wp-content/uploads/2026/04/unnamed.jpg
END:VEVENT
END:VCALENDAR