BEGIN:VCALENDAR
VERSION:2.0
PRODID:-//Visit Delco, PA - ECPv6.15.17.1//NONSGML v1.0//EN
CALSCALE:GREGORIAN
METHOD:PUBLISH
X-WR-CALNAME:Visit Delco, PA
X-ORIGINAL-URL:https://visitdelco.com
X-WR-CALDESC:Events for Visit Delco, PA
REFRESH-INTERVAL;VALUE=DURATION:PT1H
X-Robots-Tag:noindex
X-PUBLISHED-TTL:PT1H
BEGIN:VTIMEZONE
TZID:America/New_York
BEGIN:DAYLIGHT
TZOFFSETFROM:-0500
TZOFFSETTO:-0400
TZNAME:EDT
DTSTART:20250309T070000
END:DAYLIGHT
BEGIN:STANDARD
TZOFFSETFROM:-0400
TZOFFSETTO:-0500
TZNAME:EST
DTSTART:20251102T060000
END:STANDARD
BEGIN:DAYLIGHT
TZOFFSETFROM:-0500
TZOFFSETTO:-0400
TZNAME:EDT
DTSTART:20260308T070000
END:DAYLIGHT
BEGIN:STANDARD
TZOFFSETFROM:-0400
TZOFFSETTO:-0500
TZNAME:EST
DTSTART:20261101T060000
END:STANDARD
BEGIN:DAYLIGHT
TZOFFSETFROM:-0500
TZOFFSETTO:-0400
TZNAME:EDT
DTSTART:20270314T070000
END:DAYLIGHT
BEGIN:STANDARD
TZOFFSETFROM:-0400
TZOFFSETTO:-0500
TZNAME:EST
DTSTART:20271107T060000
END:STANDARD
END:VTIMEZONE
BEGIN:VEVENT
DTSTART;TZID=America/New_York:20260418T050000
DTEND;TZID=America/New_York:20260418T070000
DTSTAMP:20260421T070242
CREATED:20260312T231621Z
LAST-MODIFIED:20260312T231634Z
UID:10033814-1776488400-1776495600@visitdelco.com
SUMMARY:Lansdowne Farmers Market
DESCRIPTION:
URL:https://visitdelco.com/event/lansdowne-farmers-market-3/2026-04-18/
LOCATION:Lansdowne\, PA\, Lansdowne\, PA\, 19050\, United States
CATEGORIES:Family Fun,Market,Seasonal
ATTACH;FMTTYPE=image/jpeg:https://visitdelco.com/wp-content/uploads/2026/03/Screenshot_12-3-2026_141435_www.lansdownefarmersmarket.com_.jpeg
END:VEVENT
BEGIN:VEVENT
DTSTART;TZID=America/New_York:20260415T130000
DTEND;TZID=America/New_York:20260415T150000
DTSTAMP:20260421T070242
CREATED:20260302T192501Z
LAST-MODIFIED:20260302T192501Z
UID:10033335-1776258000-1776265200@visitdelco.com
SUMMARY:Texture Rollers and Plant Pots Workshop by LEDC and Utility Works
DESCRIPTION:Develop your own texture roller and use a library of provided texture rollers to hand build a plant pot. \n\n\n\n\n🌸 Texture Rollers + Plant Pots 🌿 \nCelebrate the season in the Ceramic Studio with a hands-on handbuilding workshop inspired by spring growth and fresh starts! \nIn this class\, you will learn how to create ceramic tiles using slab-building techniques and then transform them with decorative surface methods. Create your own texture rollers\, try your hand at sgraffito carving\, and experiment with underglaze painting to add color and personality to your work. \nOnce you’ve practiced these techniques\, you’ll use your decorated slabs to construct a beautiful\, functional flower pot—perfect for welcoming spring into your home.
URL:https://visitdelco.com/event/texture-rollers-and-plant-pots-workshop-by-ledc-and-utility-works/
LOCATION:Lansdowne\, PA\, Lansdowne\, PA\, 19050\, United States
CATEGORIES:Arts & Culture,Workshops/Classes
ATTACH;FMTTYPE=image/jpeg:https://visitdelco.com/wp-content/uploads/2026/03/a3b26ef0-d512-43de-a51d-f5e7fcfd7c76-scaled.jpg
END:VEVENT
BEGIN:VEVENT
DTSTART;TZID=America/New_York:20260414T130000
DTEND;TZID=America/New_York:20260414T160000
DTSTAMP:20260421T070242
CREATED:20260210T011048Z
LAST-MODIFIED:20260210T011048Z
UID:10033176-1776171600-1776182400@visitdelco.com
SUMMARY:Intro to Wheel Throwing by LEDC/ Utility Works
DESCRIPTION:Come and learn the joys of making art you can use! \n\n\n\n\nThis class is perfect for beginner to intermediate wheel throwing students. Whether you’ve taken a pottery class before or this is your first time using the wheel\, you will be able to develop your ceramic skills to create beautiful functional pieces. We will cover foundational topics including centering\, handle making\, throwing functional forms (cups\, bowls\, plates\, etc.)\, trimming\, and surface decorations. Come and learn the joys of making art you can use!
URL:https://visitdelco.com/event/intro-to-wheel-throwing-by-ledc-utility-works/2026-04-14/
LOCATION:Lansdowne\, PA\, Lansdowne\, PA\, 19050\, United States
CATEGORIES:Arts & Culture,Workshops/Classes
ATTACH;FMTTYPE=image/jpeg:https://visitdelco.com/wp-content/uploads/2026/02/Screenshot_9-2-2026_151023_www.eventbrite.com_.jpeg
END:VEVENT
BEGIN:VEVENT
DTSTART;TZID=America/New_York:20260407T130000
DTEND;TZID=America/New_York:20260407T160000
DTSTAMP:20260421T070242
CREATED:20260210T011048Z
LAST-MODIFIED:20260210T011048Z
UID:10033175-1775566800-1775577600@visitdelco.com
SUMMARY:Intro to Wheel Throwing by LEDC/ Utility Works
DESCRIPTION:Come and learn the joys of making art you can use! \n\n\n\n\nThis class is perfect for beginner to intermediate wheel throwing students. Whether you’ve taken a pottery class before or this is your first time using the wheel\, you will be able to develop your ceramic skills to create beautiful functional pieces. We will cover foundational topics including centering\, handle making\, throwing functional forms (cups\, bowls\, plates\, etc.)\, trimming\, and surface decorations. Come and learn the joys of making art you can use!
URL:https://visitdelco.com/event/intro-to-wheel-throwing-by-ledc-utility-works/2026-04-07/
LOCATION:Lansdowne\, PA\, Lansdowne\, PA\, 19050\, United States
CATEGORIES:Arts & Culture,Workshops/Classes
ATTACH;FMTTYPE=image/jpeg:https://visitdelco.com/wp-content/uploads/2026/02/Screenshot_9-2-2026_151023_www.eventbrite.com_.jpeg
END:VEVENT
BEGIN:VEVENT
DTSTART;TZID=America/New_York:20260404T090000
DTEND;TZID=America/New_York:20260404T110000
DTSTAMP:20260421T070242
CREATED:20260224T205519Z
LAST-MODIFIED:20260224T205519Z
UID:10033318-1775293200-1775300400@visitdelco.com
SUMMARY:Professional Identity for Working Artists: Portfolios\, Audience\, and Presentation by LEDC & Utility Works
DESCRIPTION:An interactive workshop where artists learnto identify their audience\, and present their work professionally online and in applications \n\n\n\n\nThis workshop focuses on how artists present themselves visually and strategically to galleries\, clients\, commissioners\, and opportunities. Participants will explore how to choose portfolio pieces\, identify their audience\, and present their work digitally in ways that feel professional and aligned with their goals.
URL:https://visitdelco.com/event/professional-identity-for-working-artists-portfolios-audience-and-presentation-by-ledc-utility-works/
LOCATION:Lansdowne\, PA\, Lansdowne\, PA\, 19050\, United States
CATEGORIES:Arts & Culture,Workshops/Classes
ATTACH;FMTTYPE=image/jpeg:https://visitdelco.com/wp-content/uploads/2026/02/https___cdn.evbuc_.com_images_1177978476_2362219461083_1_original-1.jpeg
END:VEVENT
BEGIN:VEVENT
DTSTART;TZID=America/New_York:20260402T130000
DTEND;TZID=America/New_York:20260402T160000
DTSTAMP:20260421T070242
CREATED:20260217T191521Z
LAST-MODIFIED:20260217T191521Z
UID:10033236-1775134800-1775145600@visitdelco.com
SUMMARY:Pages of Pride: Junk Journal Workshop with Kyra Pope by LEDC/ Utility Works
DESCRIPTION:
URL:https://visitdelco.com/event/pages-of-pride-junk-journal-workshop-with-kyra-pope-by-ledc-utility-works/
LOCATION:Lansdowne\, PA\, Lansdowne\, PA\, 19050\, United States
CATEGORIES:Arts & Culture,Workshops/Classes
ATTACH;FMTTYPE=image/webp:https://visitdelco.com/wp-content/uploads/2026/02/image-1.webp
END:VEVENT
BEGIN:VEVENT
DTSTART;TZID=America/New_York:20260321T050000
DTEND;TZID=America/New_York:20260321T070000
DTSTAMP:20260421T070242
CREATED:20260312T231621Z
LAST-MODIFIED:20260312T231634Z
UID:10033813-1774069200-1774076400@visitdelco.com
SUMMARY:Lansdowne Farmers Market
DESCRIPTION:
URL:https://visitdelco.com/event/lansdowne-farmers-market-3/2026-03-21/
LOCATION:Lansdowne\, PA\, Lansdowne\, PA\, 19050\, United States
CATEGORIES:Family Fun,Market,Seasonal
ATTACH;FMTTYPE=image/jpeg:https://visitdelco.com/wp-content/uploads/2026/03/Screenshot_12-3-2026_141435_www.lansdownefarmersmarket.com_.jpeg
END:VEVENT
END:VCALENDAR