BEGIN:VCALENDAR
VERSION:2.0
PRODID:-//Visit Delco, PA - ECPv6.15.17.1//NONSGML v1.0//EN
CALSCALE:GREGORIAN
METHOD:PUBLISH
X-WR-CALNAME:Visit Delco, PA
X-ORIGINAL-URL:https://visitdelco.com
X-WR-CALDESC:Events for Visit Delco, PA
REFRESH-INTERVAL;VALUE=DURATION:PT1H
X-Robots-Tag:noindex
X-PUBLISHED-TTL:PT1H
BEGIN:VTIMEZONE
TZID:America/New_York
BEGIN:DAYLIGHT
TZOFFSETFROM:-0500
TZOFFSETTO:-0400
TZNAME:EDT
DTSTART:20250309T070000
END:DAYLIGHT
BEGIN:STANDARD
TZOFFSETFROM:-0400
TZOFFSETTO:-0500
TZNAME:EST
DTSTART:20251102T060000
END:STANDARD
BEGIN:DAYLIGHT
TZOFFSETFROM:-0500
TZOFFSETTO:-0400
TZNAME:EDT
DTSTART:20260308T070000
END:DAYLIGHT
BEGIN:STANDARD
TZOFFSETFROM:-0400
TZOFFSETTO:-0500
TZNAME:EST
DTSTART:20261101T060000
END:STANDARD
BEGIN:DAYLIGHT
TZOFFSETFROM:-0500
TZOFFSETTO:-0400
TZNAME:EDT
DTSTART:20270314T070000
END:DAYLIGHT
BEGIN:STANDARD
TZOFFSETFROM:-0400
TZOFFSETTO:-0500
TZNAME:EST
DTSTART:20271107T060000
END:STANDARD
END:VTIMEZONE
BEGIN:VEVENT
DTSTART;TZID=America/New_York:20260423T140000
DTEND;TZID=America/New_York:20260423T170000
DTSTAMP:20260421T083758
CREATED:20251118T185901Z
LAST-MODIFIED:20251118T185901Z
UID:10024371-1776952800-1776963600@visitdelco.com
SUMMARY:Lansdowne Folk Club Presents:  Gráinne Hunt with Jules Stewart
DESCRIPTION:A queer\, nu-folk singer-songwriter with a voice like complex coffee\, Gráinne Hunt is one of Ireland’s most compelling vocalists and songwriters – blending raw emotion\, commanding power\, and a voice that stops audiences in their tracks. Gráinne’s original work – two solo albums and a new live EP -draws from deeply personal experiences\, weaving stories of pain\, longing\, and joy that have earned her comparisons to Tracy Chapman and Natalie Merchant. Her powerhouse performances have taken her from stages with Glen Hansard and U2\, to opening for Gladys Knight and Mary Black.\nJules Stewart\, based in San Diego\, CA\, is an accomplished drummer and vocalist with over 25 years of experience performing with artists including Gráinne Hunt\, Lindsay White\, and Please Ask for Paul. Known for her dynamic precision and deep musical sensitivity\, Jules brings both groove and grace to every collaboration. She’s been featured in DRUM! magazine’s New Blood column\, the San Diego Troubadour\, and on The Up and Coming Drummer Podcast.\nPerforming as a duo\, the pair create a sound that’s been compared to The Indigo Girls and Brandi Carlile – rich harmonies\, heartfelt stories\, and magnetic onstage chemistry. Together\, Gráinne and Jules deliver an intimate yet powerful live experience – soaring harmonies\, emotional storytelling\, and connection that transcends borders.  Learn more about them at https://grainnehunt.com and https://julesstewartdrums.com.
URL:https://visitdelco.com/event/lansdowne-folk-club-presents-grainne-hunt-with-jules-stewart/
LOCATION:Lansdowne Folk Club\, 84 S Lansdowne Avenue\, Lansdowne\, PA\, 19050\, United States
CATEGORIES:Concerts & Live Music,Arts & Culture
ATTACH;FMTTYPE=image/jpeg:https://visitdelco.com/wp-content/uploads/2025/11/thumbnail_Grainee-Hunt-and-Jules-Stewart-Photo-Credit-to-Paddy-Glennon.jpg
END:VEVENT
BEGIN:VEVENT
DTSTART;TZID=America/New_York:20260514T030000
DTEND;TZID=America/New_York:20260514T120000
DTSTAMP:20260421T083758
CREATED:20251118T190047Z
LAST-MODIFIED:20251118T190047Z
UID:10024372-1778727600-1778760000@visitdelco.com
SUMMARY:Lansdowne Folk Club:  The Close
DESCRIPTION:The Close is a Nashville-based band known for their distinctive blend of alt-Country\, Folk\, and Americana. Formed by Lori J Rowton\, Shannon Walker and James McKinney\, The Close quickly gained a reputation for their emotionally resonant lyrics\, rich harmonies\, and dynamic arrangements. Their sound is characterized by a seamless fusion of genres\, creating a unique blend that is brought to life through the band’s intricate vocal arrangements and soulful performances\, creating a sound that is both familiar and refreshingly original.\n\nIn a city renowned for its musical talent\, The Close has carved out its own niche\, earning praise from critics and fans alike. Their music is both beautiful and engaging\, sophisticated and accessible\, and delivers a captivating performance every time. Their live performances are always a joy to experience\, while their commitment to crafting authentic\, emotionally driven music sets them apart as one of Nashville’s most promising acts.\n\nThe Close can be heard everywhere music is available. The Close tours the US playing listening rooms\, concerts\, house concerts and festivals and all sizes of venues\, both big and small. Their live shows have become known must-see events.    Check them out at https://www.theclosemusic.com.
URL:https://visitdelco.com/event/lansdowne-folk-club-the-close/
LOCATION:Lansdowne Folk Club\, 84 S Lansdowne Avenue\, Lansdowne\, PA\, 19050\, United States
CATEGORIES:Concerts & Live Music,Arts & Culture
ATTACH;FMTTYPE=image/png:https://visitdelco.com/wp-content/uploads/2025/11/thumbnail_The-Close-_-Photo-Credit-to-Paul-M-Collins-Photography.png
END:VEVENT
BEGIN:VEVENT
DTSTART;TZID=America/New_York:20260604T140000
DTEND;TZID=America/New_York:20260604T170000
DTSTAMP:20260421T083758
CREATED:20251118T190228Z
LAST-MODIFIED:20251118T190447Z
UID:10024373-1780581600-1780592400@visitdelco.com
SUMMARY:Lansdowne Folk Club Presents:  Flagship Romance\,
DESCRIPTION:Flagship Romance is an unforgettable alternative folk duo known for their breathtaking vocal harmonies\, inspired songwriting\, dynamic live show\, and a remarkable on and off-stage chemistry that will leave you with the feeling that you made two new best friends. Married singers-songwriters Shawn Fisher and Jordyn Jackson effortlessly fuse technical precision in their impeccably tight vocal blend with an invigorating sense of emotional abandon in their energetic live persona. Performing each show as if it could be their last\, this duo will have you questioning how their larger-than-life sound can come from just two voices and an acoustic guitar.\nTraveling over 300\,000 miles since their musical inception\, the duo has amassed an engaged grassroots following. A testament to Fisher and Jackson’s close relationship with their supporters\, Flagship Romance has released four critically acclaimed full-length albums\, 100% funded by their enthusiastic fanbase. To date\, their multiple crowdfunding efforts\, including the duo’s most recent campaign for their forthcoming self-titled double album\, have raised a combined total of over $175\,000.\nCurrently based in Louisville\, KY\, Flagship Romance has begun releasing a consistent string of singles from the double album\, produced by GRAMMY award winning producer Lee Miles.  Find out more about them at https://www.flagshipromance.com.
URL:https://visitdelco.com/event/lansdowne-folk-club-presents-flagship-romance/
LOCATION:Lansdowne Folk Club\, 84 S Lansdowne Avenue\, Lansdowne\, PA\, 19050\, United States
CATEGORIES:Concerts & Live Music,Arts & Culture
ATTACH;FMTTYPE=image/jpeg:https://visitdelco.com/wp-content/uploads/2025/11/thumbnail_Flagship-Romance-Photo.jpg
END:VEVENT
END:VCALENDAR