BEGIN:VCALENDAR
VERSION:2.0
PRODID:-//Visit Delco, PA - ECPv6.15.17.1//NONSGML v1.0//EN
CALSCALE:GREGORIAN
METHOD:PUBLISH
X-ORIGINAL-URL:https://visitdelco.com
X-WR-CALDESC:Events for Visit Delco, PA
REFRESH-INTERVAL;VALUE=DURATION:PT1H
X-Robots-Tag:noindex
X-PUBLISHED-TTL:PT1H
BEGIN:VTIMEZONE
TZID:America/New_York
BEGIN:DAYLIGHT
TZOFFSETFROM:-0500
TZOFFSETTO:-0400
TZNAME:EDT
DTSTART:20250309T070000
END:DAYLIGHT
BEGIN:STANDARD
TZOFFSETFROM:-0400
TZOFFSETTO:-0500
TZNAME:EST
DTSTART:20251102T060000
END:STANDARD
BEGIN:DAYLIGHT
TZOFFSETFROM:-0500
TZOFFSETTO:-0400
TZNAME:EDT
DTSTART:20260308T070000
END:DAYLIGHT
BEGIN:STANDARD
TZOFFSETFROM:-0400
TZOFFSETTO:-0500
TZNAME:EST
DTSTART:20261101T060000
END:STANDARD
BEGIN:DAYLIGHT
TZOFFSETFROM:-0500
TZOFFSETTO:-0400
TZNAME:EDT
DTSTART:20270314T070000
END:DAYLIGHT
BEGIN:STANDARD
TZOFFSETFROM:-0400
TZOFFSETTO:-0500
TZNAME:EST
DTSTART:20271107T060000
END:STANDARD
BEGIN:DAYLIGHT
TZOFFSETFROM:-0500
TZOFFSETTO:-0400
TZNAME:EDT
DTSTART:20280312T070000
END:DAYLIGHT
BEGIN:STANDARD
TZOFFSETFROM:-0400
TZOFFSETTO:-0500
TZNAME:EST
DTSTART:20281105T060000
END:STANDARD
END:VTIMEZONE
BEGIN:VEVENT
DTSTART;TZID=America/New_York:20261127T110000
DTEND;TZID=America/New_York:20261127T160000
DTSTAMP:20260421T172542
CREATED:20260102T211330Z
LAST-MODIFIED:20260102T211330Z
UID:10026678-1795777200-1795795200@visitdelco.com
SUMMARY:Grace Winery Tasting Room Open
DESCRIPTION:
URL:https://visitdelco.com/event/grace-winery-tasting-room-open/2026-11-27/
LOCATION:Grace Winery\, 50 Sweetwater Road\, Glen Mills\, PA\, 19342\, United States
CATEGORIES:Beer & Wine
ATTACH;FMTTYPE=image/jpeg:https://visitdelco.com/wp-content/uploads/2026/01/470957191_18473535256031157_5868799862873849427_n.jpg
END:VEVENT
BEGIN:VEVENT
DTSTART;TZID=America/New_York:20261128T070000
DTEND;TZID=America/New_York:20261128T160000
DTSTAMP:20260421T172542
CREATED:20260102T205623Z
LAST-MODIFIED:20260102T205623Z
UID:10026416-1795849200-1795881600@visitdelco.com
SUMMARY:Grace Winery Tasting Room Open
DESCRIPTION:
URL:https://visitdelco.com/event/grace-winery-tasting-room-open-2/2026-11-28/
LOCATION:Grace Winery\, 50 Sweetwater Road\, Glen Mills\, PA\, 19342\, United States
CATEGORIES:Beer & Wine
ATTACH;FMTTYPE=image/jpeg:https://visitdelco.com/wp-content/uploads/2026/01/470957191_18473535256031157_5868799862873849427_n.jpg
END:VEVENT
BEGIN:VEVENT
DTSTART;TZID=America/New_York:20261204T110000
DTEND;TZID=America/New_York:20261204T160000
DTSTAMP:20260421T172542
CREATED:20260102T211330Z
LAST-MODIFIED:20260102T211330Z
UID:10026679-1796382000-1796400000@visitdelco.com
SUMMARY:Grace Winery Tasting Room Open
DESCRIPTION:
URL:https://visitdelco.com/event/grace-winery-tasting-room-open/2026-12-04/
LOCATION:Grace Winery\, 50 Sweetwater Road\, Glen Mills\, PA\, 19342\, United States
CATEGORIES:Beer & Wine
ATTACH;FMTTYPE=image/jpeg:https://visitdelco.com/wp-content/uploads/2026/01/470957191_18473535256031157_5868799862873849427_n.jpg
END:VEVENT
BEGIN:VEVENT
DTSTART;TZID=America/New_York:20261205T070000
DTEND;TZID=America/New_York:20261205T160000
DTSTAMP:20260421T172542
CREATED:20260102T205623Z
LAST-MODIFIED:20260102T205623Z
UID:10026417-1796454000-1796486400@visitdelco.com
SUMMARY:Grace Winery Tasting Room Open
DESCRIPTION:
URL:https://visitdelco.com/event/grace-winery-tasting-room-open-2/2026-12-05/
LOCATION:Grace Winery\, 50 Sweetwater Road\, Glen Mills\, PA\, 19342\, United States
CATEGORIES:Beer & Wine
ATTACH;FMTTYPE=image/jpeg:https://visitdelco.com/wp-content/uploads/2026/01/470957191_18473535256031157_5868799862873849427_n.jpg
END:VEVENT
BEGIN:VEVENT
DTSTART;TZID=America/New_York:20261211T110000
DTEND;TZID=America/New_York:20261211T160000
DTSTAMP:20260421T172542
CREATED:20260102T211330Z
LAST-MODIFIED:20260102T211330Z
UID:10026680-1796986800-1797004800@visitdelco.com
SUMMARY:Grace Winery Tasting Room Open
DESCRIPTION:
URL:https://visitdelco.com/event/grace-winery-tasting-room-open/2026-12-11/
LOCATION:Grace Winery\, 50 Sweetwater Road\, Glen Mills\, PA\, 19342\, United States
CATEGORIES:Beer & Wine
ATTACH;FMTTYPE=image/jpeg:https://visitdelco.com/wp-content/uploads/2026/01/470957191_18473535256031157_5868799862873849427_n.jpg
END:VEVENT
BEGIN:VEVENT
DTSTART;TZID=America/New_York:20261212T070000
DTEND;TZID=America/New_York:20261212T160000
DTSTAMP:20260421T172542
CREATED:20260102T205623Z
LAST-MODIFIED:20260102T205623Z
UID:10026418-1797058800-1797091200@visitdelco.com
SUMMARY:Grace Winery Tasting Room Open
DESCRIPTION:
URL:https://visitdelco.com/event/grace-winery-tasting-room-open-2/2026-12-12/
LOCATION:Grace Winery\, 50 Sweetwater Road\, Glen Mills\, PA\, 19342\, United States
CATEGORIES:Beer & Wine
ATTACH;FMTTYPE=image/jpeg:https://visitdelco.com/wp-content/uploads/2026/01/470957191_18473535256031157_5868799862873849427_n.jpg
END:VEVENT
BEGIN:VEVENT
DTSTART;TZID=America/New_York:20261218T110000
DTEND;TZID=America/New_York:20261218T160000
DTSTAMP:20260421T172542
CREATED:20260102T211330Z
LAST-MODIFIED:20260102T211330Z
UID:10026681-1797591600-1797609600@visitdelco.com
SUMMARY:Grace Winery Tasting Room Open
DESCRIPTION:
URL:https://visitdelco.com/event/grace-winery-tasting-room-open/2026-12-18/
LOCATION:Grace Winery\, 50 Sweetwater Road\, Glen Mills\, PA\, 19342\, United States
CATEGORIES:Beer & Wine
ATTACH;FMTTYPE=image/jpeg:https://visitdelco.com/wp-content/uploads/2026/01/470957191_18473535256031157_5868799862873849427_n.jpg
END:VEVENT
BEGIN:VEVENT
DTSTART;TZID=America/New_York:20261219T070000
DTEND;TZID=America/New_York:20261219T160000
DTSTAMP:20260421T172542
CREATED:20260102T205623Z
LAST-MODIFIED:20260102T205623Z
UID:10026419-1797663600-1797696000@visitdelco.com
SUMMARY:Grace Winery Tasting Room Open
DESCRIPTION:
URL:https://visitdelco.com/event/grace-winery-tasting-room-open-2/2026-12-19/
LOCATION:Grace Winery\, 50 Sweetwater Road\, Glen Mills\, PA\, 19342\, United States
CATEGORIES:Beer & Wine
ATTACH;FMTTYPE=image/jpeg:https://visitdelco.com/wp-content/uploads/2026/01/470957191_18473535256031157_5868799862873849427_n.jpg
END:VEVENT
BEGIN:VEVENT
DTSTART;TZID=America/New_York:20261225T110000
DTEND;TZID=America/New_York:20261225T160000
DTSTAMP:20260421T172542
CREATED:20260102T211330Z
LAST-MODIFIED:20260102T211330Z
UID:10026682-1798196400-1798214400@visitdelco.com
SUMMARY:Grace Winery Tasting Room Open
DESCRIPTION:
URL:https://visitdelco.com/event/grace-winery-tasting-room-open/2026-12-25/
LOCATION:Grace Winery\, 50 Sweetwater Road\, Glen Mills\, PA\, 19342\, United States
CATEGORIES:Beer & Wine
ATTACH;FMTTYPE=image/jpeg:https://visitdelco.com/wp-content/uploads/2026/01/470957191_18473535256031157_5868799862873849427_n.jpg
END:VEVENT
BEGIN:VEVENT
DTSTART;TZID=America/New_York:20261226T070000
DTEND;TZID=America/New_York:20261226T160000
DTSTAMP:20260421T172542
CREATED:20260102T205623Z
LAST-MODIFIED:20260102T205623Z
UID:10026420-1798268400-1798300800@visitdelco.com
SUMMARY:Grace Winery Tasting Room Open
DESCRIPTION:
URL:https://visitdelco.com/event/grace-winery-tasting-room-open-2/2026-12-26/
LOCATION:Grace Winery\, 50 Sweetwater Road\, Glen Mills\, PA\, 19342\, United States
CATEGORIES:Beer & Wine
ATTACH;FMTTYPE=image/jpeg:https://visitdelco.com/wp-content/uploads/2026/01/470957191_18473535256031157_5868799862873849427_n.jpg
END:VEVENT
BEGIN:VEVENT
DTSTART;TZID=America/New_York:20270101T110000
DTEND;TZID=America/New_York:20270101T160000
DTSTAMP:20260421T172542
CREATED:20260102T211330Z
LAST-MODIFIED:20260102T211330Z
UID:10026683-1798801200-1798819200@visitdelco.com
SUMMARY:Grace Winery Tasting Room Open
DESCRIPTION:
URL:https://visitdelco.com/event/grace-winery-tasting-room-open/2027-01-01/
LOCATION:Grace Winery\, 50 Sweetwater Road\, Glen Mills\, PA\, 19342\, United States
CATEGORIES:Beer & Wine
ATTACH;FMTTYPE=image/jpeg:https://visitdelco.com/wp-content/uploads/2026/01/470957191_18473535256031157_5868799862873849427_n.jpg
END:VEVENT
BEGIN:VEVENT
DTSTART;TZID=America/New_York:20270102T070000
DTEND;TZID=America/New_York:20270102T160000
DTSTAMP:20260421T172542
CREATED:20260102T205623Z
LAST-MODIFIED:20260102T205623Z
UID:10026421-1798873200-1798905600@visitdelco.com
SUMMARY:Grace Winery Tasting Room Open
DESCRIPTION:
URL:https://visitdelco.com/event/grace-winery-tasting-room-open-2/2027-01-02/
LOCATION:Grace Winery\, 50 Sweetwater Road\, Glen Mills\, PA\, 19342\, United States
CATEGORIES:Beer & Wine
ATTACH;FMTTYPE=image/jpeg:https://visitdelco.com/wp-content/uploads/2026/01/470957191_18473535256031157_5868799862873849427_n.jpg
END:VEVENT
BEGIN:VEVENT
DTSTART;TZID=America/New_York:20270108T110000
DTEND;TZID=America/New_York:20270108T160000
DTSTAMP:20260421T172542
CREATED:20260102T211330Z
LAST-MODIFIED:20260102T211330Z
UID:10026684-1799406000-1799424000@visitdelco.com
SUMMARY:Grace Winery Tasting Room Open
DESCRIPTION:
URL:https://visitdelco.com/event/grace-winery-tasting-room-open/2027-01-08/
LOCATION:Grace Winery\, 50 Sweetwater Road\, Glen Mills\, PA\, 19342\, United States
CATEGORIES:Beer & Wine
ATTACH;FMTTYPE=image/jpeg:https://visitdelco.com/wp-content/uploads/2026/01/470957191_18473535256031157_5868799862873849427_n.jpg
END:VEVENT
BEGIN:VEVENT
DTSTART;TZID=America/New_York:20270109T070000
DTEND;TZID=America/New_York:20270109T160000
DTSTAMP:20260421T172542
CREATED:20260102T205623Z
LAST-MODIFIED:20260102T205623Z
UID:10026422-1799478000-1799510400@visitdelco.com
SUMMARY:Grace Winery Tasting Room Open
DESCRIPTION:
URL:https://visitdelco.com/event/grace-winery-tasting-room-open-2/2027-01-09/
LOCATION:Grace Winery\, 50 Sweetwater Road\, Glen Mills\, PA\, 19342\, United States
CATEGORIES:Beer & Wine
ATTACH;FMTTYPE=image/jpeg:https://visitdelco.com/wp-content/uploads/2026/01/470957191_18473535256031157_5868799862873849427_n.jpg
END:VEVENT
BEGIN:VEVENT
DTSTART;TZID=America/New_York:20270115T110000
DTEND;TZID=America/New_York:20270115T160000
DTSTAMP:20260421T172542
CREATED:20260102T211330Z
LAST-MODIFIED:20260102T211330Z
UID:10026685-1800010800-1800028800@visitdelco.com
SUMMARY:Grace Winery Tasting Room Open
DESCRIPTION:
URL:https://visitdelco.com/event/grace-winery-tasting-room-open/2027-01-15/
LOCATION:Grace Winery\, 50 Sweetwater Road\, Glen Mills\, PA\, 19342\, United States
CATEGORIES:Beer & Wine
ATTACH;FMTTYPE=image/jpeg:https://visitdelco.com/wp-content/uploads/2026/01/470957191_18473535256031157_5868799862873849427_n.jpg
END:VEVENT
BEGIN:VEVENT
DTSTART;TZID=America/New_York:20270116T070000
DTEND;TZID=America/New_York:20270116T160000
DTSTAMP:20260421T172542
CREATED:20260102T205623Z
LAST-MODIFIED:20260102T205623Z
UID:10026423-1800082800-1800115200@visitdelco.com
SUMMARY:Grace Winery Tasting Room Open
DESCRIPTION:
URL:https://visitdelco.com/event/grace-winery-tasting-room-open-2/2027-01-16/
LOCATION:Grace Winery\, 50 Sweetwater Road\, Glen Mills\, PA\, 19342\, United States
CATEGORIES:Beer & Wine
ATTACH;FMTTYPE=image/jpeg:https://visitdelco.com/wp-content/uploads/2026/01/470957191_18473535256031157_5868799862873849427_n.jpg
END:VEVENT
BEGIN:VEVENT
DTSTART;TZID=America/New_York:20270122T110000
DTEND;TZID=America/New_York:20270122T160000
DTSTAMP:20260421T172542
CREATED:20260102T211330Z
LAST-MODIFIED:20260102T211330Z
UID:10026686-1800615600-1800633600@visitdelco.com
SUMMARY:Grace Winery Tasting Room Open
DESCRIPTION:
URL:https://visitdelco.com/event/grace-winery-tasting-room-open/2027-01-22/
LOCATION:Grace Winery\, 50 Sweetwater Road\, Glen Mills\, PA\, 19342\, United States
CATEGORIES:Beer & Wine
ATTACH;FMTTYPE=image/jpeg:https://visitdelco.com/wp-content/uploads/2026/01/470957191_18473535256031157_5868799862873849427_n.jpg
END:VEVENT
BEGIN:VEVENT
DTSTART;TZID=America/New_York:20270123T070000
DTEND;TZID=America/New_York:20270123T160000
DTSTAMP:20260421T172542
CREATED:20260102T205623Z
LAST-MODIFIED:20260102T205623Z
UID:10026424-1800687600-1800720000@visitdelco.com
SUMMARY:Grace Winery Tasting Room Open
DESCRIPTION:
URL:https://visitdelco.com/event/grace-winery-tasting-room-open-2/2027-01-23/
LOCATION:Grace Winery\, 50 Sweetwater Road\, Glen Mills\, PA\, 19342\, United States
CATEGORIES:Beer & Wine
ATTACH;FMTTYPE=image/jpeg:https://visitdelco.com/wp-content/uploads/2026/01/470957191_18473535256031157_5868799862873849427_n.jpg
END:VEVENT
BEGIN:VEVENT
DTSTART;TZID=America/New_York:20270129T110000
DTEND;TZID=America/New_York:20270129T160000
DTSTAMP:20260421T172542
CREATED:20260102T211330Z
LAST-MODIFIED:20260102T211330Z
UID:10026687-1801220400-1801238400@visitdelco.com
SUMMARY:Grace Winery Tasting Room Open
DESCRIPTION:
URL:https://visitdelco.com/event/grace-winery-tasting-room-open/2027-01-29/
LOCATION:Grace Winery\, 50 Sweetwater Road\, Glen Mills\, PA\, 19342\, United States
CATEGORIES:Beer & Wine
ATTACH;FMTTYPE=image/jpeg:https://visitdelco.com/wp-content/uploads/2026/01/470957191_18473535256031157_5868799862873849427_n.jpg
END:VEVENT
BEGIN:VEVENT
DTSTART;TZID=America/New_York:20270130T070000
DTEND;TZID=America/New_York:20270130T160000
DTSTAMP:20260421T172542
CREATED:20260102T205623Z
LAST-MODIFIED:20260102T205623Z
UID:10026425-1801292400-1801324800@visitdelco.com
SUMMARY:Grace Winery Tasting Room Open
DESCRIPTION:
URL:https://visitdelco.com/event/grace-winery-tasting-room-open-2/2027-01-30/
LOCATION:Grace Winery\, 50 Sweetwater Road\, Glen Mills\, PA\, 19342\, United States
CATEGORIES:Beer & Wine
ATTACH;FMTTYPE=image/jpeg:https://visitdelco.com/wp-content/uploads/2026/01/470957191_18473535256031157_5868799862873849427_n.jpg
END:VEVENT
BEGIN:VEVENT
DTSTART;TZID=America/New_York:20270205T110000
DTEND;TZID=America/New_York:20270205T160000
DTSTAMP:20260421T172542
CREATED:20260102T211330Z
LAST-MODIFIED:20260102T211330Z
UID:10026688-1801825200-1801843200@visitdelco.com
SUMMARY:Grace Winery Tasting Room Open
DESCRIPTION:
URL:https://visitdelco.com/event/grace-winery-tasting-room-open/2027-02-05/
LOCATION:Grace Winery\, 50 Sweetwater Road\, Glen Mills\, PA\, 19342\, United States
CATEGORIES:Beer & Wine
ATTACH;FMTTYPE=image/jpeg:https://visitdelco.com/wp-content/uploads/2026/01/470957191_18473535256031157_5868799862873849427_n.jpg
END:VEVENT
BEGIN:VEVENT
DTSTART;TZID=America/New_York:20270206T070000
DTEND;TZID=America/New_York:20270206T160000
DTSTAMP:20260421T172542
CREATED:20260102T205623Z
LAST-MODIFIED:20260102T205623Z
UID:10026426-1801897200-1801929600@visitdelco.com
SUMMARY:Grace Winery Tasting Room Open
DESCRIPTION:
URL:https://visitdelco.com/event/grace-winery-tasting-room-open-2/2027-02-06/
LOCATION:Grace Winery\, 50 Sweetwater Road\, Glen Mills\, PA\, 19342\, United States
CATEGORIES:Beer & Wine
ATTACH;FMTTYPE=image/jpeg:https://visitdelco.com/wp-content/uploads/2026/01/470957191_18473535256031157_5868799862873849427_n.jpg
END:VEVENT
BEGIN:VEVENT
DTSTART;TZID=America/New_York:20270212T110000
DTEND;TZID=America/New_York:20270212T160000
DTSTAMP:20260421T172542
CREATED:20260102T211330Z
LAST-MODIFIED:20260102T211330Z
UID:10026689-1802430000-1802448000@visitdelco.com
SUMMARY:Grace Winery Tasting Room Open
DESCRIPTION:
URL:https://visitdelco.com/event/grace-winery-tasting-room-open/2027-02-12/
LOCATION:Grace Winery\, 50 Sweetwater Road\, Glen Mills\, PA\, 19342\, United States
CATEGORIES:Beer & Wine
ATTACH;FMTTYPE=image/jpeg:https://visitdelco.com/wp-content/uploads/2026/01/470957191_18473535256031157_5868799862873849427_n.jpg
END:VEVENT
BEGIN:VEVENT
DTSTART;TZID=America/New_York:20270213T070000
DTEND;TZID=America/New_York:20270213T160000
DTSTAMP:20260421T172542
CREATED:20260102T205623Z
LAST-MODIFIED:20260102T205623Z
UID:10026427-1802502000-1802534400@visitdelco.com
SUMMARY:Grace Winery Tasting Room Open
DESCRIPTION:
URL:https://visitdelco.com/event/grace-winery-tasting-room-open-2/2027-02-13/
LOCATION:Grace Winery\, 50 Sweetwater Road\, Glen Mills\, PA\, 19342\, United States
CATEGORIES:Beer & Wine
ATTACH;FMTTYPE=image/jpeg:https://visitdelco.com/wp-content/uploads/2026/01/470957191_18473535256031157_5868799862873849427_n.jpg
END:VEVENT
BEGIN:VEVENT
DTSTART;TZID=America/New_York:20270219T110000
DTEND;TZID=America/New_York:20270219T160000
DTSTAMP:20260421T172542
CREATED:20260102T211330Z
LAST-MODIFIED:20260102T211330Z
UID:10026690-1803034800-1803052800@visitdelco.com
SUMMARY:Grace Winery Tasting Room Open
DESCRIPTION:
URL:https://visitdelco.com/event/grace-winery-tasting-room-open/2027-02-19/
LOCATION:Grace Winery\, 50 Sweetwater Road\, Glen Mills\, PA\, 19342\, United States
CATEGORIES:Beer & Wine
ATTACH;FMTTYPE=image/jpeg:https://visitdelco.com/wp-content/uploads/2026/01/470957191_18473535256031157_5868799862873849427_n.jpg
END:VEVENT
BEGIN:VEVENT
DTSTART;TZID=America/New_York:20270220T070000
DTEND;TZID=America/New_York:20270220T160000
DTSTAMP:20260421T172542
CREATED:20260102T205623Z
LAST-MODIFIED:20260102T205623Z
UID:10026428-1803106800-1803139200@visitdelco.com
SUMMARY:Grace Winery Tasting Room Open
DESCRIPTION:
URL:https://visitdelco.com/event/grace-winery-tasting-room-open-2/2027-02-20/
LOCATION:Grace Winery\, 50 Sweetwater Road\, Glen Mills\, PA\, 19342\, United States
CATEGORIES:Beer & Wine
ATTACH;FMTTYPE=image/jpeg:https://visitdelco.com/wp-content/uploads/2026/01/470957191_18473535256031157_5868799862873849427_n.jpg
END:VEVENT
BEGIN:VEVENT
DTSTART;TZID=America/New_York:20270226T110000
DTEND;TZID=America/New_York:20270226T160000
DTSTAMP:20260421T172542
CREATED:20260102T211330Z
LAST-MODIFIED:20260102T211330Z
UID:10026691-1803639600-1803657600@visitdelco.com
SUMMARY:Grace Winery Tasting Room Open
DESCRIPTION:
URL:https://visitdelco.com/event/grace-winery-tasting-room-open/2027-02-26/
LOCATION:Grace Winery\, 50 Sweetwater Road\, Glen Mills\, PA\, 19342\, United States
CATEGORIES:Beer & Wine
ATTACH;FMTTYPE=image/jpeg:https://visitdelco.com/wp-content/uploads/2026/01/470957191_18473535256031157_5868799862873849427_n.jpg
END:VEVENT
BEGIN:VEVENT
DTSTART;TZID=America/New_York:20270227T070000
DTEND;TZID=America/New_York:20270227T160000
DTSTAMP:20260421T172542
CREATED:20260102T205623Z
LAST-MODIFIED:20260102T205623Z
UID:10026429-1803711600-1803744000@visitdelco.com
SUMMARY:Grace Winery Tasting Room Open
DESCRIPTION:
URL:https://visitdelco.com/event/grace-winery-tasting-room-open-2/2027-02-27/
LOCATION:Grace Winery\, 50 Sweetwater Road\, Glen Mills\, PA\, 19342\, United States
CATEGORIES:Beer & Wine
ATTACH;FMTTYPE=image/jpeg:https://visitdelco.com/wp-content/uploads/2026/01/470957191_18473535256031157_5868799862873849427_n.jpg
END:VEVENT
BEGIN:VEVENT
DTSTART;TZID=America/New_York:20270305T110000
DTEND;TZID=America/New_York:20270305T160000
DTSTAMP:20260421T172542
CREATED:20260102T211330Z
LAST-MODIFIED:20260102T211330Z
UID:10026692-1804244400-1804262400@visitdelco.com
SUMMARY:Grace Winery Tasting Room Open
DESCRIPTION:
URL:https://visitdelco.com/event/grace-winery-tasting-room-open/2027-03-05/
LOCATION:Grace Winery\, 50 Sweetwater Road\, Glen Mills\, PA\, 19342\, United States
CATEGORIES:Beer & Wine
ATTACH;FMTTYPE=image/jpeg:https://visitdelco.com/wp-content/uploads/2026/01/470957191_18473535256031157_5868799862873849427_n.jpg
END:VEVENT
BEGIN:VEVENT
DTSTART;TZID=America/New_York:20270306T070000
DTEND;TZID=America/New_York:20270306T160000
DTSTAMP:20260421T172542
CREATED:20260102T205623Z
LAST-MODIFIED:20260102T205623Z
UID:10026430-1804316400-1804348800@visitdelco.com
SUMMARY:Grace Winery Tasting Room Open
DESCRIPTION:
URL:https://visitdelco.com/event/grace-winery-tasting-room-open-2/2027-03-06/
LOCATION:Grace Winery\, 50 Sweetwater Road\, Glen Mills\, PA\, 19342\, United States
CATEGORIES:Beer & Wine
ATTACH;FMTTYPE=image/jpeg:https://visitdelco.com/wp-content/uploads/2026/01/470957191_18473535256031157_5868799862873849427_n.jpg
END:VEVENT
END:VCALENDAR