BEGIN:VCALENDAR
VERSION:2.0
PRODID:-//Visit Delco, PA - ECPv6.15.17.1//NONSGML v1.0//EN
CALSCALE:GREGORIAN
METHOD:PUBLISH
X-ORIGINAL-URL:https://visitdelco.com
X-WR-CALDESC:Events for Visit Delco, PA
REFRESH-INTERVAL;VALUE=DURATION:PT1H
X-Robots-Tag:noindex
X-PUBLISHED-TTL:PT1H
BEGIN:VTIMEZONE
TZID:America/New_York
BEGIN:DAYLIGHT
TZOFFSETFROM:-0500
TZOFFSETTO:-0400
TZNAME:EDT
DTSTART:20250309T070000
END:DAYLIGHT
BEGIN:STANDARD
TZOFFSETFROM:-0400
TZOFFSETTO:-0500
TZNAME:EST
DTSTART:20251102T060000
END:STANDARD
BEGIN:DAYLIGHT
TZOFFSETFROM:-0500
TZOFFSETTO:-0400
TZNAME:EDT
DTSTART:20260308T070000
END:DAYLIGHT
BEGIN:STANDARD
TZOFFSETFROM:-0400
TZOFFSETTO:-0500
TZNAME:EST
DTSTART:20261101T060000
END:STANDARD
BEGIN:DAYLIGHT
TZOFFSETFROM:-0500
TZOFFSETTO:-0400
TZNAME:EDT
DTSTART:20270314T070000
END:DAYLIGHT
BEGIN:STANDARD
TZOFFSETFROM:-0400
TZOFFSETTO:-0500
TZNAME:EST
DTSTART:20271107T060000
END:STANDARD
END:VTIMEZONE
BEGIN:VEVENT
DTSTART;TZID=America/New_York:20260510T110000
DTEND;TZID=America/New_York:20260510T130000
DTSTAMP:20260421T052154
CREATED:20260416T201216Z
LAST-MODIFIED:20260416T201216Z
UID:10034694-1778410800-1778418000@visitdelco.com
SUMMARY:Grace Winery: Mother's Day Bouquet Bar
DESCRIPTION:Celebrate Mother’s Day with a beautiful\, memory-making experience. Our Mother’s Day Flower Bar is a joyful\, creative experience where you’ll slow down\, sip something lovely\, and design a stunning floral arrangement side-by-side with the women who mean the most to you.\n\nBring Mom\, Grandma\, Auntie\, daughters\, sisters\, or your besties and enjoy a relaxed day surrounded by blooms\, laughter\, and vineyard views!
URL:https://visitdelco.com/event/grace-winery-mothers-day-bouquet-bar/
LOCATION:Grace Winery\, 50 Sweetwater Road\, Glen Mills\, PA\, 19342\, United States
CATEGORIES:Beer & Wine,Workshops/Classes
ATTACH;FMTTYPE=image/jpeg:https://visitdelco.com/wp-content/uploads/2026/04/Screenshot_16-4-2026_16116_www.gracewinery.com_.jpeg
END:VEVENT
BEGIN:VEVENT
DTSTART;TZID=America/New_York:20260510T130000
DTEND;TZID=America/New_York:20260510T160000
DTSTAMP:20260421T052154
CREATED:20260416T195053Z
LAST-MODIFIED:20260416T201020Z
UID:10034693-1778418000-1778428800@visitdelco.com
SUMMARY:Grace Winery: Acoustic Keys Live at the Vineyard Barn
DESCRIPTION:
URL:https://visitdelco.com/event/grace-winery-acoustic-keys-live-at-the-vineyard-barn/2026-05-10/
LOCATION:Grace Winery\, 50 Sweetwater Road\, Glen Mills\, PA\, 19342\, United States
CATEGORIES:Concerts & Live Music,Beer & Wine,Arts & Culture
ATTACH;FMTTYPE=image/jpeg:https://visitdelco.com/wp-content/uploads/2026/04/Screenshot_16-4-2026_154629_www.gracewinery.com_.jpeg
END:VEVENT
BEGIN:VEVENT
DTSTART;TZID=America/New_York:20260510T143000
DTEND;TZID=America/New_York:20260510T160000
DTSTAMP:20260421T052154
CREATED:20260416T201354Z
LAST-MODIFIED:20260416T201354Z
UID:10034695-1778423400-1778428800@visitdelco.com
SUMMARY:Grace Winery: Mother's Day Flower Bar
DESCRIPTION:Join us for an enchanting Mother’s Day experience and treat the women in your life to a sophisticated afternoon of flower arranging\, wine\, and whimsical elegance!\n\nThis special Bridgerton-inspired flower bar workshop is a fun afternoon out with Mom\, Grandma\, Auntie\, Daughters\, or even your besties. Celebrate the season with creative flair and the charm of English garden florals\, all while sipping on exquisite wine in the heart of a beautiful winery setting.
URL:https://visitdelco.com/event/grace-winery-mothers-day-flower-bar/
LOCATION:Grace Winery\, 50 Sweetwater Road\, Glen Mills\, PA\, 19342\, United States
CATEGORIES:Beer & Wine,Holiday
ATTACH;FMTTYPE=image/jpeg:https://visitdelco.com/wp-content/uploads/2026/04/Screenshot_16-4-2026_161247_www.gracewinery.com_.jpeg
END:VEVENT
BEGIN:VEVENT
DTSTART;TZID=America/New_York:20260515T110000
DTEND;TZID=America/New_York:20260515T160000
DTSTAMP:20260421T052154
CREATED:20260102T211330Z
LAST-MODIFIED:20260102T211330Z
UID:10026650-1778842800-1778860800@visitdelco.com
SUMMARY:Grace Winery Tasting Room Open
DESCRIPTION:
URL:https://visitdelco.com/event/grace-winery-tasting-room-open/2026-05-15/
LOCATION:Grace Winery\, 50 Sweetwater Road\, Glen Mills\, PA\, 19342\, United States
CATEGORIES:Beer & Wine
ATTACH;FMTTYPE=image/jpeg:https://visitdelco.com/wp-content/uploads/2026/01/470957191_18473535256031157_5868799862873849427_n.jpg
END:VEVENT
BEGIN:VEVENT
DTSTART;TZID=America/New_York:20260516T070000
DTEND;TZID=America/New_York:20260516T160000
DTSTAMP:20260421T052154
CREATED:20260102T205623Z
LAST-MODIFIED:20260102T205623Z
UID:10026388-1778914800-1778947200@visitdelco.com
SUMMARY:Grace Winery Tasting Room Open
DESCRIPTION:
URL:https://visitdelco.com/event/grace-winery-tasting-room-open-2/2026-05-16/
LOCATION:Grace Winery\, 50 Sweetwater Road\, Glen Mills\, PA\, 19342\, United States
CATEGORIES:Beer & Wine
ATTACH;FMTTYPE=image/jpeg:https://visitdelco.com/wp-content/uploads/2026/01/470957191_18473535256031157_5868799862873849427_n.jpg
END:VEVENT
BEGIN:VEVENT
DTSTART;TZID=America/New_York:20260522T110000
DTEND;TZID=America/New_York:20260522T160000
DTSTAMP:20260421T052154
CREATED:20260102T211330Z
LAST-MODIFIED:20260102T211330Z
UID:10026651-1779447600-1779465600@visitdelco.com
SUMMARY:Grace Winery Tasting Room Open
DESCRIPTION:
URL:https://visitdelco.com/event/grace-winery-tasting-room-open/2026-05-22/
LOCATION:Grace Winery\, 50 Sweetwater Road\, Glen Mills\, PA\, 19342\, United States
CATEGORIES:Beer & Wine
ATTACH;FMTTYPE=image/jpeg:https://visitdelco.com/wp-content/uploads/2026/01/470957191_18473535256031157_5868799862873849427_n.jpg
END:VEVENT
BEGIN:VEVENT
DTSTART;TZID=America/New_York:20260523T070000
DTEND;TZID=America/New_York:20260523T160000
DTSTAMP:20260421T052154
CREATED:20260102T205623Z
LAST-MODIFIED:20260102T205623Z
UID:10026389-1779519600-1779552000@visitdelco.com
SUMMARY:Grace Winery Tasting Room Open
DESCRIPTION:
URL:https://visitdelco.com/event/grace-winery-tasting-room-open-2/2026-05-23/
LOCATION:Grace Winery\, 50 Sweetwater Road\, Glen Mills\, PA\, 19342\, United States
CATEGORIES:Beer & Wine
ATTACH;FMTTYPE=image/jpeg:https://visitdelco.com/wp-content/uploads/2026/01/470957191_18473535256031157_5868799862873849427_n.jpg
END:VEVENT
BEGIN:VEVENT
DTSTART;TZID=America/New_York:20260528T170000
DTEND;TZID=America/New_York:20260528T210000
DTSTAMP:20260421T052154
CREATED:20260416T200441Z
LAST-MODIFIED:20260416T201445Z
UID:10034696-1779987600-1780002000@visitdelco.com
SUMMARY:Grace Winery:  Trivia Night
DESCRIPTION:
URL:https://visitdelco.com/event/grace-winery-trivia-night/2026-05-28/
LOCATION:Grace Winery\, 50 Sweetwater Road\, Glen Mills\, PA\, 19342\, United States
CATEGORIES:Beer & Wine
ATTACH;FMTTYPE=image/jpeg:https://visitdelco.com/wp-content/uploads/2026/04/Screenshot_16-4-2026_16353_www.gracewinery.com_.jpeg
END:VEVENT
BEGIN:VEVENT
DTSTART;TZID=America/New_York:20260529T110000
DTEND;TZID=America/New_York:20260529T160000
DTSTAMP:20260421T052154
CREATED:20260102T211330Z
LAST-MODIFIED:20260102T211330Z
UID:10026652-1780052400-1780070400@visitdelco.com
SUMMARY:Grace Winery Tasting Room Open
DESCRIPTION:
URL:https://visitdelco.com/event/grace-winery-tasting-room-open/2026-05-29/
LOCATION:Grace Winery\, 50 Sweetwater Road\, Glen Mills\, PA\, 19342\, United States
CATEGORIES:Beer & Wine
ATTACH;FMTTYPE=image/jpeg:https://visitdelco.com/wp-content/uploads/2026/01/470957191_18473535256031157_5868799862873849427_n.jpg
END:VEVENT
BEGIN:VEVENT
DTSTART;TZID=America/New_York:20260530T070000
DTEND;TZID=America/New_York:20260530T160000
DTSTAMP:20260421T052155
CREATED:20260102T205623Z
LAST-MODIFIED:20260102T205623Z
UID:10026390-1780124400-1780156800@visitdelco.com
SUMMARY:Grace Winery Tasting Room Open
DESCRIPTION:
URL:https://visitdelco.com/event/grace-winery-tasting-room-open-2/2026-05-30/
LOCATION:Grace Winery\, 50 Sweetwater Road\, Glen Mills\, PA\, 19342\, United States
CATEGORIES:Beer & Wine
ATTACH;FMTTYPE=image/jpeg:https://visitdelco.com/wp-content/uploads/2026/01/470957191_18473535256031157_5868799862873849427_n.jpg
END:VEVENT
BEGIN:VEVENT
DTSTART;TZID=America/New_York:20260605T110000
DTEND;TZID=America/New_York:20260605T160000
DTSTAMP:20260421T052155
CREATED:20260102T211330Z
LAST-MODIFIED:20260102T211330Z
UID:10026653-1780657200-1780675200@visitdelco.com
SUMMARY:Grace Winery Tasting Room Open
DESCRIPTION:
URL:https://visitdelco.com/event/grace-winery-tasting-room-open/2026-06-05/
LOCATION:Grace Winery\, 50 Sweetwater Road\, Glen Mills\, PA\, 19342\, United States
CATEGORIES:Beer & Wine
ATTACH;FMTTYPE=image/jpeg:https://visitdelco.com/wp-content/uploads/2026/01/470957191_18473535256031157_5868799862873849427_n.jpg
END:VEVENT
BEGIN:VEVENT
DTSTART;TZID=America/New_York:20260606T070000
DTEND;TZID=America/New_York:20260606T160000
DTSTAMP:20260421T052155
CREATED:20260102T205623Z
LAST-MODIFIED:20260102T205623Z
UID:10026391-1780729200-1780761600@visitdelco.com
SUMMARY:Grace Winery Tasting Room Open
DESCRIPTION:
URL:https://visitdelco.com/event/grace-winery-tasting-room-open-2/2026-06-06/
LOCATION:Grace Winery\, 50 Sweetwater Road\, Glen Mills\, PA\, 19342\, United States
CATEGORIES:Beer & Wine
ATTACH;FMTTYPE=image/jpeg:https://visitdelco.com/wp-content/uploads/2026/01/470957191_18473535256031157_5868799862873849427_n.jpg
END:VEVENT
BEGIN:VEVENT
DTSTART;TZID=America/New_York:20260612T110000
DTEND;TZID=America/New_York:20260612T160000
DTSTAMP:20260421T052155
CREATED:20260102T211330Z
LAST-MODIFIED:20260102T211330Z
UID:10026654-1781262000-1781280000@visitdelco.com
SUMMARY:Grace Winery Tasting Room Open
DESCRIPTION:
URL:https://visitdelco.com/event/grace-winery-tasting-room-open/2026-06-12/
LOCATION:Grace Winery\, 50 Sweetwater Road\, Glen Mills\, PA\, 19342\, United States
CATEGORIES:Beer & Wine
ATTACH;FMTTYPE=image/jpeg:https://visitdelco.com/wp-content/uploads/2026/01/470957191_18473535256031157_5868799862873849427_n.jpg
END:VEVENT
BEGIN:VEVENT
DTSTART;TZID=America/New_York:20260613T070000
DTEND;TZID=America/New_York:20260613T160000
DTSTAMP:20260421T052155
CREATED:20260102T205623Z
LAST-MODIFIED:20260102T205623Z
UID:10026392-1781334000-1781366400@visitdelco.com
SUMMARY:Grace Winery Tasting Room Open
DESCRIPTION:
URL:https://visitdelco.com/event/grace-winery-tasting-room-open-2/2026-06-13/
LOCATION:Grace Winery\, 50 Sweetwater Road\, Glen Mills\, PA\, 19342\, United States
CATEGORIES:Beer & Wine
ATTACH;FMTTYPE=image/jpeg:https://visitdelco.com/wp-content/uploads/2026/01/470957191_18473535256031157_5868799862873849427_n.jpg
END:VEVENT
BEGIN:VEVENT
DTSTART;TZID=America/New_York:20260619T110000
DTEND;TZID=America/New_York:20260619T160000
DTSTAMP:20260421T052155
CREATED:20260102T211330Z
LAST-MODIFIED:20260102T211330Z
UID:10026655-1781866800-1781884800@visitdelco.com
SUMMARY:Grace Winery Tasting Room Open
DESCRIPTION:
URL:https://visitdelco.com/event/grace-winery-tasting-room-open/2026-06-19/
LOCATION:Grace Winery\, 50 Sweetwater Road\, Glen Mills\, PA\, 19342\, United States
CATEGORIES:Beer & Wine
ATTACH;FMTTYPE=image/jpeg:https://visitdelco.com/wp-content/uploads/2026/01/470957191_18473535256031157_5868799862873849427_n.jpg
END:VEVENT
BEGIN:VEVENT
DTSTART;TZID=America/New_York:20260620T070000
DTEND;TZID=America/New_York:20260620T160000
DTSTAMP:20260421T052155
CREATED:20260102T205623Z
LAST-MODIFIED:20260102T205623Z
UID:10026393-1781938800-1781971200@visitdelco.com
SUMMARY:Grace Winery Tasting Room Open
DESCRIPTION:
URL:https://visitdelco.com/event/grace-winery-tasting-room-open-2/2026-06-20/
LOCATION:Grace Winery\, 50 Sweetwater Road\, Glen Mills\, PA\, 19342\, United States
CATEGORIES:Beer & Wine
ATTACH;FMTTYPE=image/jpeg:https://visitdelco.com/wp-content/uploads/2026/01/470957191_18473535256031157_5868799862873849427_n.jpg
END:VEVENT
BEGIN:VEVENT
DTSTART;TZID=America/New_York:20260626T110000
DTEND;TZID=America/New_York:20260626T160000
DTSTAMP:20260421T052155
CREATED:20260102T211330Z
LAST-MODIFIED:20260102T211330Z
UID:10026656-1782471600-1782489600@visitdelco.com
SUMMARY:Grace Winery Tasting Room Open
DESCRIPTION:
URL:https://visitdelco.com/event/grace-winery-tasting-room-open/2026-06-26/
LOCATION:Grace Winery\, 50 Sweetwater Road\, Glen Mills\, PA\, 19342\, United States
CATEGORIES:Beer & Wine
ATTACH;FMTTYPE=image/jpeg:https://visitdelco.com/wp-content/uploads/2026/01/470957191_18473535256031157_5868799862873849427_n.jpg
END:VEVENT
BEGIN:VEVENT
DTSTART;TZID=America/New_York:20260627T070000
DTEND;TZID=America/New_York:20260627T160000
DTSTAMP:20260421T052155
CREATED:20260102T205623Z
LAST-MODIFIED:20260102T205623Z
UID:10026394-1782543600-1782576000@visitdelco.com
SUMMARY:Grace Winery Tasting Room Open
DESCRIPTION:
URL:https://visitdelco.com/event/grace-winery-tasting-room-open-2/2026-06-27/
LOCATION:Grace Winery\, 50 Sweetwater Road\, Glen Mills\, PA\, 19342\, United States
CATEGORIES:Beer & Wine
ATTACH;FMTTYPE=image/jpeg:https://visitdelco.com/wp-content/uploads/2026/01/470957191_18473535256031157_5868799862873849427_n.jpg
END:VEVENT
BEGIN:VEVENT
DTSTART;TZID=America/New_York:20260703T110000
DTEND;TZID=America/New_York:20260703T160000
DTSTAMP:20260421T052155
CREATED:20260102T211330Z
LAST-MODIFIED:20260102T211330Z
UID:10026657-1783076400-1783094400@visitdelco.com
SUMMARY:Grace Winery Tasting Room Open
DESCRIPTION:
URL:https://visitdelco.com/event/grace-winery-tasting-room-open/2026-07-03/
LOCATION:Grace Winery\, 50 Sweetwater Road\, Glen Mills\, PA\, 19342\, United States
CATEGORIES:Beer & Wine
ATTACH;FMTTYPE=image/jpeg:https://visitdelco.com/wp-content/uploads/2026/01/470957191_18473535256031157_5868799862873849427_n.jpg
END:VEVENT
BEGIN:VEVENT
DTSTART;TZID=America/New_York:20260704T070000
DTEND;TZID=America/New_York:20260704T160000
DTSTAMP:20260421T052155
CREATED:20260102T205623Z
LAST-MODIFIED:20260102T205623Z
UID:10026395-1783148400-1783180800@visitdelco.com
SUMMARY:Grace Winery Tasting Room Open
DESCRIPTION:
URL:https://visitdelco.com/event/grace-winery-tasting-room-open-2/2026-07-04/
LOCATION:Grace Winery\, 50 Sweetwater Road\, Glen Mills\, PA\, 19342\, United States
CATEGORIES:Beer & Wine
ATTACH;FMTTYPE=image/jpeg:https://visitdelco.com/wp-content/uploads/2026/01/470957191_18473535256031157_5868799862873849427_n.jpg
END:VEVENT
BEGIN:VEVENT
DTSTART;TZID=America/New_York:20260710T110000
DTEND;TZID=America/New_York:20260710T160000
DTSTAMP:20260421T052155
CREATED:20260102T211330Z
LAST-MODIFIED:20260102T211330Z
UID:10026658-1783681200-1783699200@visitdelco.com
SUMMARY:Grace Winery Tasting Room Open
DESCRIPTION:
URL:https://visitdelco.com/event/grace-winery-tasting-room-open/2026-07-10/
LOCATION:Grace Winery\, 50 Sweetwater Road\, Glen Mills\, PA\, 19342\, United States
CATEGORIES:Beer & Wine
ATTACH;FMTTYPE=image/jpeg:https://visitdelco.com/wp-content/uploads/2026/01/470957191_18473535256031157_5868799862873849427_n.jpg
END:VEVENT
BEGIN:VEVENT
DTSTART;TZID=America/New_York:20260711T070000
DTEND;TZID=America/New_York:20260711T160000
DTSTAMP:20260421T052155
CREATED:20260102T205623Z
LAST-MODIFIED:20260102T205623Z
UID:10026396-1783753200-1783785600@visitdelco.com
SUMMARY:Grace Winery Tasting Room Open
DESCRIPTION:
URL:https://visitdelco.com/event/grace-winery-tasting-room-open-2/2026-07-11/
LOCATION:Grace Winery\, 50 Sweetwater Road\, Glen Mills\, PA\, 19342\, United States
CATEGORIES:Beer & Wine
ATTACH;FMTTYPE=image/jpeg:https://visitdelco.com/wp-content/uploads/2026/01/470957191_18473535256031157_5868799862873849427_n.jpg
END:VEVENT
BEGIN:VEVENT
DTSTART;TZID=America/New_York:20260717T110000
DTEND;TZID=America/New_York:20260717T160000
DTSTAMP:20260421T052155
CREATED:20260102T211330Z
LAST-MODIFIED:20260102T211330Z
UID:10026659-1784286000-1784304000@visitdelco.com
SUMMARY:Grace Winery Tasting Room Open
DESCRIPTION:
URL:https://visitdelco.com/event/grace-winery-tasting-room-open/2026-07-17/
LOCATION:Grace Winery\, 50 Sweetwater Road\, Glen Mills\, PA\, 19342\, United States
CATEGORIES:Beer & Wine
ATTACH;FMTTYPE=image/jpeg:https://visitdelco.com/wp-content/uploads/2026/01/470957191_18473535256031157_5868799862873849427_n.jpg
END:VEVENT
BEGIN:VEVENT
DTSTART;TZID=America/New_York:20260718T070000
DTEND;TZID=America/New_York:20260718T160000
DTSTAMP:20260421T052155
CREATED:20260102T205623Z
LAST-MODIFIED:20260102T205623Z
UID:10026397-1784358000-1784390400@visitdelco.com
SUMMARY:Grace Winery Tasting Room Open
DESCRIPTION:
URL:https://visitdelco.com/event/grace-winery-tasting-room-open-2/2026-07-18/
LOCATION:Grace Winery\, 50 Sweetwater Road\, Glen Mills\, PA\, 19342\, United States
CATEGORIES:Beer & Wine
ATTACH;FMTTYPE=image/jpeg:https://visitdelco.com/wp-content/uploads/2026/01/470957191_18473535256031157_5868799862873849427_n.jpg
END:VEVENT
BEGIN:VEVENT
DTSTART;TZID=America/New_York:20260724T110000
DTEND;TZID=America/New_York:20260724T160000
DTSTAMP:20260421T052155
CREATED:20260102T211330Z
LAST-MODIFIED:20260102T211330Z
UID:10026660-1784890800-1784908800@visitdelco.com
SUMMARY:Grace Winery Tasting Room Open
DESCRIPTION:
URL:https://visitdelco.com/event/grace-winery-tasting-room-open/2026-07-24/
LOCATION:Grace Winery\, 50 Sweetwater Road\, Glen Mills\, PA\, 19342\, United States
CATEGORIES:Beer & Wine
ATTACH;FMTTYPE=image/jpeg:https://visitdelco.com/wp-content/uploads/2026/01/470957191_18473535256031157_5868799862873849427_n.jpg
END:VEVENT
BEGIN:VEVENT
DTSTART;TZID=America/New_York:20260725T070000
DTEND;TZID=America/New_York:20260725T160000
DTSTAMP:20260421T052155
CREATED:20260102T205623Z
LAST-MODIFIED:20260102T205623Z
UID:10026398-1784962800-1784995200@visitdelco.com
SUMMARY:Grace Winery Tasting Room Open
DESCRIPTION:
URL:https://visitdelco.com/event/grace-winery-tasting-room-open-2/2026-07-25/
LOCATION:Grace Winery\, 50 Sweetwater Road\, Glen Mills\, PA\, 19342\, United States
CATEGORIES:Beer & Wine
ATTACH;FMTTYPE=image/jpeg:https://visitdelco.com/wp-content/uploads/2026/01/470957191_18473535256031157_5868799862873849427_n.jpg
END:VEVENT
BEGIN:VEVENT
DTSTART;TZID=America/New_York:20260731T110000
DTEND;TZID=America/New_York:20260731T160000
DTSTAMP:20260421T052155
CREATED:20260102T211330Z
LAST-MODIFIED:20260102T211330Z
UID:10026661-1785495600-1785513600@visitdelco.com
SUMMARY:Grace Winery Tasting Room Open
DESCRIPTION:
URL:https://visitdelco.com/event/grace-winery-tasting-room-open/2026-07-31/
LOCATION:Grace Winery\, 50 Sweetwater Road\, Glen Mills\, PA\, 19342\, United States
CATEGORIES:Beer & Wine
ATTACH;FMTTYPE=image/jpeg:https://visitdelco.com/wp-content/uploads/2026/01/470957191_18473535256031157_5868799862873849427_n.jpg
END:VEVENT
BEGIN:VEVENT
DTSTART;TZID=America/New_York:20260801T070000
DTEND;TZID=America/New_York:20260801T160000
DTSTAMP:20260421T052155
CREATED:20260102T205623Z
LAST-MODIFIED:20260102T205623Z
UID:10026399-1785567600-1785600000@visitdelco.com
SUMMARY:Grace Winery Tasting Room Open
DESCRIPTION:
URL:https://visitdelco.com/event/grace-winery-tasting-room-open-2/2026-08-01/
LOCATION:Grace Winery\, 50 Sweetwater Road\, Glen Mills\, PA\, 19342\, United States
CATEGORIES:Beer & Wine
ATTACH;FMTTYPE=image/jpeg:https://visitdelco.com/wp-content/uploads/2026/01/470957191_18473535256031157_5868799862873849427_n.jpg
END:VEVENT
BEGIN:VEVENT
DTSTART;TZID=America/New_York:20260807T110000
DTEND;TZID=America/New_York:20260807T160000
DTSTAMP:20260421T052155
CREATED:20260102T211330Z
LAST-MODIFIED:20260102T211330Z
UID:10026662-1786100400-1786118400@visitdelco.com
SUMMARY:Grace Winery Tasting Room Open
DESCRIPTION:
URL:https://visitdelco.com/event/grace-winery-tasting-room-open/2026-08-07/
LOCATION:Grace Winery\, 50 Sweetwater Road\, Glen Mills\, PA\, 19342\, United States
CATEGORIES:Beer & Wine
ATTACH;FMTTYPE=image/jpeg:https://visitdelco.com/wp-content/uploads/2026/01/470957191_18473535256031157_5868799862873849427_n.jpg
END:VEVENT
BEGIN:VEVENT
DTSTART;TZID=America/New_York:20260808T070000
DTEND;TZID=America/New_York:20260808T160000
DTSTAMP:20260421T052155
CREATED:20260102T205623Z
LAST-MODIFIED:20260102T205623Z
UID:10026400-1786172400-1786204800@visitdelco.com
SUMMARY:Grace Winery Tasting Room Open
DESCRIPTION:
URL:https://visitdelco.com/event/grace-winery-tasting-room-open-2/2026-08-08/
LOCATION:Grace Winery\, 50 Sweetwater Road\, Glen Mills\, PA\, 19342\, United States
CATEGORIES:Beer & Wine
ATTACH;FMTTYPE=image/jpeg:https://visitdelco.com/wp-content/uploads/2026/01/470957191_18473535256031157_5868799862873849427_n.jpg
END:VEVENT
END:VCALENDAR