BEGIN:VCALENDAR
VERSION:2.0
PRODID:-//Visit Delco, PA - ECPv6.15.17.1//NONSGML v1.0//EN
CALSCALE:GREGORIAN
METHOD:PUBLISH
X-ORIGINAL-URL:https://visitdelco.com
X-WR-CALDESC:Events for Visit Delco, PA
REFRESH-INTERVAL;VALUE=DURATION:PT1H
X-Robots-Tag:noindex
X-PUBLISHED-TTL:PT1H
BEGIN:VTIMEZONE
TZID:America/New_York
BEGIN:DAYLIGHT
TZOFFSETFROM:-0500
TZOFFSETTO:-0400
TZNAME:EDT
DTSTART:20260308T070000
END:DAYLIGHT
BEGIN:STANDARD
TZOFFSETFROM:-0400
TZOFFSETTO:-0500
TZNAME:EST
DTSTART:20261101T060000
END:STANDARD
BEGIN:DAYLIGHT
TZOFFSETFROM:-0500
TZOFFSETTO:-0400
TZNAME:EDT
DTSTART:20270314T070000
END:DAYLIGHT
BEGIN:STANDARD
TZOFFSETFROM:-0400
TZOFFSETTO:-0500
TZNAME:EST
DTSTART:20271107T060000
END:STANDARD
BEGIN:DAYLIGHT
TZOFFSETFROM:-0500
TZOFFSETTO:-0400
TZNAME:EDT
DTSTART:20280312T070000
END:DAYLIGHT
BEGIN:STANDARD
TZOFFSETFROM:-0400
TZOFFSETTO:-0500
TZNAME:EST
DTSTART:20281105T060000
END:STANDARD
END:VTIMEZONE
BEGIN:VEVENT
DTSTART;TZID=America/New_York:20270514T110000
DTEND;TZID=America/New_York:20270514T160000
DTSTAMP:20260422T003910
CREATED:20260102T211330Z
LAST-MODIFIED:20260102T211330Z
UID:10026702-1810292400-1810310400@visitdelco.com
SUMMARY:Grace Winery Tasting Room Open
DESCRIPTION:
URL:https://visitdelco.com/event/grace-winery-tasting-room-open/2027-05-14/
LOCATION:Grace Winery\, 50 Sweetwater Road\, Glen Mills\, PA\, 19342\, United States
CATEGORIES:Beer & Wine
ATTACH;FMTTYPE=image/jpeg:https://visitdelco.com/wp-content/uploads/2026/01/470957191_18473535256031157_5868799862873849427_n.jpg
END:VEVENT
BEGIN:VEVENT
DTSTART;TZID=America/New_York:20270515T070000
DTEND;TZID=America/New_York:20270515T160000
DTSTAMP:20260422T003910
CREATED:20260102T205623Z
LAST-MODIFIED:20260102T205623Z
UID:10026440-1810364400-1810396800@visitdelco.com
SUMMARY:Grace Winery Tasting Room Open
DESCRIPTION:
URL:https://visitdelco.com/event/grace-winery-tasting-room-open-2/2027-05-15/
LOCATION:Grace Winery\, 50 Sweetwater Road\, Glen Mills\, PA\, 19342\, United States
CATEGORIES:Beer & Wine
ATTACH;FMTTYPE=image/jpeg:https://visitdelco.com/wp-content/uploads/2026/01/470957191_18473535256031157_5868799862873849427_n.jpg
END:VEVENT
BEGIN:VEVENT
DTSTART;TZID=America/New_York:20270521T110000
DTEND;TZID=America/New_York:20270521T160000
DTSTAMP:20260422T003910
CREATED:20260102T211330Z
LAST-MODIFIED:20260102T211330Z
UID:10026703-1810897200-1810915200@visitdelco.com
SUMMARY:Grace Winery Tasting Room Open
DESCRIPTION:
URL:https://visitdelco.com/event/grace-winery-tasting-room-open/2027-05-21/
LOCATION:Grace Winery\, 50 Sweetwater Road\, Glen Mills\, PA\, 19342\, United States
CATEGORIES:Beer & Wine
ATTACH;FMTTYPE=image/jpeg:https://visitdelco.com/wp-content/uploads/2026/01/470957191_18473535256031157_5868799862873849427_n.jpg
END:VEVENT
BEGIN:VEVENT
DTSTART;TZID=America/New_York:20270522T070000
DTEND;TZID=America/New_York:20270522T160000
DTSTAMP:20260422T003910
CREATED:20260102T205623Z
LAST-MODIFIED:20260102T205623Z
UID:10026441-1810969200-1811001600@visitdelco.com
SUMMARY:Grace Winery Tasting Room Open
DESCRIPTION:
URL:https://visitdelco.com/event/grace-winery-tasting-room-open-2/2027-05-22/
LOCATION:Grace Winery\, 50 Sweetwater Road\, Glen Mills\, PA\, 19342\, United States
CATEGORIES:Beer & Wine
ATTACH;FMTTYPE=image/jpeg:https://visitdelco.com/wp-content/uploads/2026/01/470957191_18473535256031157_5868799862873849427_n.jpg
END:VEVENT
BEGIN:VEVENT
DTSTART;TZID=America/New_York:20270528T110000
DTEND;TZID=America/New_York:20270528T160000
DTSTAMP:20260422T003910
CREATED:20260102T211330Z
LAST-MODIFIED:20260102T211330Z
UID:10026704-1811502000-1811520000@visitdelco.com
SUMMARY:Grace Winery Tasting Room Open
DESCRIPTION:
URL:https://visitdelco.com/event/grace-winery-tasting-room-open/2027-05-28/
LOCATION:Grace Winery\, 50 Sweetwater Road\, Glen Mills\, PA\, 19342\, United States
CATEGORIES:Beer & Wine
ATTACH;FMTTYPE=image/jpeg:https://visitdelco.com/wp-content/uploads/2026/01/470957191_18473535256031157_5868799862873849427_n.jpg
END:VEVENT
BEGIN:VEVENT
DTSTART;TZID=America/New_York:20270529T070000
DTEND;TZID=America/New_York:20270529T160000
DTSTAMP:20260422T003910
CREATED:20260102T205623Z
LAST-MODIFIED:20260102T205623Z
UID:10026442-1811574000-1811606400@visitdelco.com
SUMMARY:Grace Winery Tasting Room Open
DESCRIPTION:
URL:https://visitdelco.com/event/grace-winery-tasting-room-open-2/2027-05-29/
LOCATION:Grace Winery\, 50 Sweetwater Road\, Glen Mills\, PA\, 19342\, United States
CATEGORIES:Beer & Wine
ATTACH;FMTTYPE=image/jpeg:https://visitdelco.com/wp-content/uploads/2026/01/470957191_18473535256031157_5868799862873849427_n.jpg
END:VEVENT
BEGIN:VEVENT
DTSTART;TZID=America/New_York:20270604T110000
DTEND;TZID=America/New_York:20270604T160000
DTSTAMP:20260422T003910
CREATED:20260102T211330Z
LAST-MODIFIED:20260102T211330Z
UID:10026705-1812106800-1812124800@visitdelco.com
SUMMARY:Grace Winery Tasting Room Open
DESCRIPTION:
URL:https://visitdelco.com/event/grace-winery-tasting-room-open/2027-06-04/
LOCATION:Grace Winery\, 50 Sweetwater Road\, Glen Mills\, PA\, 19342\, United States
CATEGORIES:Beer & Wine
ATTACH;FMTTYPE=image/jpeg:https://visitdelco.com/wp-content/uploads/2026/01/470957191_18473535256031157_5868799862873849427_n.jpg
END:VEVENT
BEGIN:VEVENT
DTSTART;TZID=America/New_York:20270605T070000
DTEND;TZID=America/New_York:20270605T160000
DTSTAMP:20260422T003910
CREATED:20260102T205623Z
LAST-MODIFIED:20260102T205623Z
UID:10026443-1812178800-1812211200@visitdelco.com
SUMMARY:Grace Winery Tasting Room Open
DESCRIPTION:
URL:https://visitdelco.com/event/grace-winery-tasting-room-open-2/2027-06-05/
LOCATION:Grace Winery\, 50 Sweetwater Road\, Glen Mills\, PA\, 19342\, United States
CATEGORIES:Beer & Wine
ATTACH;FMTTYPE=image/jpeg:https://visitdelco.com/wp-content/uploads/2026/01/470957191_18473535256031157_5868799862873849427_n.jpg
END:VEVENT
BEGIN:VEVENT
DTSTART;TZID=America/New_York:20270611T110000
DTEND;TZID=America/New_York:20270611T160000
DTSTAMP:20260422T003910
CREATED:20260102T211330Z
LAST-MODIFIED:20260102T211330Z
UID:10026706-1812711600-1812729600@visitdelco.com
SUMMARY:Grace Winery Tasting Room Open
DESCRIPTION:
URL:https://visitdelco.com/event/grace-winery-tasting-room-open/2027-06-11/
LOCATION:Grace Winery\, 50 Sweetwater Road\, Glen Mills\, PA\, 19342\, United States
CATEGORIES:Beer & Wine
ATTACH;FMTTYPE=image/jpeg:https://visitdelco.com/wp-content/uploads/2026/01/470957191_18473535256031157_5868799862873849427_n.jpg
END:VEVENT
BEGIN:VEVENT
DTSTART;TZID=America/New_York:20270612T070000
DTEND;TZID=America/New_York:20270612T160000
DTSTAMP:20260422T003910
CREATED:20260102T205623Z
LAST-MODIFIED:20260102T205623Z
UID:10026444-1812783600-1812816000@visitdelco.com
SUMMARY:Grace Winery Tasting Room Open
DESCRIPTION:
URL:https://visitdelco.com/event/grace-winery-tasting-room-open-2/2027-06-12/
LOCATION:Grace Winery\, 50 Sweetwater Road\, Glen Mills\, PA\, 19342\, United States
CATEGORIES:Beer & Wine
ATTACH;FMTTYPE=image/jpeg:https://visitdelco.com/wp-content/uploads/2026/01/470957191_18473535256031157_5868799862873849427_n.jpg
END:VEVENT
BEGIN:VEVENT
DTSTART;TZID=America/New_York:20270618T110000
DTEND;TZID=America/New_York:20270618T160000
DTSTAMP:20260422T003910
CREATED:20260102T211330Z
LAST-MODIFIED:20260102T211330Z
UID:10026707-1813316400-1813334400@visitdelco.com
SUMMARY:Grace Winery Tasting Room Open
DESCRIPTION:
URL:https://visitdelco.com/event/grace-winery-tasting-room-open/2027-06-18/
LOCATION:Grace Winery\, 50 Sweetwater Road\, Glen Mills\, PA\, 19342\, United States
CATEGORIES:Beer & Wine
ATTACH;FMTTYPE=image/jpeg:https://visitdelco.com/wp-content/uploads/2026/01/470957191_18473535256031157_5868799862873849427_n.jpg
END:VEVENT
BEGIN:VEVENT
DTSTART;TZID=America/New_York:20270619T070000
DTEND;TZID=America/New_York:20270619T160000
DTSTAMP:20260422T003910
CREATED:20260102T205623Z
LAST-MODIFIED:20260102T205623Z
UID:10026445-1813388400-1813420800@visitdelco.com
SUMMARY:Grace Winery Tasting Room Open
DESCRIPTION:
URL:https://visitdelco.com/event/grace-winery-tasting-room-open-2/2027-06-19/
LOCATION:Grace Winery\, 50 Sweetwater Road\, Glen Mills\, PA\, 19342\, United States
CATEGORIES:Beer & Wine
ATTACH;FMTTYPE=image/jpeg:https://visitdelco.com/wp-content/uploads/2026/01/470957191_18473535256031157_5868799862873849427_n.jpg
END:VEVENT
BEGIN:VEVENT
DTSTART;TZID=America/New_York:20270625T110000
DTEND;TZID=America/New_York:20270625T160000
DTSTAMP:20260422T003911
CREATED:20260102T211330Z
LAST-MODIFIED:20260102T211330Z
UID:10026708-1813921200-1813939200@visitdelco.com
SUMMARY:Grace Winery Tasting Room Open
DESCRIPTION:
URL:https://visitdelco.com/event/grace-winery-tasting-room-open/2027-06-25/
LOCATION:Grace Winery\, 50 Sweetwater Road\, Glen Mills\, PA\, 19342\, United States
CATEGORIES:Beer & Wine
ATTACH;FMTTYPE=image/jpeg:https://visitdelco.com/wp-content/uploads/2026/01/470957191_18473535256031157_5868799862873849427_n.jpg
END:VEVENT
BEGIN:VEVENT
DTSTART;TZID=America/New_York:20270626T070000
DTEND;TZID=America/New_York:20270626T160000
DTSTAMP:20260422T003911
CREATED:20260102T205623Z
LAST-MODIFIED:20260102T205623Z
UID:10026446-1813993200-1814025600@visitdelco.com
SUMMARY:Grace Winery Tasting Room Open
DESCRIPTION:
URL:https://visitdelco.com/event/grace-winery-tasting-room-open-2/2027-06-26/
LOCATION:Grace Winery\, 50 Sweetwater Road\, Glen Mills\, PA\, 19342\, United States
CATEGORIES:Beer & Wine
ATTACH;FMTTYPE=image/jpeg:https://visitdelco.com/wp-content/uploads/2026/01/470957191_18473535256031157_5868799862873849427_n.jpg
END:VEVENT
BEGIN:VEVENT
DTSTART;TZID=America/New_York:20270702T110000
DTEND;TZID=America/New_York:20270702T160000
DTSTAMP:20260422T003911
CREATED:20260102T211330Z
LAST-MODIFIED:20260102T211330Z
UID:10026709-1814526000-1814544000@visitdelco.com
SUMMARY:Grace Winery Tasting Room Open
DESCRIPTION:
URL:https://visitdelco.com/event/grace-winery-tasting-room-open/2027-07-02/
LOCATION:Grace Winery\, 50 Sweetwater Road\, Glen Mills\, PA\, 19342\, United States
CATEGORIES:Beer & Wine
ATTACH;FMTTYPE=image/jpeg:https://visitdelco.com/wp-content/uploads/2026/01/470957191_18473535256031157_5868799862873849427_n.jpg
END:VEVENT
BEGIN:VEVENT
DTSTART;TZID=America/New_York:20270703T070000
DTEND;TZID=America/New_York:20270703T160000
DTSTAMP:20260422T003911
CREATED:20260102T205623Z
LAST-MODIFIED:20260102T205623Z
UID:10026447-1814598000-1814630400@visitdelco.com
SUMMARY:Grace Winery Tasting Room Open
DESCRIPTION:
URL:https://visitdelco.com/event/grace-winery-tasting-room-open-2/2027-07-03/
LOCATION:Grace Winery\, 50 Sweetwater Road\, Glen Mills\, PA\, 19342\, United States
CATEGORIES:Beer & Wine
ATTACH;FMTTYPE=image/jpeg:https://visitdelco.com/wp-content/uploads/2026/01/470957191_18473535256031157_5868799862873849427_n.jpg
END:VEVENT
BEGIN:VEVENT
DTSTART;TZID=America/New_York:20270709T110000
DTEND;TZID=America/New_York:20270709T160000
DTSTAMP:20260422T003911
CREATED:20260102T211330Z
LAST-MODIFIED:20260102T211330Z
UID:10026710-1815130800-1815148800@visitdelco.com
SUMMARY:Grace Winery Tasting Room Open
DESCRIPTION:
URL:https://visitdelco.com/event/grace-winery-tasting-room-open/2027-07-09/
LOCATION:Grace Winery\, 50 Sweetwater Road\, Glen Mills\, PA\, 19342\, United States
CATEGORIES:Beer & Wine
ATTACH;FMTTYPE=image/jpeg:https://visitdelco.com/wp-content/uploads/2026/01/470957191_18473535256031157_5868799862873849427_n.jpg
END:VEVENT
BEGIN:VEVENT
DTSTART;TZID=America/New_York:20270710T070000
DTEND;TZID=America/New_York:20270710T160000
DTSTAMP:20260422T003911
CREATED:20260102T205623Z
LAST-MODIFIED:20260102T205623Z
UID:10026448-1815202800-1815235200@visitdelco.com
SUMMARY:Grace Winery Tasting Room Open
DESCRIPTION:
URL:https://visitdelco.com/event/grace-winery-tasting-room-open-2/2027-07-10/
LOCATION:Grace Winery\, 50 Sweetwater Road\, Glen Mills\, PA\, 19342\, United States
CATEGORIES:Beer & Wine
ATTACH;FMTTYPE=image/jpeg:https://visitdelco.com/wp-content/uploads/2026/01/470957191_18473535256031157_5868799862873849427_n.jpg
END:VEVENT
BEGIN:VEVENT
DTSTART;TZID=America/New_York:20270716T110000
DTEND;TZID=America/New_York:20270716T160000
DTSTAMP:20260422T003911
CREATED:20260102T211330Z
LAST-MODIFIED:20260102T211330Z
UID:10026711-1815735600-1815753600@visitdelco.com
SUMMARY:Grace Winery Tasting Room Open
DESCRIPTION:
URL:https://visitdelco.com/event/grace-winery-tasting-room-open/2027-07-16/
LOCATION:Grace Winery\, 50 Sweetwater Road\, Glen Mills\, PA\, 19342\, United States
CATEGORIES:Beer & Wine
ATTACH;FMTTYPE=image/jpeg:https://visitdelco.com/wp-content/uploads/2026/01/470957191_18473535256031157_5868799862873849427_n.jpg
END:VEVENT
BEGIN:VEVENT
DTSTART;TZID=America/New_York:20270717T070000
DTEND;TZID=America/New_York:20270717T160000
DTSTAMP:20260422T003911
CREATED:20260102T205623Z
LAST-MODIFIED:20260102T205623Z
UID:10026449-1815807600-1815840000@visitdelco.com
SUMMARY:Grace Winery Tasting Room Open
DESCRIPTION:
URL:https://visitdelco.com/event/grace-winery-tasting-room-open-2/2027-07-17/
LOCATION:Grace Winery\, 50 Sweetwater Road\, Glen Mills\, PA\, 19342\, United States
CATEGORIES:Beer & Wine
ATTACH;FMTTYPE=image/jpeg:https://visitdelco.com/wp-content/uploads/2026/01/470957191_18473535256031157_5868799862873849427_n.jpg
END:VEVENT
BEGIN:VEVENT
DTSTART;TZID=America/New_York:20270723T110000
DTEND;TZID=America/New_York:20270723T160000
DTSTAMP:20260422T003911
CREATED:20260102T211330Z
LAST-MODIFIED:20260102T211330Z
UID:10026712-1816340400-1816358400@visitdelco.com
SUMMARY:Grace Winery Tasting Room Open
DESCRIPTION:
URL:https://visitdelco.com/event/grace-winery-tasting-room-open/2027-07-23/
LOCATION:Grace Winery\, 50 Sweetwater Road\, Glen Mills\, PA\, 19342\, United States
CATEGORIES:Beer & Wine
ATTACH;FMTTYPE=image/jpeg:https://visitdelco.com/wp-content/uploads/2026/01/470957191_18473535256031157_5868799862873849427_n.jpg
END:VEVENT
BEGIN:VEVENT
DTSTART;TZID=America/New_York:20270724T070000
DTEND;TZID=America/New_York:20270724T160000
DTSTAMP:20260422T003911
CREATED:20260102T205623Z
LAST-MODIFIED:20260102T205623Z
UID:10026450-1816412400-1816444800@visitdelco.com
SUMMARY:Grace Winery Tasting Room Open
DESCRIPTION:
URL:https://visitdelco.com/event/grace-winery-tasting-room-open-2/2027-07-24/
LOCATION:Grace Winery\, 50 Sweetwater Road\, Glen Mills\, PA\, 19342\, United States
CATEGORIES:Beer & Wine
ATTACH;FMTTYPE=image/jpeg:https://visitdelco.com/wp-content/uploads/2026/01/470957191_18473535256031157_5868799862873849427_n.jpg
END:VEVENT
BEGIN:VEVENT
DTSTART;TZID=America/New_York:20270730T110000
DTEND;TZID=America/New_York:20270730T160000
DTSTAMP:20260422T003911
CREATED:20260102T211330Z
LAST-MODIFIED:20260102T211330Z
UID:10026713-1816945200-1816963200@visitdelco.com
SUMMARY:Grace Winery Tasting Room Open
DESCRIPTION:
URL:https://visitdelco.com/event/grace-winery-tasting-room-open/2027-07-30/
LOCATION:Grace Winery\, 50 Sweetwater Road\, Glen Mills\, PA\, 19342\, United States
CATEGORIES:Beer & Wine
ATTACH;FMTTYPE=image/jpeg:https://visitdelco.com/wp-content/uploads/2026/01/470957191_18473535256031157_5868799862873849427_n.jpg
END:VEVENT
BEGIN:VEVENT
DTSTART;TZID=America/New_York:20270731T070000
DTEND;TZID=America/New_York:20270731T160000
DTSTAMP:20260422T003911
CREATED:20260102T205623Z
LAST-MODIFIED:20260102T205623Z
UID:10026451-1817017200-1817049600@visitdelco.com
SUMMARY:Grace Winery Tasting Room Open
DESCRIPTION:
URL:https://visitdelco.com/event/grace-winery-tasting-room-open-2/2027-07-31/
LOCATION:Grace Winery\, 50 Sweetwater Road\, Glen Mills\, PA\, 19342\, United States
CATEGORIES:Beer & Wine
ATTACH;FMTTYPE=image/jpeg:https://visitdelco.com/wp-content/uploads/2026/01/470957191_18473535256031157_5868799862873849427_n.jpg
END:VEVENT
BEGIN:VEVENT
DTSTART;TZID=America/New_York:20270806T110000
DTEND;TZID=America/New_York:20270806T160000
DTSTAMP:20260422T003911
CREATED:20260102T211330Z
LAST-MODIFIED:20260102T211330Z
UID:10026714-1817550000-1817568000@visitdelco.com
SUMMARY:Grace Winery Tasting Room Open
DESCRIPTION:
URL:https://visitdelco.com/event/grace-winery-tasting-room-open/2027-08-06/
LOCATION:Grace Winery\, 50 Sweetwater Road\, Glen Mills\, PA\, 19342\, United States
CATEGORIES:Beer & Wine
ATTACH;FMTTYPE=image/jpeg:https://visitdelco.com/wp-content/uploads/2026/01/470957191_18473535256031157_5868799862873849427_n.jpg
END:VEVENT
BEGIN:VEVENT
DTSTART;TZID=America/New_York:20270807T070000
DTEND;TZID=America/New_York:20270807T160000
DTSTAMP:20260422T003911
CREATED:20260102T205623Z
LAST-MODIFIED:20260102T205623Z
UID:10026452-1817622000-1817654400@visitdelco.com
SUMMARY:Grace Winery Tasting Room Open
DESCRIPTION:
URL:https://visitdelco.com/event/grace-winery-tasting-room-open-2/2027-08-07/
LOCATION:Grace Winery\, 50 Sweetwater Road\, Glen Mills\, PA\, 19342\, United States
CATEGORIES:Beer & Wine
ATTACH;FMTTYPE=image/jpeg:https://visitdelco.com/wp-content/uploads/2026/01/470957191_18473535256031157_5868799862873849427_n.jpg
END:VEVENT
BEGIN:VEVENT
DTSTART;TZID=America/New_York:20270813T110000
DTEND;TZID=America/New_York:20270813T160000
DTSTAMP:20260422T003911
CREATED:20260102T211330Z
LAST-MODIFIED:20260102T211330Z
UID:10026715-1818154800-1818172800@visitdelco.com
SUMMARY:Grace Winery Tasting Room Open
DESCRIPTION:
URL:https://visitdelco.com/event/grace-winery-tasting-room-open/2027-08-13/
LOCATION:Grace Winery\, 50 Sweetwater Road\, Glen Mills\, PA\, 19342\, United States
CATEGORIES:Beer & Wine
ATTACH;FMTTYPE=image/jpeg:https://visitdelco.com/wp-content/uploads/2026/01/470957191_18473535256031157_5868799862873849427_n.jpg
END:VEVENT
BEGIN:VEVENT
DTSTART;TZID=America/New_York:20270814T070000
DTEND;TZID=America/New_York:20270814T160000
DTSTAMP:20260422T003911
CREATED:20260102T205623Z
LAST-MODIFIED:20260102T205623Z
UID:10026453-1818226800-1818259200@visitdelco.com
SUMMARY:Grace Winery Tasting Room Open
DESCRIPTION:
URL:https://visitdelco.com/event/grace-winery-tasting-room-open-2/2027-08-14/
LOCATION:Grace Winery\, 50 Sweetwater Road\, Glen Mills\, PA\, 19342\, United States
CATEGORIES:Beer & Wine
ATTACH;FMTTYPE=image/jpeg:https://visitdelco.com/wp-content/uploads/2026/01/470957191_18473535256031157_5868799862873849427_n.jpg
END:VEVENT
BEGIN:VEVENT
DTSTART;TZID=America/New_York:20270820T110000
DTEND;TZID=America/New_York:20270820T160000
DTSTAMP:20260422T003911
CREATED:20260102T211330Z
LAST-MODIFIED:20260102T211330Z
UID:10026716-1818759600-1818777600@visitdelco.com
SUMMARY:Grace Winery Tasting Room Open
DESCRIPTION:
URL:https://visitdelco.com/event/grace-winery-tasting-room-open/2027-08-20/
LOCATION:Grace Winery\, 50 Sweetwater Road\, Glen Mills\, PA\, 19342\, United States
CATEGORIES:Beer & Wine
ATTACH;FMTTYPE=image/jpeg:https://visitdelco.com/wp-content/uploads/2026/01/470957191_18473535256031157_5868799862873849427_n.jpg
END:VEVENT
BEGIN:VEVENT
DTSTART;TZID=America/New_York:20270821T070000
DTEND;TZID=America/New_York:20270821T160000
DTSTAMP:20260422T003911
CREATED:20260102T205623Z
LAST-MODIFIED:20260102T205623Z
UID:10026454-1818831600-1818864000@visitdelco.com
SUMMARY:Grace Winery Tasting Room Open
DESCRIPTION:
URL:https://visitdelco.com/event/grace-winery-tasting-room-open-2/2027-08-21/
LOCATION:Grace Winery\, 50 Sweetwater Road\, Glen Mills\, PA\, 19342\, United States
CATEGORIES:Beer & Wine
ATTACH;FMTTYPE=image/jpeg:https://visitdelco.com/wp-content/uploads/2026/01/470957191_18473535256031157_5868799862873849427_n.jpg
END:VEVENT
END:VCALENDAR