BEGIN:VCALENDAR
VERSION:2.0
PRODID:-//Visit Delco, PA - ECPv6.15.17.1//NONSGML v1.0//EN
CALSCALE:GREGORIAN
METHOD:PUBLISH
X-ORIGINAL-URL:https://visitdelco.com
X-WR-CALDESC:Events for Visit Delco, PA
REFRESH-INTERVAL;VALUE=DURATION:PT1H
X-Robots-Tag:noindex
X-PUBLISHED-TTL:PT1H
BEGIN:VTIMEZONE
TZID:America/New_York
BEGIN:DAYLIGHT
TZOFFSETFROM:-0500
TZOFFSETTO:-0400
TZNAME:EDT
DTSTART:20300310T070000
END:DAYLIGHT
BEGIN:STANDARD
TZOFFSETFROM:-0400
TZOFFSETTO:-0500
TZNAME:EST
DTSTART:20301103T060000
END:STANDARD
BEGIN:DAYLIGHT
TZOFFSETFROM:-0500
TZOFFSETTO:-0400
TZNAME:EDT
DTSTART:20310309T070000
END:DAYLIGHT
BEGIN:STANDARD
TZOFFSETFROM:-0400
TZOFFSETTO:-0500
TZNAME:EST
DTSTART:20311102T060000
END:STANDARD
BEGIN:DAYLIGHT
TZOFFSETFROM:-0500
TZOFFSETTO:-0400
TZNAME:EDT
DTSTART:20320314T070000
END:DAYLIGHT
BEGIN:STANDARD
TZOFFSETFROM:-0400
TZOFFSETTO:-0500
TZNAME:EST
DTSTART:20321107T060000
END:STANDARD
END:VTIMEZONE
BEGIN:VEVENT
DTSTART;TZID=America/New_York:20310313T050000
DTEND;TZID=America/New_York:20310313T100000
DTSTAMP:20260425T090127
CREATED:20260103T004825Z
LAST-MODIFIED:20260103T004825Z
UID:10033829-1931144400-1931162400@visitdelco.com
SUMMARY:Delaware County Historical Society Office and Research Center:  Open to Public
DESCRIPTION:Delaware County Historical Society offers a fascinating look into the County’s rich past. Explore engaging exhibits\, local artifacts\, and well-curated displays that bring Delaware County’s stories to life. The knowledgeable staff and welcoming atmosphere make it perfect for history buffs\, families\, and curious visitors alike. It’s a meaningful way to connect with the community’s heritage.
URL:https://visitdelco.com/event/delaware-county-historical-society-office-and-research-center-open-to-public/2031-03-13/
LOCATION:Delaware County Historical Society\, 9 W. Front Street\, Media\, PA\, 19063\, United States
CATEGORIES:History & Heritage,Exhibits & Galleries,Educational
ATTACH;FMTTYPE=image/avif:https://visitdelco.com/wp-content/uploads/2026/01/022431_a6bf54e696524e04820e043c6b83995fmv2.avif
END:VEVENT
BEGIN:VEVENT
DTSTART;TZID=America/New_York:20310318T050000
DTEND;TZID=America/New_York:20310318T100000
DTSTAMP:20260425T090127
CREATED:20260103T004825Z
LAST-MODIFIED:20260103T004825Z
UID:10033870-1931576400-1931594400@visitdelco.com
SUMMARY:Delaware County Historical Society Office and Research Center:  Open to Public
DESCRIPTION:Delaware County Historical Society offers a fascinating look into the County’s rich past. Explore engaging exhibits\, local artifacts\, and well-curated displays that bring Delaware County’s stories to life. The knowledgeable staff and welcoming atmosphere make it perfect for history buffs\, families\, and curious visitors alike. It’s a meaningful way to connect with the community’s heritage.
URL:https://visitdelco.com/event/delaware-county-historical-society-office-and-research-center-open-to-public/2031-03-18/
LOCATION:Delaware County Historical Society\, 9 W. Front Street\, Media\, PA\, 19063\, United States
CATEGORIES:History & Heritage,Exhibits & Galleries,Educational
ATTACH;FMTTYPE=image/avif:https://visitdelco.com/wp-content/uploads/2026/01/022431_a6bf54e696524e04820e043c6b83995fmv2.avif
END:VEVENT
BEGIN:VEVENT
DTSTART;TZID=America/New_York:20310319T050000
DTEND;TZID=America/New_York:20310319T100000
DTSTAMP:20260425T090127
CREATED:20260103T004825Z
LAST-MODIFIED:20260103T004825Z
UID:10033872-1931662800-1931680800@visitdelco.com
SUMMARY:Delaware County Historical Society Office and Research Center:  Open to Public
DESCRIPTION:Delaware County Historical Society offers a fascinating look into the County’s rich past. Explore engaging exhibits\, local artifacts\, and well-curated displays that bring Delaware County’s stories to life. The knowledgeable staff and welcoming atmosphere make it perfect for history buffs\, families\, and curious visitors alike. It’s a meaningful way to connect with the community’s heritage.
URL:https://visitdelco.com/event/delaware-county-historical-society-office-and-research-center-open-to-public/2031-03-19/
LOCATION:Delaware County Historical Society\, 9 W. Front Street\, Media\, PA\, 19063\, United States
CATEGORIES:History & Heritage,Exhibits & Galleries,Educational
ATTACH;FMTTYPE=image/avif:https://visitdelco.com/wp-content/uploads/2026/01/022431_a6bf54e696524e04820e043c6b83995fmv2.avif
END:VEVENT
BEGIN:VEVENT
DTSTART;TZID=America/New_York:20310320T050000
DTEND;TZID=America/New_York:20310320T100000
DTSTAMP:20260425T090127
CREATED:20260103T004825Z
LAST-MODIFIED:20260103T004825Z
UID:10033881-1931749200-1931767200@visitdelco.com
SUMMARY:Delaware County Historical Society Office and Research Center:  Open to Public
DESCRIPTION:Delaware County Historical Society offers a fascinating look into the County’s rich past. Explore engaging exhibits\, local artifacts\, and well-curated displays that bring Delaware County’s stories to life. The knowledgeable staff and welcoming atmosphere make it perfect for history buffs\, families\, and curious visitors alike. It’s a meaningful way to connect with the community’s heritage.
URL:https://visitdelco.com/event/delaware-county-historical-society-office-and-research-center-open-to-public/2031-03-20/
LOCATION:Delaware County Historical Society\, 9 W. Front Street\, Media\, PA\, 19063\, United States
CATEGORIES:History & Heritage,Exhibits & Galleries,Educational
ATTACH;FMTTYPE=image/avif:https://visitdelco.com/wp-content/uploads/2026/01/022431_a6bf54e696524e04820e043c6b83995fmv2.avif
END:VEVENT
BEGIN:VEVENT
DTSTART;TZID=America/New_York:20310325T050000
DTEND;TZID=America/New_York:20310325T100000
DTSTAMP:20260425T090127
CREATED:20260103T004825Z
LAST-MODIFIED:20260103T004825Z
UID:10033882-1932181200-1932199200@visitdelco.com
SUMMARY:Delaware County Historical Society Office and Research Center:  Open to Public
DESCRIPTION:Delaware County Historical Society offers a fascinating look into the County’s rich past. Explore engaging exhibits\, local artifacts\, and well-curated displays that bring Delaware County’s stories to life. The knowledgeable staff and welcoming atmosphere make it perfect for history buffs\, families\, and curious visitors alike. It’s a meaningful way to connect with the community’s heritage.
URL:https://visitdelco.com/event/delaware-county-historical-society-office-and-research-center-open-to-public/2031-03-25/
LOCATION:Delaware County Historical Society\, 9 W. Front Street\, Media\, PA\, 19063\, United States
CATEGORIES:History & Heritage,Exhibits & Galleries,Educational
ATTACH;FMTTYPE=image/avif:https://visitdelco.com/wp-content/uploads/2026/01/022431_a6bf54e696524e04820e043c6b83995fmv2.avif
END:VEVENT
BEGIN:VEVENT
DTSTART;TZID=America/New_York:20310326T050000
DTEND;TZID=America/New_York:20310326T100000
DTSTAMP:20260425T090127
CREATED:20260103T004825Z
LAST-MODIFIED:20260103T004825Z
UID:10033884-1932267600-1932285600@visitdelco.com
SUMMARY:Delaware County Historical Society Office and Research Center:  Open to Public
DESCRIPTION:Delaware County Historical Society offers a fascinating look into the County’s rich past. Explore engaging exhibits\, local artifacts\, and well-curated displays that bring Delaware County’s stories to life. The knowledgeable staff and welcoming atmosphere make it perfect for history buffs\, families\, and curious visitors alike. It’s a meaningful way to connect with the community’s heritage.
URL:https://visitdelco.com/event/delaware-county-historical-society-office-and-research-center-open-to-public/2031-03-26/
LOCATION:Delaware County Historical Society\, 9 W. Front Street\, Media\, PA\, 19063\, United States
CATEGORIES:History & Heritage,Exhibits & Galleries,Educational
ATTACH;FMTTYPE=image/avif:https://visitdelco.com/wp-content/uploads/2026/01/022431_a6bf54e696524e04820e043c6b83995fmv2.avif
END:VEVENT
BEGIN:VEVENT
DTSTART;TZID=America/New_York:20310327T050000
DTEND;TZID=America/New_York:20310327T100000
DTSTAMP:20260425T090127
CREATED:20260103T004825Z
LAST-MODIFIED:20260103T004825Z
UID:10033954-1932354000-1932372000@visitdelco.com
SUMMARY:Delaware County Historical Society Office and Research Center:  Open to Public
DESCRIPTION:Delaware County Historical Society offers a fascinating look into the County’s rich past. Explore engaging exhibits\, local artifacts\, and well-curated displays that bring Delaware County’s stories to life. The knowledgeable staff and welcoming atmosphere make it perfect for history buffs\, families\, and curious visitors alike. It’s a meaningful way to connect with the community’s heritage.
URL:https://visitdelco.com/event/delaware-county-historical-society-office-and-research-center-open-to-public/2031-03-27/
LOCATION:Delaware County Historical Society\, 9 W. Front Street\, Media\, PA\, 19063\, United States
CATEGORIES:History & Heritage,Exhibits & Galleries,Educational
ATTACH;FMTTYPE=image/avif:https://visitdelco.com/wp-content/uploads/2026/01/022431_a6bf54e696524e04820e043c6b83995fmv2.avif
END:VEVENT
BEGIN:VEVENT
DTSTART;TZID=America/New_York:20310401T050000
DTEND;TZID=America/New_York:20310401T100000
DTSTAMP:20260425T090127
CREATED:20260103T004825Z
LAST-MODIFIED:20260103T004825Z
UID:10033955-1932786000-1932804000@visitdelco.com
SUMMARY:Delaware County Historical Society Office and Research Center:  Open to Public
DESCRIPTION:Delaware County Historical Society offers a fascinating look into the County’s rich past. Explore engaging exhibits\, local artifacts\, and well-curated displays that bring Delaware County’s stories to life. The knowledgeable staff and welcoming atmosphere make it perfect for history buffs\, families\, and curious visitors alike. It’s a meaningful way to connect with the community’s heritage.
URL:https://visitdelco.com/event/delaware-county-historical-society-office-and-research-center-open-to-public/2031-04-01/
LOCATION:Delaware County Historical Society\, 9 W. Front Street\, Media\, PA\, 19063\, United States
CATEGORIES:History & Heritage,Exhibits & Galleries,Educational
ATTACH;FMTTYPE=image/avif:https://visitdelco.com/wp-content/uploads/2026/01/022431_a6bf54e696524e04820e043c6b83995fmv2.avif
END:VEVENT
BEGIN:VEVENT
DTSTART;TZID=America/New_York:20310402T050000
DTEND;TZID=America/New_York:20310402T100000
DTSTAMP:20260425T090127
CREATED:20260103T004825Z
LAST-MODIFIED:20260103T004825Z
UID:10033956-1932872400-1932890400@visitdelco.com
SUMMARY:Delaware County Historical Society Office and Research Center:  Open to Public
DESCRIPTION:Delaware County Historical Society offers a fascinating look into the County’s rich past. Explore engaging exhibits\, local artifacts\, and well-curated displays that bring Delaware County’s stories to life. The knowledgeable staff and welcoming atmosphere make it perfect for history buffs\, families\, and curious visitors alike. It’s a meaningful way to connect with the community’s heritage.
URL:https://visitdelco.com/event/delaware-county-historical-society-office-and-research-center-open-to-public/2031-04-02/
LOCATION:Delaware County Historical Society\, 9 W. Front Street\, Media\, PA\, 19063\, United States
CATEGORIES:History & Heritage,Exhibits & Galleries,Educational
ATTACH;FMTTYPE=image/avif:https://visitdelco.com/wp-content/uploads/2026/01/022431_a6bf54e696524e04820e043c6b83995fmv2.avif
END:VEVENT
BEGIN:VEVENT
DTSTART;TZID=America/New_York:20310403T050000
DTEND;TZID=America/New_York:20310403T100000
DTSTAMP:20260425T090127
CREATED:20260103T004825Z
LAST-MODIFIED:20260103T004825Z
UID:10033957-1932958800-1932976800@visitdelco.com
SUMMARY:Delaware County Historical Society Office and Research Center:  Open to Public
DESCRIPTION:Delaware County Historical Society offers a fascinating look into the County’s rich past. Explore engaging exhibits\, local artifacts\, and well-curated displays that bring Delaware County’s stories to life. The knowledgeable staff and welcoming atmosphere make it perfect for history buffs\, families\, and curious visitors alike. It’s a meaningful way to connect with the community’s heritage.
URL:https://visitdelco.com/event/delaware-county-historical-society-office-and-research-center-open-to-public/2031-04-03/
LOCATION:Delaware County Historical Society\, 9 W. Front Street\, Media\, PA\, 19063\, United States
CATEGORIES:History & Heritage,Exhibits & Galleries,Educational
ATTACH;FMTTYPE=image/avif:https://visitdelco.com/wp-content/uploads/2026/01/022431_a6bf54e696524e04820e043c6b83995fmv2.avif
END:VEVENT
BEGIN:VEVENT
DTSTART;TZID=America/New_York:20310408T050000
DTEND;TZID=America/New_York:20310408T100000
DTSTAMP:20260425T090127
CREATED:20260103T004825Z
LAST-MODIFIED:20260103T004825Z
UID:10034150-1933390800-1933408800@visitdelco.com
SUMMARY:Delaware County Historical Society Office and Research Center:  Open to Public
DESCRIPTION:Delaware County Historical Society offers a fascinating look into the County’s rich past. Explore engaging exhibits\, local artifacts\, and well-curated displays that bring Delaware County’s stories to life. The knowledgeable staff and welcoming atmosphere make it perfect for history buffs\, families\, and curious visitors alike. It’s a meaningful way to connect with the community’s heritage.
URL:https://visitdelco.com/event/delaware-county-historical-society-office-and-research-center-open-to-public/2031-04-08/
LOCATION:Delaware County Historical Society\, 9 W. Front Street\, Media\, PA\, 19063\, United States
CATEGORIES:History & Heritage,Exhibits & Galleries,Educational
ATTACH;FMTTYPE=image/avif:https://visitdelco.com/wp-content/uploads/2026/01/022431_a6bf54e696524e04820e043c6b83995fmv2.avif
END:VEVENT
BEGIN:VEVENT
DTSTART;TZID=America/New_York:20310409T050000
DTEND;TZID=America/New_York:20310409T100000
DTSTAMP:20260425T090127
CREATED:20260103T004825Z
LAST-MODIFIED:20260103T004825Z
UID:10034151-1933477200-1933495200@visitdelco.com
SUMMARY:Delaware County Historical Society Office and Research Center:  Open to Public
DESCRIPTION:Delaware County Historical Society offers a fascinating look into the County’s rich past. Explore engaging exhibits\, local artifacts\, and well-curated displays that bring Delaware County’s stories to life. The knowledgeable staff and welcoming atmosphere make it perfect for history buffs\, families\, and curious visitors alike. It’s a meaningful way to connect with the community’s heritage.
URL:https://visitdelco.com/event/delaware-county-historical-society-office-and-research-center-open-to-public/2031-04-09/
LOCATION:Delaware County Historical Society\, 9 W. Front Street\, Media\, PA\, 19063\, United States
CATEGORIES:History & Heritage,Exhibits & Galleries,Educational
ATTACH;FMTTYPE=image/avif:https://visitdelco.com/wp-content/uploads/2026/01/022431_a6bf54e696524e04820e043c6b83995fmv2.avif
END:VEVENT
BEGIN:VEVENT
DTSTART;TZID=America/New_York:20310410T050000
DTEND;TZID=America/New_York:20310410T100000
DTSTAMP:20260425T090127
CREATED:20260103T004825Z
LAST-MODIFIED:20260103T004825Z
UID:10034152-1933563600-1933581600@visitdelco.com
SUMMARY:Delaware County Historical Society Office and Research Center:  Open to Public
DESCRIPTION:Delaware County Historical Society offers a fascinating look into the County’s rich past. Explore engaging exhibits\, local artifacts\, and well-curated displays that bring Delaware County’s stories to life. The knowledgeable staff and welcoming atmosphere make it perfect for history buffs\, families\, and curious visitors alike. It’s a meaningful way to connect with the community’s heritage.
URL:https://visitdelco.com/event/delaware-county-historical-society-office-and-research-center-open-to-public/2031-04-10/
LOCATION:Delaware County Historical Society\, 9 W. Front Street\, Media\, PA\, 19063\, United States
CATEGORIES:History & Heritage,Exhibits & Galleries,Educational
ATTACH;FMTTYPE=image/avif:https://visitdelco.com/wp-content/uploads/2026/01/022431_a6bf54e696524e04820e043c6b83995fmv2.avif
END:VEVENT
BEGIN:VEVENT
DTSTART;TZID=America/New_York:20310415T050000
DTEND;TZID=America/New_York:20310415T100000
DTSTAMP:20260425T090127
CREATED:20260103T004825Z
LAST-MODIFIED:20260103T004825Z
UID:10034874-1933995600-1934013600@visitdelco.com
SUMMARY:Delaware County Historical Society Office and Research Center:  Open to Public
DESCRIPTION:Delaware County Historical Society offers a fascinating look into the County’s rich past. Explore engaging exhibits\, local artifacts\, and well-curated displays that bring Delaware County’s stories to life. The knowledgeable staff and welcoming atmosphere make it perfect for history buffs\, families\, and curious visitors alike. It’s a meaningful way to connect with the community’s heritage.
URL:https://visitdelco.com/event/delaware-county-historical-society-office-and-research-center-open-to-public/2031-04-15/
LOCATION:Delaware County Historical Society\, 9 W. Front Street\, Media\, PA\, 19063\, United States
CATEGORIES:History & Heritage,Exhibits & Galleries,Educational
ATTACH;FMTTYPE=image/avif:https://visitdelco.com/wp-content/uploads/2026/01/022431_a6bf54e696524e04820e043c6b83995fmv2.avif
END:VEVENT
BEGIN:VEVENT
DTSTART;TZID=America/New_York:20310416T050000
DTEND;TZID=America/New_York:20310416T100000
DTSTAMP:20260425T090127
CREATED:20260103T004825Z
LAST-MODIFIED:20260103T004825Z
UID:10034875-1934082000-1934100000@visitdelco.com
SUMMARY:Delaware County Historical Society Office and Research Center:  Open to Public
DESCRIPTION:Delaware County Historical Society offers a fascinating look into the County’s rich past. Explore engaging exhibits\, local artifacts\, and well-curated displays that bring Delaware County’s stories to life. The knowledgeable staff and welcoming atmosphere make it perfect for history buffs\, families\, and curious visitors alike. It’s a meaningful way to connect with the community’s heritage.
URL:https://visitdelco.com/event/delaware-county-historical-society-office-and-research-center-open-to-public/2031-04-16/
LOCATION:Delaware County Historical Society\, 9 W. Front Street\, Media\, PA\, 19063\, United States
CATEGORIES:History & Heritage,Exhibits & Galleries,Educational
ATTACH;FMTTYPE=image/avif:https://visitdelco.com/wp-content/uploads/2026/01/022431_a6bf54e696524e04820e043c6b83995fmv2.avif
END:VEVENT
BEGIN:VEVENT
DTSTART;TZID=America/New_York:20310417T050000
DTEND;TZID=America/New_York:20310417T100000
DTSTAMP:20260425T090128
CREATED:20260103T004825Z
LAST-MODIFIED:20260103T004825Z
UID:10034876-1934168400-1934186400@visitdelco.com
SUMMARY:Delaware County Historical Society Office and Research Center:  Open to Public
DESCRIPTION:Delaware County Historical Society offers a fascinating look into the County’s rich past. Explore engaging exhibits\, local artifacts\, and well-curated displays that bring Delaware County’s stories to life. The knowledgeable staff and welcoming atmosphere make it perfect for history buffs\, families\, and curious visitors alike. It’s a meaningful way to connect with the community’s heritage.
URL:https://visitdelco.com/event/delaware-county-historical-society-office-and-research-center-open-to-public/2031-04-17/
LOCATION:Delaware County Historical Society\, 9 W. Front Street\, Media\, PA\, 19063\, United States
CATEGORIES:History & Heritage,Exhibits & Galleries,Educational
ATTACH;FMTTYPE=image/avif:https://visitdelco.com/wp-content/uploads/2026/01/022431_a6bf54e696524e04820e043c6b83995fmv2.avif
END:VEVENT
BEGIN:VEVENT
DTSTART;TZID=America/New_York:20310422T050000
DTEND;TZID=America/New_York:20310422T100000
DTSTAMP:20260425T090128
CREATED:20260103T004825Z
LAST-MODIFIED:20260103T004825Z
UID:10037099-1934600400-1934618400@visitdelco.com
SUMMARY:Delaware County Historical Society Office and Research Center:  Open to Public
DESCRIPTION:Delaware County Historical Society offers a fascinating look into the County’s rich past. Explore engaging exhibits\, local artifacts\, and well-curated displays that bring Delaware County’s stories to life. The knowledgeable staff and welcoming atmosphere make it perfect for history buffs\, families\, and curious visitors alike. It’s a meaningful way to connect with the community’s heritage.
URL:https://visitdelco.com/event/delaware-county-historical-society-office-and-research-center-open-to-public/2031-04-22/
LOCATION:Delaware County Historical Society\, 9 W. Front Street\, Media\, PA\, 19063\, United States
CATEGORIES:History & Heritage,Exhibits & Galleries,Educational
ATTACH;FMTTYPE=image/avif:https://visitdelco.com/wp-content/uploads/2026/01/022431_a6bf54e696524e04820e043c6b83995fmv2.avif
END:VEVENT
BEGIN:VEVENT
DTSTART;TZID=America/New_York:20310423T050000
DTEND;TZID=America/New_York:20310423T100000
DTSTAMP:20260425T090128
CREATED:20260103T004825Z
LAST-MODIFIED:20260103T004825Z
UID:10037100-1934686800-1934704800@visitdelco.com
SUMMARY:Delaware County Historical Society Office and Research Center:  Open to Public
DESCRIPTION:Delaware County Historical Society offers a fascinating look into the County’s rich past. Explore engaging exhibits\, local artifacts\, and well-curated displays that bring Delaware County’s stories to life. The knowledgeable staff and welcoming atmosphere make it perfect for history buffs\, families\, and curious visitors alike. It’s a meaningful way to connect with the community’s heritage.
URL:https://visitdelco.com/event/delaware-county-historical-society-office-and-research-center-open-to-public/2031-04-23/
LOCATION:Delaware County Historical Society\, 9 W. Front Street\, Media\, PA\, 19063\, United States
CATEGORIES:History & Heritage,Exhibits & Galleries,Educational
ATTACH;FMTTYPE=image/avif:https://visitdelco.com/wp-content/uploads/2026/01/022431_a6bf54e696524e04820e043c6b83995fmv2.avif
END:VEVENT
BEGIN:VEVENT
DTSTART;TZID=America/New_York:20310424T050000
DTEND;TZID=America/New_York:20310424T100000
DTSTAMP:20260425T090128
CREATED:20260103T004825Z
LAST-MODIFIED:20260103T004825Z
UID:10037101-1934773200-1934791200@visitdelco.com
SUMMARY:Delaware County Historical Society Office and Research Center:  Open to Public
DESCRIPTION:Delaware County Historical Society offers a fascinating look into the County’s rich past. Explore engaging exhibits\, local artifacts\, and well-curated displays that bring Delaware County’s stories to life. The knowledgeable staff and welcoming atmosphere make it perfect for history buffs\, families\, and curious visitors alike. It’s a meaningful way to connect with the community’s heritage.
URL:https://visitdelco.com/event/delaware-county-historical-society-office-and-research-center-open-to-public/2031-04-24/
LOCATION:Delaware County Historical Society\, 9 W. Front Street\, Media\, PA\, 19063\, United States
CATEGORIES:History & Heritage,Exhibits & Galleries,Educational
ATTACH;FMTTYPE=image/avif:https://visitdelco.com/wp-content/uploads/2026/01/022431_a6bf54e696524e04820e043c6b83995fmv2.avif
END:VEVENT
END:VCALENDAR