BEGIN:VCALENDAR
VERSION:2.0
PRODID:-//Visit Delco, PA - ECPv6.15.17.1//NONSGML v1.0//EN
CALSCALE:GREGORIAN
METHOD:PUBLISH
X-ORIGINAL-URL:https://visitdelco.com
X-WR-CALDESC:Events for Visit Delco, PA
REFRESH-INTERVAL;VALUE=DURATION:PT1H
X-Robots-Tag:noindex
X-PUBLISHED-TTL:PT1H
BEGIN:VTIMEZONE
TZID:America/New_York
BEGIN:DAYLIGHT
TZOFFSETFROM:-0500
TZOFFSETTO:-0400
TZNAME:EDT
DTSTART:20250309T070000
END:DAYLIGHT
BEGIN:STANDARD
TZOFFSETFROM:-0400
TZOFFSETTO:-0500
TZNAME:EST
DTSTART:20251102T060000
END:STANDARD
BEGIN:DAYLIGHT
TZOFFSETFROM:-0500
TZOFFSETTO:-0400
TZNAME:EDT
DTSTART:20260308T070000
END:DAYLIGHT
BEGIN:STANDARD
TZOFFSETFROM:-0400
TZOFFSETTO:-0500
TZNAME:EST
DTSTART:20261101T060000
END:STANDARD
BEGIN:DAYLIGHT
TZOFFSETFROM:-0500
TZOFFSETTO:-0400
TZNAME:EDT
DTSTART:20270314T070000
END:DAYLIGHT
BEGIN:STANDARD
TZOFFSETFROM:-0400
TZOFFSETTO:-0500
TZNAME:EST
DTSTART:20271107T060000
END:STANDARD
END:VTIMEZONE
BEGIN:VEVENT
DTSTART;TZID=America/New_York:20260424T120000
DTEND;TZID=America/New_York:20260424T150000
DTSTAMP:20260418T051052
CREATED:20260303T005146Z
LAST-MODIFIED:20260303T005833Z
UID:10033364-1777032000-1777042800@visitdelco.com
SUMMARY:2SP Brewing Company:  Live Music with Sam's Duo
DESCRIPTION:
URL:https://visitdelco.com/event/2sp-brewing-copany-live-music-with-sams-duo/2026-04-24/
LOCATION:2SP Brewing Company\, 120 Concord Road - Suite 101-103\, Aston\, PA\, 19014\, United States
CATEGORIES:Concerts & Live Music,Beer & Wine,Arts & Culture
ATTACH;FMTTYPE=image/jpeg:https://visitdelco.com/wp-content/uploads/2026/03/600950228_836008642393760_1044017981292421244_n.jpg
END:VEVENT
BEGIN:VEVENT
DTSTART;TZID=America/New_York:20260501T120000
DTEND;TZID=America/New_York:20260501T150000
DTSTAMP:20260418T051052
CREATED:20260303T004741Z
LAST-MODIFIED:20260303T004741Z
UID:10033359-1777636800-1777647600@visitdelco.com
SUMMARY:2SP Brewing Company:  Live Music with Acoustic Nicki
DESCRIPTION:
URL:https://visitdelco.com/event/2sp-brewing-company-live-music-with-acoustic-nicki/2026-05-01/
LOCATION:2SP Brewing Company\, 120 Concord Road - Suite 101-103\, Aston\, PA\, 19014\, United States
CATEGORIES:Concerts & Live Music,Beer & Wine,Arts & Culture
ATTACH;FMTTYPE=image/jpeg:https://visitdelco.com/wp-content/uploads/2026/03/616823653_858640540130570_4392138382527650655_n.jpg
END:VEVENT
BEGIN:VEVENT
DTSTART;TZID=America/New_York:20260508T130000
DTEND;TZID=America/New_York:20260508T150000
DTSTAMP:20260418T051052
CREATED:20260303T233832Z
LAST-MODIFIED:20260303T233832Z
UID:10033376-1778245200-1778252400@visitdelco.com
SUMMARY:Mother’s Day Flower Bar at 2SP Brewing
DESCRIPTION:A Floral Experience to Celebrate the Women You Love!\nCelebrate Mother’s Day weekend with a fun girls night out at 2SP Brewing. Our Mother’s Day Flower Bar is a fun\, creative experience where you’ll laugh\, enjoy a sip\, and design a spring floral arrangement side-by-side with your favorite women!\nBring Mom\, Grandma\, Auntie\, daughters\, sisters\, or your besties and enjoy a fun night out surrounded by blooms\, laughter\, and brews!\nIncluded in your reservation:\nYour choice of flowers from our bloom bar: roses\, focal blooms\, accent flowers\, greenery & more!Accents: A unique selection of trim like “Happy Mother’s Day” picks\, birds\, butterflies and more!Vessel: We provide the container to make your arrangement!A welcome glass of beer or wine!
URL:https://visitdelco.com/event/mothers-day-flower-bar-at-2sp-brewing/
LOCATION:2SP Brewing Company\, 120 Concord Road - Suite 101-103\, Aston\, PA\, 19014\, United States
CATEGORIES:Workshops/Classes,Seasonal
ATTACH;FMTTYPE=image/jpeg:https://visitdelco.com/wp-content/uploads/2026/03/641419571_122212355714051148_3814570987800693964_n.jpg
END:VEVENT
BEGIN:VEVENT
DTSTART;TZID=America/New_York:20260515T120000
DTEND;TZID=America/New_York:20260515T150000
DTSTAMP:20260418T051052
CREATED:20260303T005146Z
LAST-MODIFIED:20260303T005833Z
UID:10033365-1778846400-1778857200@visitdelco.com
SUMMARY:2SP Brewing Company:  Live Music with Sam's Duo
DESCRIPTION:
URL:https://visitdelco.com/event/2sp-brewing-copany-live-music-with-sams-duo/2026-05-15/
LOCATION:2SP Brewing Company\, 120 Concord Road - Suite 101-103\, Aston\, PA\, 19014\, United States
CATEGORIES:Concerts & Live Music,Beer & Wine,Arts & Culture
ATTACH;FMTTYPE=image/jpeg:https://visitdelco.com/wp-content/uploads/2026/03/600950228_836008642393760_1044017981292421244_n.jpg
END:VEVENT
BEGIN:VEVENT
DTSTART;TZID=America/New_York:20260522T120000
DTEND;TZID=America/New_York:20260522T150000
DTSTAMP:20260418T051052
CREATED:20260303T004113Z
LAST-MODIFIED:20260303T004210Z
UID:10033348-1779451200-1779462000@visitdelco.com
SUMMARY:2SP Brewing Company:  Live music with James Clark
DESCRIPTION:
URL:https://visitdelco.com/event/2sp-brewing-company-live-music-with-james-clark/2026-05-22/
LOCATION:2SP Brewing Company\, 120 Concord Road - Suite 101-103\, Aston\, PA\, 19014\, United States
CATEGORIES:Concerts & Live Music,Beer & Wine,Arts & Culture
ATTACH;FMTTYPE=image/jpeg:https://visitdelco.com/wp-content/uploads/2026/03/607956989_845202064807751_2223363494935927525_n.jpg
END:VEVENT
BEGIN:VEVENT
DTSTART;TZID=America/New_York:20260531T140000
DTEND;TZID=America/New_York:20260531T163000
DTSTAMP:20260418T051052
CREATED:20260416T174141Z
LAST-MODIFIED:20260416T174313Z
UID:10034327-1780236000-1780245000@visitdelco.com
SUMMARY:Community Arts Center: Tri State Jazz Society Concert
DESCRIPTION:
URL:https://visitdelco.com/event/community-arts-center-tri-state-jazz-society-concert-rossano-sportiello/2026-05-31/
LOCATION:2SP Brewing Company\, 120 Concord Road - Suite 101-103\, Aston\, PA\, 19014\, United States
CATEGORIES:Concerts & Live Music,Arts & Culture
ATTACH;FMTTYPE=image/jpeg:https://visitdelco.com/wp-content/uploads/2026/04/Tri-State-Jazz-image-crop.jpeg
END:VEVENT
BEGIN:VEVENT
DTSTART;TZID=America/New_York:20260619T120000
DTEND;TZID=America/New_York:20260619T150000
DTSTAMP:20260418T051052
CREATED:20260303T004741Z
LAST-MODIFIED:20260303T004741Z
UID:10033360-1781870400-1781881200@visitdelco.com
SUMMARY:2SP Brewing Company:  Live Music with Acoustic Nicki
DESCRIPTION:
URL:https://visitdelco.com/event/2sp-brewing-company-live-music-with-acoustic-nicki/2026-06-19/
LOCATION:2SP Brewing Company\, 120 Concord Road - Suite 101-103\, Aston\, PA\, 19014\, United States
CATEGORIES:Concerts & Live Music,Beer & Wine,Arts & Culture
ATTACH;FMTTYPE=image/jpeg:https://visitdelco.com/wp-content/uploads/2026/03/616823653_858640540130570_4392138382527650655_n.jpg
END:VEVENT
BEGIN:VEVENT
DTSTART;TZID=America/New_York:20260626T120000
DTEND;TZID=America/New_York:20260626T150000
DTSTAMP:20260418T051052
CREATED:20260303T005146Z
LAST-MODIFIED:20260303T005833Z
UID:10033366-1782475200-1782486000@visitdelco.com
SUMMARY:2SP Brewing Company:  Live Music with Sam's Duo
DESCRIPTION:
URL:https://visitdelco.com/event/2sp-brewing-copany-live-music-with-sams-duo/2026-06-26/
LOCATION:2SP Brewing Company\, 120 Concord Road - Suite 101-103\, Aston\, PA\, 19014\, United States
CATEGORIES:Concerts & Live Music,Beer & Wine,Arts & Culture
ATTACH;FMTTYPE=image/jpeg:https://visitdelco.com/wp-content/uploads/2026/03/600950228_836008642393760_1044017981292421244_n.jpg
END:VEVENT
BEGIN:VEVENT
DTSTART;TZID=America/New_York:20260712T140000
DTEND;TZID=America/New_York:20260712T163000
DTSTAMP:20260418T051052
CREATED:20260416T174141Z
LAST-MODIFIED:20260416T174313Z
UID:10034328-1783864800-1783873800@visitdelco.com
SUMMARY:Community Arts Center: Tri State Jazz Society Concert
DESCRIPTION:
URL:https://visitdelco.com/event/community-arts-center-tri-state-jazz-society-concert-rossano-sportiello/2026-07-12/
LOCATION:2SP Brewing Company\, 120 Concord Road - Suite 101-103\, Aston\, PA\, 19014\, United States
CATEGORIES:Concerts & Live Music,Arts & Culture
ATTACH;FMTTYPE=image/jpeg:https://visitdelco.com/wp-content/uploads/2026/04/Tri-State-Jazz-image-crop.jpeg
END:VEVENT
BEGIN:VEVENT
DTSTART;TZID=America/New_York:20260717T120000
DTEND;TZID=America/New_York:20260717T150000
DTSTAMP:20260418T051052
CREATED:20260303T004113Z
LAST-MODIFIED:20260303T004210Z
UID:10033349-1784289600-1784300400@visitdelco.com
SUMMARY:2SP Brewing Company:  Live music with James Clark
DESCRIPTION:
URL:https://visitdelco.com/event/2sp-brewing-company-live-music-with-james-clark/2026-07-17/
LOCATION:2SP Brewing Company\, 120 Concord Road - Suite 101-103\, Aston\, PA\, 19014\, United States
CATEGORIES:Concerts & Live Music,Beer & Wine,Arts & Culture
ATTACH;FMTTYPE=image/jpeg:https://visitdelco.com/wp-content/uploads/2026/03/607956989_845202064807751_2223363494935927525_n.jpg
END:VEVENT
BEGIN:VEVENT
DTSTART;TZID=America/New_York:20260724T120000
DTEND;TZID=America/New_York:20260724T150000
DTSTAMP:20260418T051052
CREATED:20260303T005146Z
LAST-MODIFIED:20260303T005833Z
UID:10033367-1784894400-1784905200@visitdelco.com
SUMMARY:2SP Brewing Company:  Live Music with Sam's Duo
DESCRIPTION:
URL:https://visitdelco.com/event/2sp-brewing-copany-live-music-with-sams-duo/2026-07-24/
LOCATION:2SP Brewing Company\, 120 Concord Road - Suite 101-103\, Aston\, PA\, 19014\, United States
CATEGORIES:Concerts & Live Music,Beer & Wine,Arts & Culture
ATTACH;FMTTYPE=image/jpeg:https://visitdelco.com/wp-content/uploads/2026/03/600950228_836008642393760_1044017981292421244_n.jpg
END:VEVENT
BEGIN:VEVENT
DTSTART;TZID=America/New_York:20260814T120000
DTEND;TZID=America/New_York:20260814T150000
DTSTAMP:20260418T051052
CREATED:20260303T005146Z
LAST-MODIFIED:20260303T005833Z
UID:10033368-1786708800-1786719600@visitdelco.com
SUMMARY:2SP Brewing Company:  Live Music with Sam's Duo
DESCRIPTION:
URL:https://visitdelco.com/event/2sp-brewing-copany-live-music-with-sams-duo/2026-08-14/
LOCATION:2SP Brewing Company\, 120 Concord Road - Suite 101-103\, Aston\, PA\, 19014\, United States
CATEGORIES:Concerts & Live Music,Beer & Wine,Arts & Culture
ATTACH;FMTTYPE=image/jpeg:https://visitdelco.com/wp-content/uploads/2026/03/600950228_836008642393760_1044017981292421244_n.jpg
END:VEVENT
BEGIN:VEVENT
DTSTART;TZID=America/New_York:20260821T120000
DTEND;TZID=America/New_York:20260821T150000
DTSTAMP:20260418T051052
CREATED:20260303T004113Z
LAST-MODIFIED:20260303T004210Z
UID:10033350-1787313600-1787324400@visitdelco.com
SUMMARY:2SP Brewing Company:  Live music with James Clark
DESCRIPTION:
URL:https://visitdelco.com/event/2sp-brewing-company-live-music-with-james-clark/2026-08-21/
LOCATION:2SP Brewing Company\, 120 Concord Road - Suite 101-103\, Aston\, PA\, 19014\, United States
CATEGORIES:Concerts & Live Music,Beer & Wine,Arts & Culture
ATTACH;FMTTYPE=image/jpeg:https://visitdelco.com/wp-content/uploads/2026/03/607956989_845202064807751_2223363494935927525_n.jpg
END:VEVENT
BEGIN:VEVENT
DTSTART;TZID=America/New_York:20260911T120000
DTEND;TZID=America/New_York:20260911T150000
DTSTAMP:20260418T051052
CREATED:20260303T004741Z
LAST-MODIFIED:20260303T004741Z
UID:10033361-1789128000-1789138800@visitdelco.com
SUMMARY:2SP Brewing Company:  Live Music with Acoustic Nicki
DESCRIPTION:
URL:https://visitdelco.com/event/2sp-brewing-company-live-music-with-acoustic-nicki/2026-09-11/
LOCATION:2SP Brewing Company\, 120 Concord Road - Suite 101-103\, Aston\, PA\, 19014\, United States
CATEGORIES:Concerts & Live Music,Beer & Wine,Arts & Culture
ATTACH;FMTTYPE=image/jpeg:https://visitdelco.com/wp-content/uploads/2026/03/616823653_858640540130570_4392138382527650655_n.jpg
END:VEVENT
BEGIN:VEVENT
DTSTART;TZID=America/New_York:20260925T120000
DTEND;TZID=America/New_York:20260925T150000
DTSTAMP:20260418T051052
CREATED:20260303T005146Z
LAST-MODIFIED:20260303T005833Z
UID:10033369-1790337600-1790348400@visitdelco.com
SUMMARY:2SP Brewing Company:  Live Music with Sam's Duo
DESCRIPTION:
URL:https://visitdelco.com/event/2sp-brewing-copany-live-music-with-sams-duo/2026-09-25/
LOCATION:2SP Brewing Company\, 120 Concord Road - Suite 101-103\, Aston\, PA\, 19014\, United States
CATEGORIES:Concerts & Live Music,Beer & Wine,Arts & Culture
ATTACH;FMTTYPE=image/jpeg:https://visitdelco.com/wp-content/uploads/2026/03/600950228_836008642393760_1044017981292421244_n.jpg
END:VEVENT
BEGIN:VEVENT
DTSTART;TZID=America/New_York:20260927T140000
DTEND;TZID=America/New_York:20260927T163000
DTSTAMP:20260418T051052
CREATED:20260416T174141Z
LAST-MODIFIED:20260416T174313Z
UID:10034329-1790517600-1790526600@visitdelco.com
SUMMARY:Community Arts Center: Tri State Jazz Society Concert
DESCRIPTION:
URL:https://visitdelco.com/event/community-arts-center-tri-state-jazz-society-concert-rossano-sportiello/2026-09-27/
LOCATION:2SP Brewing Company\, 120 Concord Road - Suite 101-103\, Aston\, PA\, 19014\, United States
CATEGORIES:Concerts & Live Music,Arts & Culture
ATTACH;FMTTYPE=image/jpeg:https://visitdelco.com/wp-content/uploads/2026/04/Tri-State-Jazz-image-crop.jpeg
END:VEVENT
BEGIN:VEVENT
DTSTART;TZID=America/New_York:20261002T120000
DTEND;TZID=America/New_York:20261002T150000
DTSTAMP:20260418T051052
CREATED:20260303T004741Z
LAST-MODIFIED:20260303T004741Z
UID:10033362-1790942400-1790953200@visitdelco.com
SUMMARY:2SP Brewing Company:  Live Music with Acoustic Nicki
DESCRIPTION:
URL:https://visitdelco.com/event/2sp-brewing-company-live-music-with-acoustic-nicki/2026-10-02/
LOCATION:2SP Brewing Company\, 120 Concord Road - Suite 101-103\, Aston\, PA\, 19014\, United States
CATEGORIES:Concerts & Live Music,Beer & Wine,Arts & Culture
ATTACH;FMTTYPE=image/jpeg:https://visitdelco.com/wp-content/uploads/2026/03/616823653_858640540130570_4392138382527650655_n.jpg
END:VEVENT
BEGIN:VEVENT
DTSTART;TZID=America/New_York:20261009T120000
DTEND;TZID=America/New_York:20261009T150000
DTSTAMP:20260418T051052
CREATED:20260303T005146Z
LAST-MODIFIED:20260303T005833Z
UID:10033370-1791547200-1791558000@visitdelco.com
SUMMARY:2SP Brewing Company:  Live Music with Sam's Duo
DESCRIPTION:
URL:https://visitdelco.com/event/2sp-brewing-copany-live-music-with-sams-duo/2026-10-09/
LOCATION:2SP Brewing Company\, 120 Concord Road - Suite 101-103\, Aston\, PA\, 19014\, United States
CATEGORIES:Concerts & Live Music,Beer & Wine,Arts & Culture
ATTACH;FMTTYPE=image/jpeg:https://visitdelco.com/wp-content/uploads/2026/03/600950228_836008642393760_1044017981292421244_n.jpg
END:VEVENT
BEGIN:VEVENT
DTSTART;TZID=America/New_York:20261115T140000
DTEND;TZID=America/New_York:20261115T163000
DTSTAMP:20260418T051052
CREATED:20260416T174141Z
LAST-MODIFIED:20260416T174313Z
UID:10034330-1794751200-1794760200@visitdelco.com
SUMMARY:Community Arts Center: Tri State Jazz Society Concert
DESCRIPTION:
URL:https://visitdelco.com/event/community-arts-center-tri-state-jazz-society-concert-rossano-sportiello/2026-11-15/
LOCATION:2SP Brewing Company\, 120 Concord Road - Suite 101-103\, Aston\, PA\, 19014\, United States
CATEGORIES:Concerts & Live Music,Arts & Culture
ATTACH;FMTTYPE=image/jpeg:https://visitdelco.com/wp-content/uploads/2026/04/Tri-State-Jazz-image-crop.jpeg
END:VEVENT
BEGIN:VEVENT
DTSTART;TZID=America/New_York:20261127T120000
DTEND;TZID=America/New_York:20261127T150000
DTSTAMP:20260418T051052
CREATED:20260303T005146Z
LAST-MODIFIED:20260303T005833Z
UID:10033371-1795780800-1795791600@visitdelco.com
SUMMARY:2SP Brewing Company:  Live Music with Sam's Duo
DESCRIPTION:
URL:https://visitdelco.com/event/2sp-brewing-copany-live-music-with-sams-duo/2026-11-27/
LOCATION:2SP Brewing Company\, 120 Concord Road - Suite 101-103\, Aston\, PA\, 19014\, United States
CATEGORIES:Concerts & Live Music,Beer & Wine,Arts & Culture
ATTACH;FMTTYPE=image/jpeg:https://visitdelco.com/wp-content/uploads/2026/03/600950228_836008642393760_1044017981292421244_n.jpg
END:VEVENT
BEGIN:VEVENT
DTSTART;TZID=America/New_York:20261211T120000
DTEND;TZID=America/New_York:20261211T150000
DTSTAMP:20260418T051052
CREATED:20260303T005146Z
LAST-MODIFIED:20260303T005833Z
UID:10033372-1796990400-1797001200@visitdelco.com
SUMMARY:2SP Brewing Company:  Live Music with Sam's Duo
DESCRIPTION:
URL:https://visitdelco.com/event/2sp-brewing-copany-live-music-with-sams-duo/2026-12-11/
LOCATION:2SP Brewing Company\, 120 Concord Road - Suite 101-103\, Aston\, PA\, 19014\, United States
CATEGORIES:Concerts & Live Music,Beer & Wine,Arts & Culture
ATTACH;FMTTYPE=image/jpeg:https://visitdelco.com/wp-content/uploads/2026/03/600950228_836008642393760_1044017981292421244_n.jpg
END:VEVENT
END:VCALENDAR