BEGIN:VCALENDAR
VERSION:2.0
PRODID:-//Visit Delco, PA - ECPv6.15.17.1//NONSGML v1.0//EN
CALSCALE:GREGORIAN
METHOD:PUBLISH
X-WR-CALNAME:Visit Delco, PA
X-ORIGINAL-URL:https://visitdelco.com
X-WR-CALDESC:Events for Visit Delco, PA
REFRESH-INTERVAL;VALUE=DURATION:PT1H
X-Robots-Tag:noindex
X-PUBLISHED-TTL:PT1H
BEGIN:VTIMEZONE
TZID:America/New_York
BEGIN:DAYLIGHT
TZOFFSETFROM:-0500
TZOFFSETTO:-0400
TZNAME:EDT
DTSTART:20250309T070000
END:DAYLIGHT
BEGIN:STANDARD
TZOFFSETFROM:-0400
TZOFFSETTO:-0500
TZNAME:EST
DTSTART:20251102T060000
END:STANDARD
BEGIN:DAYLIGHT
TZOFFSETFROM:-0500
TZOFFSETTO:-0400
TZNAME:EDT
DTSTART:20260308T070000
END:DAYLIGHT
BEGIN:STANDARD
TZOFFSETFROM:-0400
TZOFFSETTO:-0500
TZNAME:EST
DTSTART:20261101T060000
END:STANDARD
BEGIN:DAYLIGHT
TZOFFSETFROM:-0500
TZOFFSETTO:-0400
TZNAME:EDT
DTSTART:20270314T070000
END:DAYLIGHT
BEGIN:STANDARD
TZOFFSETFROM:-0400
TZOFFSETTO:-0500
TZNAME:EST
DTSTART:20271107T060000
END:STANDARD
END:VTIMEZONE
BEGIN:VEVENT
DTSTART;TZID=America/New_York:20260424T150000
DTEND;TZID=America/New_York:20260424T220000
DTSTAMP:20260421T165555
CREATED:20260421T155151Z
LAST-MODIFIED:20260421T162958Z
UID:10036170-1777042800-1777068000@visitdelco.com
SUMMARY:2SP Brewing Company Tasting Room and Brewery Open
DESCRIPTION:
URL:https://visitdelco.com/event/2sp-brewing-company-tasting-room-brewery-open-2/2026-04-24/
LOCATION:2SP Brewing Company\, 120 Concord Road - Suite 101-103\, Aston\, PA\, 19014\, United States
CATEGORIES:Beer & Wine
ATTACH;FMTTYPE=image/jpeg:https://visitdelco.com/wp-content/uploads/2026/04/470231187_3700796060137610_6662511319147769537_n.jpg
END:VEVENT
BEGIN:VEVENT
DTSTART;TZID=America/New_York:20260501T150000
DTEND;TZID=America/New_York:20260501T220000
DTSTAMP:20260421T165555
CREATED:20260421T155151Z
LAST-MODIFIED:20260421T162958Z
UID:10036433-1777647600-1777672800@visitdelco.com
SUMMARY:2SP Brewing Company Tasting Room and Brewery Open
DESCRIPTION:
URL:https://visitdelco.com/event/2sp-brewing-company-tasting-room-brewery-open-2/2026-05-01/
LOCATION:2SP Brewing Company\, 120 Concord Road - Suite 101-103\, Aston\, PA\, 19014\, United States
CATEGORIES:Beer & Wine
ATTACH;FMTTYPE=image/jpeg:https://visitdelco.com/wp-content/uploads/2026/04/470231187_3700796060137610_6662511319147769537_n.jpg
END:VEVENT
BEGIN:VEVENT
DTSTART;TZID=America/New_York:20260508T150000
DTEND;TZID=America/New_York:20260508T220000
DTSTAMP:20260421T165555
CREATED:20260421T155151Z
LAST-MODIFIED:20260421T162958Z
UID:10036434-1778252400-1778277600@visitdelco.com
SUMMARY:2SP Brewing Company Tasting Room and Brewery Open
DESCRIPTION:
URL:https://visitdelco.com/event/2sp-brewing-company-tasting-room-brewery-open-2/2026-05-08/
LOCATION:2SP Brewing Company\, 120 Concord Road - Suite 101-103\, Aston\, PA\, 19014\, United States
CATEGORIES:Beer & Wine
ATTACH;FMTTYPE=image/jpeg:https://visitdelco.com/wp-content/uploads/2026/04/470231187_3700796060137610_6662511319147769537_n.jpg
END:VEVENT
BEGIN:VEVENT
DTSTART;TZID=America/New_York:20260515T150000
DTEND;TZID=America/New_York:20260515T220000
DTSTAMP:20260421T165555
CREATED:20260421T155151Z
LAST-MODIFIED:20260421T162958Z
UID:10036435-1778857200-1778882400@visitdelco.com
SUMMARY:2SP Brewing Company Tasting Room and Brewery Open
DESCRIPTION:
URL:https://visitdelco.com/event/2sp-brewing-company-tasting-room-brewery-open-2/2026-05-15/
LOCATION:2SP Brewing Company\, 120 Concord Road - Suite 101-103\, Aston\, PA\, 19014\, United States
CATEGORIES:Beer & Wine
ATTACH;FMTTYPE=image/jpeg:https://visitdelco.com/wp-content/uploads/2026/04/470231187_3700796060137610_6662511319147769537_n.jpg
END:VEVENT
BEGIN:VEVENT
DTSTART;TZID=America/New_York:20260522T150000
DTEND;TZID=America/New_York:20260522T220000
DTSTAMP:20260421T165555
CREATED:20260421T155151Z
LAST-MODIFIED:20260421T162958Z
UID:10036436-1779462000-1779487200@visitdelco.com
SUMMARY:2SP Brewing Company Tasting Room and Brewery Open
DESCRIPTION:
URL:https://visitdelco.com/event/2sp-brewing-company-tasting-room-brewery-open-2/2026-05-22/
LOCATION:2SP Brewing Company\, 120 Concord Road - Suite 101-103\, Aston\, PA\, 19014\, United States
CATEGORIES:Beer & Wine
ATTACH;FMTTYPE=image/jpeg:https://visitdelco.com/wp-content/uploads/2026/04/470231187_3700796060137610_6662511319147769537_n.jpg
END:VEVENT
BEGIN:VEVENT
DTSTART;TZID=America/New_York:20260529T150000
DTEND;TZID=America/New_York:20260529T220000
DTSTAMP:20260421T165555
CREATED:20260421T155151Z
LAST-MODIFIED:20260421T162958Z
UID:10036437-1780066800-1780092000@visitdelco.com
SUMMARY:2SP Brewing Company Tasting Room and Brewery Open
DESCRIPTION:
URL:https://visitdelco.com/event/2sp-brewing-company-tasting-room-brewery-open-2/2026-05-29/
LOCATION:2SP Brewing Company\, 120 Concord Road - Suite 101-103\, Aston\, PA\, 19014\, United States
CATEGORIES:Beer & Wine
ATTACH;FMTTYPE=image/jpeg:https://visitdelco.com/wp-content/uploads/2026/04/470231187_3700796060137610_6662511319147769537_n.jpg
END:VEVENT
BEGIN:VEVENT
DTSTART;TZID=America/New_York:20260605T150000
DTEND;TZID=America/New_York:20260605T220000
DTSTAMP:20260421T165555
CREATED:20260421T155151Z
LAST-MODIFIED:20260421T162958Z
UID:10036438-1780671600-1780696800@visitdelco.com
SUMMARY:2SP Brewing Company Tasting Room and Brewery Open
DESCRIPTION:
URL:https://visitdelco.com/event/2sp-brewing-company-tasting-room-brewery-open-2/2026-06-05/
LOCATION:2SP Brewing Company\, 120 Concord Road - Suite 101-103\, Aston\, PA\, 19014\, United States
CATEGORIES:Beer & Wine
ATTACH;FMTTYPE=image/jpeg:https://visitdelco.com/wp-content/uploads/2026/04/470231187_3700796060137610_6662511319147769537_n.jpg
END:VEVENT
BEGIN:VEVENT
DTSTART;TZID=America/New_York:20260612T150000
DTEND;TZID=America/New_York:20260612T220000
DTSTAMP:20260421T165555
CREATED:20260421T155151Z
LAST-MODIFIED:20260421T162958Z
UID:10036439-1781276400-1781301600@visitdelco.com
SUMMARY:2SP Brewing Company Tasting Room and Brewery Open
DESCRIPTION:
URL:https://visitdelco.com/event/2sp-brewing-company-tasting-room-brewery-open-2/2026-06-12/
LOCATION:2SP Brewing Company\, 120 Concord Road - Suite 101-103\, Aston\, PA\, 19014\, United States
CATEGORIES:Beer & Wine
ATTACH;FMTTYPE=image/jpeg:https://visitdelco.com/wp-content/uploads/2026/04/470231187_3700796060137610_6662511319147769537_n.jpg
END:VEVENT
BEGIN:VEVENT
DTSTART;TZID=America/New_York:20260619T150000
DTEND;TZID=America/New_York:20260619T220000
DTSTAMP:20260421T165555
CREATED:20260421T155151Z
LAST-MODIFIED:20260421T162958Z
UID:10036440-1781881200-1781906400@visitdelco.com
SUMMARY:2SP Brewing Company Tasting Room and Brewery Open
DESCRIPTION:
URL:https://visitdelco.com/event/2sp-brewing-company-tasting-room-brewery-open-2/2026-06-19/
LOCATION:2SP Brewing Company\, 120 Concord Road - Suite 101-103\, Aston\, PA\, 19014\, United States
CATEGORIES:Beer & Wine
ATTACH;FMTTYPE=image/jpeg:https://visitdelco.com/wp-content/uploads/2026/04/470231187_3700796060137610_6662511319147769537_n.jpg
END:VEVENT
BEGIN:VEVENT
DTSTART;TZID=America/New_York:20260626T150000
DTEND;TZID=America/New_York:20260626T220000
DTSTAMP:20260421T165555
CREATED:20260421T155151Z
LAST-MODIFIED:20260421T162958Z
UID:10036441-1782486000-1782511200@visitdelco.com
SUMMARY:2SP Brewing Company Tasting Room and Brewery Open
DESCRIPTION:
URL:https://visitdelco.com/event/2sp-brewing-company-tasting-room-brewery-open-2/2026-06-26/
LOCATION:2SP Brewing Company\, 120 Concord Road - Suite 101-103\, Aston\, PA\, 19014\, United States
CATEGORIES:Beer & Wine
ATTACH;FMTTYPE=image/jpeg:https://visitdelco.com/wp-content/uploads/2026/04/470231187_3700796060137610_6662511319147769537_n.jpg
END:VEVENT
BEGIN:VEVENT
DTSTART;TZID=America/New_York:20260703T150000
DTEND;TZID=America/New_York:20260703T220000
DTSTAMP:20260421T165555
CREATED:20260421T155151Z
LAST-MODIFIED:20260421T162958Z
UID:10036442-1783090800-1783116000@visitdelco.com
SUMMARY:2SP Brewing Company Tasting Room and Brewery Open
DESCRIPTION:
URL:https://visitdelco.com/event/2sp-brewing-company-tasting-room-brewery-open-2/2026-07-03/
LOCATION:2SP Brewing Company\, 120 Concord Road - Suite 101-103\, Aston\, PA\, 19014\, United States
CATEGORIES:Beer & Wine
ATTACH;FMTTYPE=image/jpeg:https://visitdelco.com/wp-content/uploads/2026/04/470231187_3700796060137610_6662511319147769537_n.jpg
END:VEVENT
BEGIN:VEVENT
DTSTART;TZID=America/New_York:20260710T150000
DTEND;TZID=America/New_York:20260710T220000
DTSTAMP:20260421T165555
CREATED:20260421T155151Z
LAST-MODIFIED:20260421T162958Z
UID:10036443-1783695600-1783720800@visitdelco.com
SUMMARY:2SP Brewing Company Tasting Room and Brewery Open
DESCRIPTION:
URL:https://visitdelco.com/event/2sp-brewing-company-tasting-room-brewery-open-2/2026-07-10/
LOCATION:2SP Brewing Company\, 120 Concord Road - Suite 101-103\, Aston\, PA\, 19014\, United States
CATEGORIES:Beer & Wine
ATTACH;FMTTYPE=image/jpeg:https://visitdelco.com/wp-content/uploads/2026/04/470231187_3700796060137610_6662511319147769537_n.jpg
END:VEVENT
BEGIN:VEVENT
DTSTART;TZID=America/New_York:20260717T150000
DTEND;TZID=America/New_York:20260717T220000
DTSTAMP:20260421T165555
CREATED:20260421T155151Z
LAST-MODIFIED:20260421T162958Z
UID:10036444-1784300400-1784325600@visitdelco.com
SUMMARY:2SP Brewing Company Tasting Room and Brewery Open
DESCRIPTION:
URL:https://visitdelco.com/event/2sp-brewing-company-tasting-room-brewery-open-2/2026-07-17/
LOCATION:2SP Brewing Company\, 120 Concord Road - Suite 101-103\, Aston\, PA\, 19014\, United States
CATEGORIES:Beer & Wine
ATTACH;FMTTYPE=image/jpeg:https://visitdelco.com/wp-content/uploads/2026/04/470231187_3700796060137610_6662511319147769537_n.jpg
END:VEVENT
BEGIN:VEVENT
DTSTART;TZID=America/New_York:20260724T150000
DTEND;TZID=America/New_York:20260724T220000
DTSTAMP:20260421T165555
CREATED:20260421T155151Z
LAST-MODIFIED:20260421T162958Z
UID:10036445-1784905200-1784930400@visitdelco.com
SUMMARY:2SP Brewing Company Tasting Room and Brewery Open
DESCRIPTION:
URL:https://visitdelco.com/event/2sp-brewing-company-tasting-room-brewery-open-2/2026-07-24/
LOCATION:2SP Brewing Company\, 120 Concord Road - Suite 101-103\, Aston\, PA\, 19014\, United States
CATEGORIES:Beer & Wine
ATTACH;FMTTYPE=image/jpeg:https://visitdelco.com/wp-content/uploads/2026/04/470231187_3700796060137610_6662511319147769537_n.jpg
END:VEVENT
BEGIN:VEVENT
DTSTART;TZID=America/New_York:20260731T150000
DTEND;TZID=America/New_York:20260731T220000
DTSTAMP:20260421T165555
CREATED:20260421T155151Z
LAST-MODIFIED:20260421T162958Z
UID:10036446-1785510000-1785535200@visitdelco.com
SUMMARY:2SP Brewing Company Tasting Room and Brewery Open
DESCRIPTION:
URL:https://visitdelco.com/event/2sp-brewing-company-tasting-room-brewery-open-2/2026-07-31/
LOCATION:2SP Brewing Company\, 120 Concord Road - Suite 101-103\, Aston\, PA\, 19014\, United States
CATEGORIES:Beer & Wine
ATTACH;FMTTYPE=image/jpeg:https://visitdelco.com/wp-content/uploads/2026/04/470231187_3700796060137610_6662511319147769537_n.jpg
END:VEVENT
BEGIN:VEVENT
DTSTART;TZID=America/New_York:20260807T150000
DTEND;TZID=America/New_York:20260807T220000
DTSTAMP:20260421T165555
CREATED:20260421T155151Z
LAST-MODIFIED:20260421T162958Z
UID:10036447-1786114800-1786140000@visitdelco.com
SUMMARY:2SP Brewing Company Tasting Room and Brewery Open
DESCRIPTION:
URL:https://visitdelco.com/event/2sp-brewing-company-tasting-room-brewery-open-2/2026-08-07/
LOCATION:2SP Brewing Company\, 120 Concord Road - Suite 101-103\, Aston\, PA\, 19014\, United States
CATEGORIES:Beer & Wine
ATTACH;FMTTYPE=image/jpeg:https://visitdelco.com/wp-content/uploads/2026/04/470231187_3700796060137610_6662511319147769537_n.jpg
END:VEVENT
BEGIN:VEVENT
DTSTART;TZID=America/New_York:20260814T150000
DTEND;TZID=America/New_York:20260814T220000
DTSTAMP:20260421T165555
CREATED:20260421T155151Z
LAST-MODIFIED:20260421T162958Z
UID:10036448-1786719600-1786744800@visitdelco.com
SUMMARY:2SP Brewing Company Tasting Room and Brewery Open
DESCRIPTION:
URL:https://visitdelco.com/event/2sp-brewing-company-tasting-room-brewery-open-2/2026-08-14/
LOCATION:2SP Brewing Company\, 120 Concord Road - Suite 101-103\, Aston\, PA\, 19014\, United States
CATEGORIES:Beer & Wine
ATTACH;FMTTYPE=image/jpeg:https://visitdelco.com/wp-content/uploads/2026/04/470231187_3700796060137610_6662511319147769537_n.jpg
END:VEVENT
BEGIN:VEVENT
DTSTART;TZID=America/New_York:20260821T150000
DTEND;TZID=America/New_York:20260821T220000
DTSTAMP:20260421T165555
CREATED:20260421T155151Z
LAST-MODIFIED:20260421T162958Z
UID:10036449-1787324400-1787349600@visitdelco.com
SUMMARY:2SP Brewing Company Tasting Room and Brewery Open
DESCRIPTION:
URL:https://visitdelco.com/event/2sp-brewing-company-tasting-room-brewery-open-2/2026-08-21/
LOCATION:2SP Brewing Company\, 120 Concord Road - Suite 101-103\, Aston\, PA\, 19014\, United States
CATEGORIES:Beer & Wine
ATTACH;FMTTYPE=image/jpeg:https://visitdelco.com/wp-content/uploads/2026/04/470231187_3700796060137610_6662511319147769537_n.jpg
END:VEVENT
BEGIN:VEVENT
DTSTART;TZID=America/New_York:20260828T150000
DTEND;TZID=America/New_York:20260828T220000
DTSTAMP:20260421T165555
CREATED:20260421T155151Z
LAST-MODIFIED:20260421T162958Z
UID:10036450-1787929200-1787954400@visitdelco.com
SUMMARY:2SP Brewing Company Tasting Room and Brewery Open
DESCRIPTION:
URL:https://visitdelco.com/event/2sp-brewing-company-tasting-room-brewery-open-2/2026-08-28/
LOCATION:2SP Brewing Company\, 120 Concord Road - Suite 101-103\, Aston\, PA\, 19014\, United States
CATEGORIES:Beer & Wine
ATTACH;FMTTYPE=image/jpeg:https://visitdelco.com/wp-content/uploads/2026/04/470231187_3700796060137610_6662511319147769537_n.jpg
END:VEVENT
BEGIN:VEVENT
DTSTART;TZID=America/New_York:20260904T150000
DTEND;TZID=America/New_York:20260904T220000
DTSTAMP:20260421T165555
CREATED:20260421T155151Z
LAST-MODIFIED:20260421T162958Z
UID:10036451-1788534000-1788559200@visitdelco.com
SUMMARY:2SP Brewing Company Tasting Room and Brewery Open
DESCRIPTION:
URL:https://visitdelco.com/event/2sp-brewing-company-tasting-room-brewery-open-2/2026-09-04/
LOCATION:2SP Brewing Company\, 120 Concord Road - Suite 101-103\, Aston\, PA\, 19014\, United States
CATEGORIES:Beer & Wine
ATTACH;FMTTYPE=image/jpeg:https://visitdelco.com/wp-content/uploads/2026/04/470231187_3700796060137610_6662511319147769537_n.jpg
END:VEVENT
BEGIN:VEVENT
DTSTART;TZID=America/New_York:20260911T150000
DTEND;TZID=America/New_York:20260911T220000
DTSTAMP:20260421T165555
CREATED:20260421T155151Z
LAST-MODIFIED:20260421T162958Z
UID:10036452-1789138800-1789164000@visitdelco.com
SUMMARY:2SP Brewing Company Tasting Room and Brewery Open
DESCRIPTION:
URL:https://visitdelco.com/event/2sp-brewing-company-tasting-room-brewery-open-2/2026-09-11/
LOCATION:2SP Brewing Company\, 120 Concord Road - Suite 101-103\, Aston\, PA\, 19014\, United States
CATEGORIES:Beer & Wine
ATTACH;FMTTYPE=image/jpeg:https://visitdelco.com/wp-content/uploads/2026/04/470231187_3700796060137610_6662511319147769537_n.jpg
END:VEVENT
BEGIN:VEVENT
DTSTART;TZID=America/New_York:20260918T150000
DTEND;TZID=America/New_York:20260918T220000
DTSTAMP:20260421T165555
CREATED:20260421T155151Z
LAST-MODIFIED:20260421T162958Z
UID:10036453-1789743600-1789768800@visitdelco.com
SUMMARY:2SP Brewing Company Tasting Room and Brewery Open
DESCRIPTION:
URL:https://visitdelco.com/event/2sp-brewing-company-tasting-room-brewery-open-2/2026-09-18/
LOCATION:2SP Brewing Company\, 120 Concord Road - Suite 101-103\, Aston\, PA\, 19014\, United States
CATEGORIES:Beer & Wine
ATTACH;FMTTYPE=image/jpeg:https://visitdelco.com/wp-content/uploads/2026/04/470231187_3700796060137610_6662511319147769537_n.jpg
END:VEVENT
BEGIN:VEVENT
DTSTART;TZID=America/New_York:20260925T150000
DTEND;TZID=America/New_York:20260925T220000
DTSTAMP:20260421T165555
CREATED:20260421T155151Z
LAST-MODIFIED:20260421T162958Z
UID:10036454-1790348400-1790373600@visitdelco.com
SUMMARY:2SP Brewing Company Tasting Room and Brewery Open
DESCRIPTION:
URL:https://visitdelco.com/event/2sp-brewing-company-tasting-room-brewery-open-2/2026-09-25/
LOCATION:2SP Brewing Company\, 120 Concord Road - Suite 101-103\, Aston\, PA\, 19014\, United States
CATEGORIES:Beer & Wine
ATTACH;FMTTYPE=image/jpeg:https://visitdelco.com/wp-content/uploads/2026/04/470231187_3700796060137610_6662511319147769537_n.jpg
END:VEVENT
BEGIN:VEVENT
DTSTART;TZID=America/New_York:20261002T150000
DTEND;TZID=America/New_York:20261002T220000
DTSTAMP:20260421T165555
CREATED:20260421T155151Z
LAST-MODIFIED:20260421T162958Z
UID:10036455-1790953200-1790978400@visitdelco.com
SUMMARY:2SP Brewing Company Tasting Room and Brewery Open
DESCRIPTION:
URL:https://visitdelco.com/event/2sp-brewing-company-tasting-room-brewery-open-2/2026-10-02/
LOCATION:2SP Brewing Company\, 120 Concord Road - Suite 101-103\, Aston\, PA\, 19014\, United States
CATEGORIES:Beer & Wine
ATTACH;FMTTYPE=image/jpeg:https://visitdelco.com/wp-content/uploads/2026/04/470231187_3700796060137610_6662511319147769537_n.jpg
END:VEVENT
BEGIN:VEVENT
DTSTART;TZID=America/New_York:20261009T150000
DTEND;TZID=America/New_York:20261009T220000
DTSTAMP:20260421T165555
CREATED:20260421T155151Z
LAST-MODIFIED:20260421T162958Z
UID:10036456-1791558000-1791583200@visitdelco.com
SUMMARY:2SP Brewing Company Tasting Room and Brewery Open
DESCRIPTION:
URL:https://visitdelco.com/event/2sp-brewing-company-tasting-room-brewery-open-2/2026-10-09/
LOCATION:2SP Brewing Company\, 120 Concord Road - Suite 101-103\, Aston\, PA\, 19014\, United States
CATEGORIES:Beer & Wine
ATTACH;FMTTYPE=image/jpeg:https://visitdelco.com/wp-content/uploads/2026/04/470231187_3700796060137610_6662511319147769537_n.jpg
END:VEVENT
BEGIN:VEVENT
DTSTART;TZID=America/New_York:20261016T150000
DTEND;TZID=America/New_York:20261016T220000
DTSTAMP:20260421T165555
CREATED:20260421T155151Z
LAST-MODIFIED:20260421T162958Z
UID:10036457-1792162800-1792188000@visitdelco.com
SUMMARY:2SP Brewing Company Tasting Room and Brewery Open
DESCRIPTION:
URL:https://visitdelco.com/event/2sp-brewing-company-tasting-room-brewery-open-2/2026-10-16/
LOCATION:2SP Brewing Company\, 120 Concord Road - Suite 101-103\, Aston\, PA\, 19014\, United States
CATEGORIES:Beer & Wine
ATTACH;FMTTYPE=image/jpeg:https://visitdelco.com/wp-content/uploads/2026/04/470231187_3700796060137610_6662511319147769537_n.jpg
END:VEVENT
BEGIN:VEVENT
DTSTART;TZID=America/New_York:20261023T150000
DTEND;TZID=America/New_York:20261023T220000
DTSTAMP:20260421T165555
CREATED:20260421T155151Z
LAST-MODIFIED:20260421T162958Z
UID:10036458-1792767600-1792792800@visitdelco.com
SUMMARY:2SP Brewing Company Tasting Room and Brewery Open
DESCRIPTION:
URL:https://visitdelco.com/event/2sp-brewing-company-tasting-room-brewery-open-2/2026-10-23/
LOCATION:2SP Brewing Company\, 120 Concord Road - Suite 101-103\, Aston\, PA\, 19014\, United States
CATEGORIES:Beer & Wine
ATTACH;FMTTYPE=image/jpeg:https://visitdelco.com/wp-content/uploads/2026/04/470231187_3700796060137610_6662511319147769537_n.jpg
END:VEVENT
BEGIN:VEVENT
DTSTART;TZID=America/New_York:20261030T150000
DTEND;TZID=America/New_York:20261030T220000
DTSTAMP:20260421T165555
CREATED:20260421T155151Z
LAST-MODIFIED:20260421T162958Z
UID:10036459-1793372400-1793397600@visitdelco.com
SUMMARY:2SP Brewing Company Tasting Room and Brewery Open
DESCRIPTION:
URL:https://visitdelco.com/event/2sp-brewing-company-tasting-room-brewery-open-2/2026-10-30/
LOCATION:2SP Brewing Company\, 120 Concord Road - Suite 101-103\, Aston\, PA\, 19014\, United States
CATEGORIES:Beer & Wine
ATTACH;FMTTYPE=image/jpeg:https://visitdelco.com/wp-content/uploads/2026/04/470231187_3700796060137610_6662511319147769537_n.jpg
END:VEVENT
BEGIN:VEVENT
DTSTART;TZID=America/New_York:20261106T150000
DTEND;TZID=America/New_York:20261106T220000
DTSTAMP:20260421T165555
CREATED:20260421T155151Z
LAST-MODIFIED:20260421T162958Z
UID:10036460-1793977200-1794002400@visitdelco.com
SUMMARY:2SP Brewing Company Tasting Room and Brewery Open
DESCRIPTION:
URL:https://visitdelco.com/event/2sp-brewing-company-tasting-room-brewery-open-2/2026-11-06/
LOCATION:2SP Brewing Company\, 120 Concord Road - Suite 101-103\, Aston\, PA\, 19014\, United States
CATEGORIES:Beer & Wine
ATTACH;FMTTYPE=image/jpeg:https://visitdelco.com/wp-content/uploads/2026/04/470231187_3700796060137610_6662511319147769537_n.jpg
END:VEVENT
BEGIN:VEVENT
DTSTART;TZID=America/New_York:20261113T150000
DTEND;TZID=America/New_York:20261113T220000
DTSTAMP:20260421T165555
CREATED:20260421T155151Z
LAST-MODIFIED:20260421T162958Z
UID:10036461-1794582000-1794607200@visitdelco.com
SUMMARY:2SP Brewing Company Tasting Room and Brewery Open
DESCRIPTION:
URL:https://visitdelco.com/event/2sp-brewing-company-tasting-room-brewery-open-2/2026-11-13/
LOCATION:2SP Brewing Company\, 120 Concord Road - Suite 101-103\, Aston\, PA\, 19014\, United States
CATEGORIES:Beer & Wine
ATTACH;FMTTYPE=image/jpeg:https://visitdelco.com/wp-content/uploads/2026/04/470231187_3700796060137610_6662511319147769537_n.jpg
END:VEVENT
END:VCALENDAR