BEGIN:VCALENDAR
VERSION:2.0
PRODID:-//Visit Delco, PA - ECPv6.15.17.1//NONSGML v1.0//EN
CALSCALE:GREGORIAN
METHOD:PUBLISH
X-WR-CALNAME:Visit Delco, PA
X-ORIGINAL-URL:https://visitdelco.com
X-WR-CALDESC:Events for Visit Delco, PA
REFRESH-INTERVAL;VALUE=DURATION:PT1H
X-Robots-Tag:noindex
X-PUBLISHED-TTL:PT1H
BEGIN:VTIMEZONE
TZID:America/New_York
BEGIN:DAYLIGHT
TZOFFSETFROM:-0500
TZOFFSETTO:-0400
TZNAME:EDT
DTSTART:20250309T070000
END:DAYLIGHT
BEGIN:STANDARD
TZOFFSETFROM:-0400
TZOFFSETTO:-0500
TZNAME:EST
DTSTART:20251102T060000
END:STANDARD
BEGIN:DAYLIGHT
TZOFFSETFROM:-0500
TZOFFSETTO:-0400
TZNAME:EDT
DTSTART:20260308T070000
END:DAYLIGHT
BEGIN:STANDARD
TZOFFSETFROM:-0400
TZOFFSETTO:-0500
TZNAME:EST
DTSTART:20261101T060000
END:STANDARD
BEGIN:DAYLIGHT
TZOFFSETFROM:-0500
TZOFFSETTO:-0400
TZNAME:EDT
DTSTART:20270314T070000
END:DAYLIGHT
BEGIN:STANDARD
TZOFFSETFROM:-0400
TZOFFSETTO:-0500
TZNAME:EST
DTSTART:20271107T060000
END:STANDARD
END:VTIMEZONE
BEGIN:VEVENT
DTSTART;TZID=America/New_York:20260426T120000
DTEND;TZID=America/New_York:20260426T220000
DTSTAMP:20260421T174923
CREATED:20260421T155224Z
LAST-MODIFIED:20260421T155224Z
UID:10036171-1777204800-1777240800@visitdelco.com
SUMMARY:2SP Brewing Company Tasting Room & Brewery Open
DESCRIPTION:
URL:https://visitdelco.com/event/2sp-brewing-company-tasting-room-brewery-open-3/2026-04-26/
LOCATION:Delaware County\, PA\, United States
END:VEVENT
BEGIN:VEVENT
DTSTART;TZID=America/New_York:20260503T120000
DTEND;TZID=America/New_York:20260503T220000
DTSTAMP:20260421T174923
CREATED:20260421T155224Z
LAST-MODIFIED:20260421T155224Z
UID:10036172-1777809600-1777845600@visitdelco.com
SUMMARY:2SP Brewing Company Tasting Room & Brewery Open
DESCRIPTION:
URL:https://visitdelco.com/event/2sp-brewing-company-tasting-room-brewery-open-3/2026-05-03/
LOCATION:Delaware County\, PA\, United States
END:VEVENT
BEGIN:VEVENT
DTSTART;TZID=America/New_York:20260510T120000
DTEND;TZID=America/New_York:20260510T220000
DTSTAMP:20260421T174923
CREATED:20260421T155224Z
LAST-MODIFIED:20260421T155224Z
UID:10036173-1778414400-1778450400@visitdelco.com
SUMMARY:2SP Brewing Company Tasting Room & Brewery Open
DESCRIPTION:
URL:https://visitdelco.com/event/2sp-brewing-company-tasting-room-brewery-open-3/2026-05-10/
LOCATION:Delaware County\, PA\, United States
END:VEVENT
BEGIN:VEVENT
DTSTART;TZID=America/New_York:20260517T120000
DTEND;TZID=America/New_York:20260517T220000
DTSTAMP:20260421T174923
CREATED:20260421T155224Z
LAST-MODIFIED:20260421T155224Z
UID:10036174-1779019200-1779055200@visitdelco.com
SUMMARY:2SP Brewing Company Tasting Room & Brewery Open
DESCRIPTION:
URL:https://visitdelco.com/event/2sp-brewing-company-tasting-room-brewery-open-3/2026-05-17/
LOCATION:Delaware County\, PA\, United States
END:VEVENT
BEGIN:VEVENT
DTSTART;TZID=America/New_York:20260524T120000
DTEND;TZID=America/New_York:20260524T220000
DTSTAMP:20260421T174923
CREATED:20260421T155224Z
LAST-MODIFIED:20260421T155224Z
UID:10036175-1779624000-1779660000@visitdelco.com
SUMMARY:2SP Brewing Company Tasting Room & Brewery Open
DESCRIPTION:
URL:https://visitdelco.com/event/2sp-brewing-company-tasting-room-brewery-open-3/2026-05-24/
LOCATION:Delaware County\, PA\, United States
END:VEVENT
BEGIN:VEVENT
DTSTART;TZID=America/New_York:20260531T120000
DTEND;TZID=America/New_York:20260531T220000
DTSTAMP:20260421T174923
CREATED:20260421T155224Z
LAST-MODIFIED:20260421T155224Z
UID:10036176-1780228800-1780264800@visitdelco.com
SUMMARY:2SP Brewing Company Tasting Room & Brewery Open
DESCRIPTION:
URL:https://visitdelco.com/event/2sp-brewing-company-tasting-room-brewery-open-3/2026-05-31/
LOCATION:Delaware County\, PA\, United States
END:VEVENT
BEGIN:VEVENT
DTSTART;TZID=America/New_York:20260607T120000
DTEND;TZID=America/New_York:20260607T220000
DTSTAMP:20260421T174923
CREATED:20260421T155224Z
LAST-MODIFIED:20260421T155224Z
UID:10036177-1780833600-1780869600@visitdelco.com
SUMMARY:2SP Brewing Company Tasting Room & Brewery Open
DESCRIPTION:
URL:https://visitdelco.com/event/2sp-brewing-company-tasting-room-brewery-open-3/2026-06-07/
LOCATION:Delaware County\, PA\, United States
END:VEVENT
BEGIN:VEVENT
DTSTART;TZID=America/New_York:20260614T120000
DTEND;TZID=America/New_York:20260614T220000
DTSTAMP:20260421T174923
CREATED:20260421T155224Z
LAST-MODIFIED:20260421T155224Z
UID:10036178-1781438400-1781474400@visitdelco.com
SUMMARY:2SP Brewing Company Tasting Room & Brewery Open
DESCRIPTION:
URL:https://visitdelco.com/event/2sp-brewing-company-tasting-room-brewery-open-3/2026-06-14/
LOCATION:Delaware County\, PA\, United States
END:VEVENT
BEGIN:VEVENT
DTSTART;TZID=America/New_York:20260621T120000
DTEND;TZID=America/New_York:20260621T220000
DTSTAMP:20260421T174923
CREATED:20260421T155224Z
LAST-MODIFIED:20260421T155224Z
UID:10036179-1782043200-1782079200@visitdelco.com
SUMMARY:2SP Brewing Company Tasting Room & Brewery Open
DESCRIPTION:
URL:https://visitdelco.com/event/2sp-brewing-company-tasting-room-brewery-open-3/2026-06-21/
LOCATION:Delaware County\, PA\, United States
END:VEVENT
BEGIN:VEVENT
DTSTART;TZID=America/New_York:20260628T120000
DTEND;TZID=America/New_York:20260628T220000
DTSTAMP:20260421T174923
CREATED:20260421T155224Z
LAST-MODIFIED:20260421T155224Z
UID:10036180-1782648000-1782684000@visitdelco.com
SUMMARY:2SP Brewing Company Tasting Room & Brewery Open
DESCRIPTION:
URL:https://visitdelco.com/event/2sp-brewing-company-tasting-room-brewery-open-3/2026-06-28/
LOCATION:Delaware County\, PA\, United States
END:VEVENT
BEGIN:VEVENT
DTSTART;TZID=America/New_York:20260705T120000
DTEND;TZID=America/New_York:20260705T220000
DTSTAMP:20260421T174923
CREATED:20260421T155224Z
LAST-MODIFIED:20260421T155224Z
UID:10036181-1783252800-1783288800@visitdelco.com
SUMMARY:2SP Brewing Company Tasting Room & Brewery Open
DESCRIPTION:
URL:https://visitdelco.com/event/2sp-brewing-company-tasting-room-brewery-open-3/2026-07-05/
LOCATION:Delaware County\, PA\, United States
END:VEVENT
BEGIN:VEVENT
DTSTART;TZID=America/New_York:20260712T120000
DTEND;TZID=America/New_York:20260712T220000
DTSTAMP:20260421T174923
CREATED:20260421T155224Z
LAST-MODIFIED:20260421T155224Z
UID:10036182-1783857600-1783893600@visitdelco.com
SUMMARY:2SP Brewing Company Tasting Room & Brewery Open
DESCRIPTION:
URL:https://visitdelco.com/event/2sp-brewing-company-tasting-room-brewery-open-3/2026-07-12/
LOCATION:Delaware County\, PA\, United States
END:VEVENT
BEGIN:VEVENT
DTSTART;TZID=America/New_York:20260719T120000
DTEND;TZID=America/New_York:20260719T220000
DTSTAMP:20260421T174923
CREATED:20260421T155224Z
LAST-MODIFIED:20260421T155224Z
UID:10036183-1784462400-1784498400@visitdelco.com
SUMMARY:2SP Brewing Company Tasting Room & Brewery Open
DESCRIPTION:
URL:https://visitdelco.com/event/2sp-brewing-company-tasting-room-brewery-open-3/2026-07-19/
LOCATION:Delaware County\, PA\, United States
END:VEVENT
BEGIN:VEVENT
DTSTART;TZID=America/New_York:20260726T120000
DTEND;TZID=America/New_York:20260726T220000
DTSTAMP:20260421T174923
CREATED:20260421T155224Z
LAST-MODIFIED:20260421T155224Z
UID:10036184-1785067200-1785103200@visitdelco.com
SUMMARY:2SP Brewing Company Tasting Room & Brewery Open
DESCRIPTION:
URL:https://visitdelco.com/event/2sp-brewing-company-tasting-room-brewery-open-3/2026-07-26/
LOCATION:Delaware County\, PA\, United States
END:VEVENT
BEGIN:VEVENT
DTSTART;TZID=America/New_York:20260802T120000
DTEND;TZID=America/New_York:20260802T220000
DTSTAMP:20260421T174923
CREATED:20260421T155224Z
LAST-MODIFIED:20260421T155224Z
UID:10036185-1785672000-1785708000@visitdelco.com
SUMMARY:2SP Brewing Company Tasting Room & Brewery Open
DESCRIPTION:
URL:https://visitdelco.com/event/2sp-brewing-company-tasting-room-brewery-open-3/2026-08-02/
LOCATION:Delaware County\, PA\, United States
END:VEVENT
BEGIN:VEVENT
DTSTART;TZID=America/New_York:20260809T120000
DTEND;TZID=America/New_York:20260809T220000
DTSTAMP:20260421T174923
CREATED:20260421T155224Z
LAST-MODIFIED:20260421T155224Z
UID:10036186-1786276800-1786312800@visitdelco.com
SUMMARY:2SP Brewing Company Tasting Room & Brewery Open
DESCRIPTION:
URL:https://visitdelco.com/event/2sp-brewing-company-tasting-room-brewery-open-3/2026-08-09/
LOCATION:Delaware County\, PA\, United States
END:VEVENT
BEGIN:VEVENT
DTSTART;TZID=America/New_York:20260816T120000
DTEND;TZID=America/New_York:20260816T220000
DTSTAMP:20260421T174923
CREATED:20260421T155224Z
LAST-MODIFIED:20260421T155224Z
UID:10036187-1786881600-1786917600@visitdelco.com
SUMMARY:2SP Brewing Company Tasting Room & Brewery Open
DESCRIPTION:
URL:https://visitdelco.com/event/2sp-brewing-company-tasting-room-brewery-open-3/2026-08-16/
LOCATION:Delaware County\, PA\, United States
END:VEVENT
BEGIN:VEVENT
DTSTART;TZID=America/New_York:20260823T120000
DTEND;TZID=America/New_York:20260823T220000
DTSTAMP:20260421T174923
CREATED:20260421T155224Z
LAST-MODIFIED:20260421T155224Z
UID:10036188-1787486400-1787522400@visitdelco.com
SUMMARY:2SP Brewing Company Tasting Room & Brewery Open
DESCRIPTION:
URL:https://visitdelco.com/event/2sp-brewing-company-tasting-room-brewery-open-3/2026-08-23/
LOCATION:Delaware County\, PA\, United States
END:VEVENT
BEGIN:VEVENT
DTSTART;TZID=America/New_York:20260830T120000
DTEND;TZID=America/New_York:20260830T220000
DTSTAMP:20260421T174923
CREATED:20260421T155224Z
LAST-MODIFIED:20260421T155224Z
UID:10036189-1788091200-1788127200@visitdelco.com
SUMMARY:2SP Brewing Company Tasting Room & Brewery Open
DESCRIPTION:
URL:https://visitdelco.com/event/2sp-brewing-company-tasting-room-brewery-open-3/2026-08-30/
LOCATION:Delaware County\, PA\, United States
END:VEVENT
BEGIN:VEVENT
DTSTART;TZID=America/New_York:20260906T120000
DTEND;TZID=America/New_York:20260906T220000
DTSTAMP:20260421T174923
CREATED:20260421T155224Z
LAST-MODIFIED:20260421T155224Z
UID:10036190-1788696000-1788732000@visitdelco.com
SUMMARY:2SP Brewing Company Tasting Room & Brewery Open
DESCRIPTION:
URL:https://visitdelco.com/event/2sp-brewing-company-tasting-room-brewery-open-3/2026-09-06/
LOCATION:Delaware County\, PA\, United States
END:VEVENT
BEGIN:VEVENT
DTSTART;TZID=America/New_York:20260913T120000
DTEND;TZID=America/New_York:20260913T220000
DTSTAMP:20260421T174923
CREATED:20260421T155224Z
LAST-MODIFIED:20260421T155224Z
UID:10036191-1789300800-1789336800@visitdelco.com
SUMMARY:2SP Brewing Company Tasting Room & Brewery Open
DESCRIPTION:
URL:https://visitdelco.com/event/2sp-brewing-company-tasting-room-brewery-open-3/2026-09-13/
LOCATION:Delaware County\, PA\, United States
END:VEVENT
BEGIN:VEVENT
DTSTART;TZID=America/New_York:20260920T120000
DTEND;TZID=America/New_York:20260920T220000
DTSTAMP:20260421T174923
CREATED:20260421T155224Z
LAST-MODIFIED:20260421T155224Z
UID:10036192-1789905600-1789941600@visitdelco.com
SUMMARY:2SP Brewing Company Tasting Room & Brewery Open
DESCRIPTION:
URL:https://visitdelco.com/event/2sp-brewing-company-tasting-room-brewery-open-3/2026-09-20/
LOCATION:Delaware County\, PA\, United States
END:VEVENT
BEGIN:VEVENT
DTSTART;TZID=America/New_York:20260927T120000
DTEND;TZID=America/New_York:20260927T220000
DTSTAMP:20260421T174923
CREATED:20260421T155224Z
LAST-MODIFIED:20260421T155224Z
UID:10036193-1790510400-1790546400@visitdelco.com
SUMMARY:2SP Brewing Company Tasting Room & Brewery Open
DESCRIPTION:
URL:https://visitdelco.com/event/2sp-brewing-company-tasting-room-brewery-open-3/2026-09-27/
LOCATION:Delaware County\, PA\, United States
END:VEVENT
BEGIN:VEVENT
DTSTART;TZID=America/New_York:20261004T120000
DTEND;TZID=America/New_York:20261004T220000
DTSTAMP:20260421T174923
CREATED:20260421T155224Z
LAST-MODIFIED:20260421T155224Z
UID:10036194-1791115200-1791151200@visitdelco.com
SUMMARY:2SP Brewing Company Tasting Room & Brewery Open
DESCRIPTION:
URL:https://visitdelco.com/event/2sp-brewing-company-tasting-room-brewery-open-3/2026-10-04/
LOCATION:Delaware County\, PA\, United States
END:VEVENT
BEGIN:VEVENT
DTSTART;TZID=America/New_York:20261011T120000
DTEND;TZID=America/New_York:20261011T220000
DTSTAMP:20260421T174923
CREATED:20260421T155224Z
LAST-MODIFIED:20260421T155224Z
UID:10036195-1791720000-1791756000@visitdelco.com
SUMMARY:2SP Brewing Company Tasting Room & Brewery Open
DESCRIPTION:
URL:https://visitdelco.com/event/2sp-brewing-company-tasting-room-brewery-open-3/2026-10-11/
LOCATION:Delaware County\, PA\, United States
END:VEVENT
BEGIN:VEVENT
DTSTART;TZID=America/New_York:20261018T120000
DTEND;TZID=America/New_York:20261018T220000
DTSTAMP:20260421T174923
CREATED:20260421T155224Z
LAST-MODIFIED:20260421T155224Z
UID:10036196-1792324800-1792360800@visitdelco.com
SUMMARY:2SP Brewing Company Tasting Room & Brewery Open
DESCRIPTION:
URL:https://visitdelco.com/event/2sp-brewing-company-tasting-room-brewery-open-3/2026-10-18/
LOCATION:Delaware County\, PA\, United States
END:VEVENT
BEGIN:VEVENT
DTSTART;TZID=America/New_York:20261025T120000
DTEND;TZID=America/New_York:20261025T220000
DTSTAMP:20260421T174923
CREATED:20260421T155224Z
LAST-MODIFIED:20260421T155224Z
UID:10036197-1792929600-1792965600@visitdelco.com
SUMMARY:2SP Brewing Company Tasting Room & Brewery Open
DESCRIPTION:
URL:https://visitdelco.com/event/2sp-brewing-company-tasting-room-brewery-open-3/2026-10-25/
LOCATION:Delaware County\, PA\, United States
END:VEVENT
BEGIN:VEVENT
DTSTART;TZID=America/New_York:20261101T120000
DTEND;TZID=America/New_York:20261101T220000
DTSTAMP:20260421T174923
CREATED:20260421T155224Z
LAST-MODIFIED:20260421T155224Z
UID:10036198-1793534400-1793570400@visitdelco.com
SUMMARY:2SP Brewing Company Tasting Room & Brewery Open
DESCRIPTION:
URL:https://visitdelco.com/event/2sp-brewing-company-tasting-room-brewery-open-3/2026-11-01/
LOCATION:Delaware County\, PA\, United States
END:VEVENT
BEGIN:VEVENT
DTSTART;TZID=America/New_York:20261108T120000
DTEND;TZID=America/New_York:20261108T220000
DTSTAMP:20260421T174923
CREATED:20260421T155224Z
LAST-MODIFIED:20260421T155224Z
UID:10036199-1794139200-1794175200@visitdelco.com
SUMMARY:2SP Brewing Company Tasting Room & Brewery Open
DESCRIPTION:
URL:https://visitdelco.com/event/2sp-brewing-company-tasting-room-brewery-open-3/2026-11-08/
LOCATION:Delaware County\, PA\, United States
END:VEVENT
BEGIN:VEVENT
DTSTART;TZID=America/New_York:20261115T120000
DTEND;TZID=America/New_York:20261115T220000
DTSTAMP:20260421T174923
CREATED:20260421T155224Z
LAST-MODIFIED:20260421T155224Z
UID:10036200-1794744000-1794780000@visitdelco.com
SUMMARY:2SP Brewing Company Tasting Room & Brewery Open
DESCRIPTION:
URL:https://visitdelco.com/event/2sp-brewing-company-tasting-room-brewery-open-3/2026-11-15/
LOCATION:Delaware County\, PA\, United States
END:VEVENT
END:VCALENDAR