BEGIN:VCALENDAR
VERSION:2.0
PRODID:-//Visit Delco, PA - ECPv6.15.17.1//NONSGML v1.0//EN
CALSCALE:GREGORIAN
METHOD:PUBLISH
X-WR-CALNAME:Visit Delco, PA
X-ORIGINAL-URL:https://visitdelco.com
X-WR-CALDESC:Events for Visit Delco, PA
REFRESH-INTERVAL;VALUE=DURATION:PT1H
X-Robots-Tag:noindex
X-PUBLISHED-TTL:PT1H
BEGIN:VTIMEZONE
TZID:America/New_York
BEGIN:DAYLIGHT
TZOFFSETFROM:-0500
TZOFFSETTO:-0400
TZNAME:EDT
DTSTART:20250309T070000
END:DAYLIGHT
BEGIN:STANDARD
TZOFFSETFROM:-0400
TZOFFSETTO:-0500
TZNAME:EST
DTSTART:20251102T060000
END:STANDARD
BEGIN:DAYLIGHT
TZOFFSETFROM:-0500
TZOFFSETTO:-0400
TZNAME:EDT
DTSTART:20260308T070000
END:DAYLIGHT
BEGIN:STANDARD
TZOFFSETFROM:-0400
TZOFFSETTO:-0500
TZNAME:EST
DTSTART:20261101T060000
END:STANDARD
BEGIN:DAYLIGHT
TZOFFSETFROM:-0500
TZOFFSETTO:-0400
TZNAME:EDT
DTSTART:20270314T070000
END:DAYLIGHT
BEGIN:STANDARD
TZOFFSETFROM:-0400
TZOFFSETTO:-0500
TZNAME:EST
DTSTART:20271107T060000
END:STANDARD
END:VTIMEZONE
BEGIN:VEVENT
DTSTART;TZID=America/New_York:20260426T100000
DTEND;TZID=America/New_York:20260426T130000
DTSTAMP:20260421T065354
CREATED:20260416T163127Z
LAST-MODIFIED:20260416T163127Z
UID:10034198-1777197600-1777208400@visitdelco.com
SUMMARY:Media Farmers Market
DESCRIPTION:
URL:https://visitdelco.com/event/media-farmers-market/2026-04-26/
LOCATION:Media\, PA
CATEGORIES:Market,Seasonal
ATTACH;FMTTYPE=image/jpeg:https://visitdelco.com/wp-content/uploads/2026/04/665865893_1519498290178592_188479523590855349_n.jpg
END:VEVENT
BEGIN:VEVENT
DTSTART;TZID=America/New_York:20260503T100000
DTEND;TZID=America/New_York:20260503T130000
DTSTAMP:20260421T065354
CREATED:20260416T163127Z
LAST-MODIFIED:20260416T163127Z
UID:10034199-1777802400-1777813200@visitdelco.com
SUMMARY:Media Farmers Market
DESCRIPTION:
URL:https://visitdelco.com/event/media-farmers-market/2026-05-03/
LOCATION:Media\, PA
CATEGORIES:Market,Seasonal
ATTACH;FMTTYPE=image/jpeg:https://visitdelco.com/wp-content/uploads/2026/04/665865893_1519498290178592_188479523590855349_n.jpg
END:VEVENT
BEGIN:VEVENT
DTSTART;TZID=America/New_York:20260510T100000
DTEND;TZID=America/New_York:20260510T130000
DTSTAMP:20260421T065354
CREATED:20260416T163127Z
LAST-MODIFIED:20260416T163127Z
UID:10034200-1778407200-1778418000@visitdelco.com
SUMMARY:Media Farmers Market
DESCRIPTION:
URL:https://visitdelco.com/event/media-farmers-market/2026-05-10/
LOCATION:Media\, PA
CATEGORIES:Market,Seasonal
ATTACH;FMTTYPE=image/jpeg:https://visitdelco.com/wp-content/uploads/2026/04/665865893_1519498290178592_188479523590855349_n.jpg
END:VEVENT
BEGIN:VEVENT
DTSTART;TZID=America/New_York:20260517T100000
DTEND;TZID=America/New_York:20260517T130000
DTSTAMP:20260421T065354
CREATED:20260416T163127Z
LAST-MODIFIED:20260416T163127Z
UID:10034201-1779012000-1779022800@visitdelco.com
SUMMARY:Media Farmers Market
DESCRIPTION:
URL:https://visitdelco.com/event/media-farmers-market/2026-05-17/
LOCATION:Media\, PA
CATEGORIES:Market,Seasonal
ATTACH;FMTTYPE=image/jpeg:https://visitdelco.com/wp-content/uploads/2026/04/665865893_1519498290178592_188479523590855349_n.jpg
END:VEVENT
BEGIN:VEVENT
DTSTART;TZID=America/New_York:20260524T100000
DTEND;TZID=America/New_York:20260524T130000
DTSTAMP:20260421T065354
CREATED:20260416T163127Z
LAST-MODIFIED:20260416T163127Z
UID:10034202-1779616800-1779627600@visitdelco.com
SUMMARY:Media Farmers Market
DESCRIPTION:
URL:https://visitdelco.com/event/media-farmers-market/2026-05-24/
LOCATION:Media\, PA
CATEGORIES:Market,Seasonal
ATTACH;FMTTYPE=image/jpeg:https://visitdelco.com/wp-content/uploads/2026/04/665865893_1519498290178592_188479523590855349_n.jpg
END:VEVENT
BEGIN:VEVENT
DTSTART;TZID=America/New_York:20260531T100000
DTEND;TZID=America/New_York:20260531T130000
DTSTAMP:20260421T065354
CREATED:20260416T163127Z
LAST-MODIFIED:20260416T163127Z
UID:10034203-1780221600-1780232400@visitdelco.com
SUMMARY:Media Farmers Market
DESCRIPTION:
URL:https://visitdelco.com/event/media-farmers-market/2026-05-31/
LOCATION:Media\, PA
CATEGORIES:Market,Seasonal
ATTACH;FMTTYPE=image/jpeg:https://visitdelco.com/wp-content/uploads/2026/04/665865893_1519498290178592_188479523590855349_n.jpg
END:VEVENT
BEGIN:VEVENT
DTSTART;TZID=America/New_York:20260607T100000
DTEND;TZID=America/New_York:20260607T130000
DTSTAMP:20260421T065354
CREATED:20260416T163127Z
LAST-MODIFIED:20260416T163127Z
UID:10034204-1780826400-1780837200@visitdelco.com
SUMMARY:Media Farmers Market
DESCRIPTION:
URL:https://visitdelco.com/event/media-farmers-market/2026-06-07/
LOCATION:Media\, PA
CATEGORIES:Market,Seasonal
ATTACH;FMTTYPE=image/jpeg:https://visitdelco.com/wp-content/uploads/2026/04/665865893_1519498290178592_188479523590855349_n.jpg
END:VEVENT
BEGIN:VEVENT
DTSTART;TZID=America/New_York:20260614T100000
DTEND;TZID=America/New_York:20260614T130000
DTSTAMP:20260421T065354
CREATED:20260416T163127Z
LAST-MODIFIED:20260416T163127Z
UID:10034205-1781431200-1781442000@visitdelco.com
SUMMARY:Media Farmers Market
DESCRIPTION:
URL:https://visitdelco.com/event/media-farmers-market/2026-06-14/
LOCATION:Media\, PA
CATEGORIES:Market,Seasonal
ATTACH;FMTTYPE=image/jpeg:https://visitdelco.com/wp-content/uploads/2026/04/665865893_1519498290178592_188479523590855349_n.jpg
END:VEVENT
BEGIN:VEVENT
DTSTART;TZID=America/New_York:20260621T100000
DTEND;TZID=America/New_York:20260621T130000
DTSTAMP:20260421T065354
CREATED:20260416T163127Z
LAST-MODIFIED:20260416T163127Z
UID:10034206-1782036000-1782046800@visitdelco.com
SUMMARY:Media Farmers Market
DESCRIPTION:
URL:https://visitdelco.com/event/media-farmers-market/2026-06-21/
LOCATION:Media\, PA
CATEGORIES:Market,Seasonal
ATTACH;FMTTYPE=image/jpeg:https://visitdelco.com/wp-content/uploads/2026/04/665865893_1519498290178592_188479523590855349_n.jpg
END:VEVENT
BEGIN:VEVENT
DTSTART;TZID=America/New_York:20260628T100000
DTEND;TZID=America/New_York:20260628T130000
DTSTAMP:20260421T065354
CREATED:20260416T163127Z
LAST-MODIFIED:20260416T163127Z
UID:10034207-1782640800-1782651600@visitdelco.com
SUMMARY:Media Farmers Market
DESCRIPTION:
URL:https://visitdelco.com/event/media-farmers-market/2026-06-28/
LOCATION:Media\, PA
CATEGORIES:Market,Seasonal
ATTACH;FMTTYPE=image/jpeg:https://visitdelco.com/wp-content/uploads/2026/04/665865893_1519498290178592_188479523590855349_n.jpg
END:VEVENT
BEGIN:VEVENT
DTSTART;TZID=America/New_York:20260705T100000
DTEND;TZID=America/New_York:20260705T130000
DTSTAMP:20260421T065354
CREATED:20260416T163127Z
LAST-MODIFIED:20260416T163127Z
UID:10034208-1783245600-1783256400@visitdelco.com
SUMMARY:Media Farmers Market
DESCRIPTION:
URL:https://visitdelco.com/event/media-farmers-market/2026-07-05/
LOCATION:Media\, PA
CATEGORIES:Market,Seasonal
ATTACH;FMTTYPE=image/jpeg:https://visitdelco.com/wp-content/uploads/2026/04/665865893_1519498290178592_188479523590855349_n.jpg
END:VEVENT
BEGIN:VEVENT
DTSTART;TZID=America/New_York:20260712T100000
DTEND;TZID=America/New_York:20260712T130000
DTSTAMP:20260421T065354
CREATED:20260416T163127Z
LAST-MODIFIED:20260416T163127Z
UID:10034209-1783850400-1783861200@visitdelco.com
SUMMARY:Media Farmers Market
DESCRIPTION:
URL:https://visitdelco.com/event/media-farmers-market/2026-07-12/
LOCATION:Media\, PA
CATEGORIES:Market,Seasonal
ATTACH;FMTTYPE=image/jpeg:https://visitdelco.com/wp-content/uploads/2026/04/665865893_1519498290178592_188479523590855349_n.jpg
END:VEVENT
BEGIN:VEVENT
DTSTART;TZID=America/New_York:20260719T100000
DTEND;TZID=America/New_York:20260719T130000
DTSTAMP:20260421T065354
CREATED:20260416T163127Z
LAST-MODIFIED:20260416T163127Z
UID:10034210-1784455200-1784466000@visitdelco.com
SUMMARY:Media Farmers Market
DESCRIPTION:
URL:https://visitdelco.com/event/media-farmers-market/2026-07-19/
LOCATION:Media\, PA
CATEGORIES:Market,Seasonal
ATTACH;FMTTYPE=image/jpeg:https://visitdelco.com/wp-content/uploads/2026/04/665865893_1519498290178592_188479523590855349_n.jpg
END:VEVENT
BEGIN:VEVENT
DTSTART;TZID=America/New_York:20260726T100000
DTEND;TZID=America/New_York:20260726T130000
DTSTAMP:20260421T065354
CREATED:20260416T163127Z
LAST-MODIFIED:20260416T163127Z
UID:10034211-1785060000-1785070800@visitdelco.com
SUMMARY:Media Farmers Market
DESCRIPTION:
URL:https://visitdelco.com/event/media-farmers-market/2026-07-26/
LOCATION:Media\, PA
CATEGORIES:Market,Seasonal
ATTACH;FMTTYPE=image/jpeg:https://visitdelco.com/wp-content/uploads/2026/04/665865893_1519498290178592_188479523590855349_n.jpg
END:VEVENT
BEGIN:VEVENT
DTSTART;TZID=America/New_York:20260802T100000
DTEND;TZID=America/New_York:20260802T130000
DTSTAMP:20260421T065354
CREATED:20260416T163127Z
LAST-MODIFIED:20260416T163127Z
UID:10034212-1785664800-1785675600@visitdelco.com
SUMMARY:Media Farmers Market
DESCRIPTION:
URL:https://visitdelco.com/event/media-farmers-market/2026-08-02/
LOCATION:Media\, PA
CATEGORIES:Market,Seasonal
ATTACH;FMTTYPE=image/jpeg:https://visitdelco.com/wp-content/uploads/2026/04/665865893_1519498290178592_188479523590855349_n.jpg
END:VEVENT
BEGIN:VEVENT
DTSTART;TZID=America/New_York:20260809T100000
DTEND;TZID=America/New_York:20260809T130000
DTSTAMP:20260421T065354
CREATED:20260416T163127Z
LAST-MODIFIED:20260416T163127Z
UID:10034213-1786269600-1786280400@visitdelco.com
SUMMARY:Media Farmers Market
DESCRIPTION:
URL:https://visitdelco.com/event/media-farmers-market/2026-08-09/
LOCATION:Media\, PA
CATEGORIES:Market,Seasonal
ATTACH;FMTTYPE=image/jpeg:https://visitdelco.com/wp-content/uploads/2026/04/665865893_1519498290178592_188479523590855349_n.jpg
END:VEVENT
BEGIN:VEVENT
DTSTART;TZID=America/New_York:20260816T100000
DTEND;TZID=America/New_York:20260816T130000
DTSTAMP:20260421T065354
CREATED:20260416T163127Z
LAST-MODIFIED:20260416T163127Z
UID:10034214-1786874400-1786885200@visitdelco.com
SUMMARY:Media Farmers Market
DESCRIPTION:
URL:https://visitdelco.com/event/media-farmers-market/2026-08-16/
LOCATION:Media\, PA
CATEGORIES:Market,Seasonal
ATTACH;FMTTYPE=image/jpeg:https://visitdelco.com/wp-content/uploads/2026/04/665865893_1519498290178592_188479523590855349_n.jpg
END:VEVENT
BEGIN:VEVENT
DTSTART;TZID=America/New_York:20260823T100000
DTEND;TZID=America/New_York:20260823T130000
DTSTAMP:20260421T065354
CREATED:20260416T163127Z
LAST-MODIFIED:20260416T163127Z
UID:10034215-1787479200-1787490000@visitdelco.com
SUMMARY:Media Farmers Market
DESCRIPTION:
URL:https://visitdelco.com/event/media-farmers-market/2026-08-23/
LOCATION:Media\, PA
CATEGORIES:Market,Seasonal
ATTACH;FMTTYPE=image/jpeg:https://visitdelco.com/wp-content/uploads/2026/04/665865893_1519498290178592_188479523590855349_n.jpg
END:VEVENT
BEGIN:VEVENT
DTSTART;TZID=America/New_York:20260830T100000
DTEND;TZID=America/New_York:20260830T130000
DTSTAMP:20260421T065354
CREATED:20260416T163127Z
LAST-MODIFIED:20260416T163127Z
UID:10034216-1788084000-1788094800@visitdelco.com
SUMMARY:Media Farmers Market
DESCRIPTION:
URL:https://visitdelco.com/event/media-farmers-market/2026-08-30/
LOCATION:Media\, PA
CATEGORIES:Market,Seasonal
ATTACH;FMTTYPE=image/jpeg:https://visitdelco.com/wp-content/uploads/2026/04/665865893_1519498290178592_188479523590855349_n.jpg
END:VEVENT
BEGIN:VEVENT
DTSTART;TZID=America/New_York:20260906T100000
DTEND;TZID=America/New_York:20260906T130000
DTSTAMP:20260421T065354
CREATED:20260416T163127Z
LAST-MODIFIED:20260416T163127Z
UID:10034217-1788688800-1788699600@visitdelco.com
SUMMARY:Media Farmers Market
DESCRIPTION:
URL:https://visitdelco.com/event/media-farmers-market/2026-09-06/
LOCATION:Media\, PA
CATEGORIES:Market,Seasonal
ATTACH;FMTTYPE=image/jpeg:https://visitdelco.com/wp-content/uploads/2026/04/665865893_1519498290178592_188479523590855349_n.jpg
END:VEVENT
BEGIN:VEVENT
DTSTART;TZID=America/New_York:20260913T100000
DTEND;TZID=America/New_York:20260913T130000
DTSTAMP:20260421T065354
CREATED:20260416T163127Z
LAST-MODIFIED:20260416T163127Z
UID:10034218-1789293600-1789304400@visitdelco.com
SUMMARY:Media Farmers Market
DESCRIPTION:
URL:https://visitdelco.com/event/media-farmers-market/2026-09-13/
LOCATION:Media\, PA
CATEGORIES:Market,Seasonal
ATTACH;FMTTYPE=image/jpeg:https://visitdelco.com/wp-content/uploads/2026/04/665865893_1519498290178592_188479523590855349_n.jpg
END:VEVENT
BEGIN:VEVENT
DTSTART;TZID=America/New_York:20260920T100000
DTEND;TZID=America/New_York:20260920T130000
DTSTAMP:20260421T065354
CREATED:20260416T163127Z
LAST-MODIFIED:20260416T163127Z
UID:10034219-1789898400-1789909200@visitdelco.com
SUMMARY:Media Farmers Market
DESCRIPTION:
URL:https://visitdelco.com/event/media-farmers-market/2026-09-20/
LOCATION:Media\, PA
CATEGORIES:Market,Seasonal
ATTACH;FMTTYPE=image/jpeg:https://visitdelco.com/wp-content/uploads/2026/04/665865893_1519498290178592_188479523590855349_n.jpg
END:VEVENT
BEGIN:VEVENT
DTSTART;TZID=America/New_York:20260927T100000
DTEND;TZID=America/New_York:20260927T130000
DTSTAMP:20260421T065354
CREATED:20260416T163127Z
LAST-MODIFIED:20260416T163127Z
UID:10034220-1790503200-1790514000@visitdelco.com
SUMMARY:Media Farmers Market
DESCRIPTION:
URL:https://visitdelco.com/event/media-farmers-market/2026-09-27/
LOCATION:Media\, PA
CATEGORIES:Market,Seasonal
ATTACH;FMTTYPE=image/jpeg:https://visitdelco.com/wp-content/uploads/2026/04/665865893_1519498290178592_188479523590855349_n.jpg
END:VEVENT
BEGIN:VEVENT
DTSTART;TZID=America/New_York:20261004T100000
DTEND;TZID=America/New_York:20261004T130000
DTSTAMP:20260421T065354
CREATED:20260416T163127Z
LAST-MODIFIED:20260416T163127Z
UID:10034221-1791108000-1791118800@visitdelco.com
SUMMARY:Media Farmers Market
DESCRIPTION:
URL:https://visitdelco.com/event/media-farmers-market/2026-10-04/
LOCATION:Media\, PA
CATEGORIES:Market,Seasonal
ATTACH;FMTTYPE=image/jpeg:https://visitdelco.com/wp-content/uploads/2026/04/665865893_1519498290178592_188479523590855349_n.jpg
END:VEVENT
BEGIN:VEVENT
DTSTART;TZID=America/New_York:20261011T100000
DTEND;TZID=America/New_York:20261011T130000
DTSTAMP:20260421T065354
CREATED:20260416T163127Z
LAST-MODIFIED:20260416T163127Z
UID:10034222-1791712800-1791723600@visitdelco.com
SUMMARY:Media Farmers Market
DESCRIPTION:
URL:https://visitdelco.com/event/media-farmers-market/2026-10-11/
LOCATION:Media\, PA
CATEGORIES:Market,Seasonal
ATTACH;FMTTYPE=image/jpeg:https://visitdelco.com/wp-content/uploads/2026/04/665865893_1519498290178592_188479523590855349_n.jpg
END:VEVENT
BEGIN:VEVENT
DTSTART;TZID=America/New_York:20261018T100000
DTEND;TZID=America/New_York:20261018T130000
DTSTAMP:20260421T065354
CREATED:20260416T163127Z
LAST-MODIFIED:20260416T163127Z
UID:10034223-1792317600-1792328400@visitdelco.com
SUMMARY:Media Farmers Market
DESCRIPTION:
URL:https://visitdelco.com/event/media-farmers-market/2026-10-18/
LOCATION:Media\, PA
CATEGORIES:Market,Seasonal
ATTACH;FMTTYPE=image/jpeg:https://visitdelco.com/wp-content/uploads/2026/04/665865893_1519498290178592_188479523590855349_n.jpg
END:VEVENT
BEGIN:VEVENT
DTSTART;TZID=America/New_York:20261025T100000
DTEND;TZID=America/New_York:20261025T130000
DTSTAMP:20260421T065354
CREATED:20260416T163127Z
LAST-MODIFIED:20260416T163127Z
UID:10034224-1792922400-1792933200@visitdelco.com
SUMMARY:Media Farmers Market
DESCRIPTION:
URL:https://visitdelco.com/event/media-farmers-market/2026-10-25/
LOCATION:Media\, PA
CATEGORIES:Market,Seasonal
ATTACH;FMTTYPE=image/jpeg:https://visitdelco.com/wp-content/uploads/2026/04/665865893_1519498290178592_188479523590855349_n.jpg
END:VEVENT
BEGIN:VEVENT
DTSTART;TZID=America/New_York:20261101T100000
DTEND;TZID=America/New_York:20261101T130000
DTSTAMP:20260421T065354
CREATED:20260416T163127Z
LAST-MODIFIED:20260416T163127Z
UID:10034225-1793527200-1793538000@visitdelco.com
SUMMARY:Media Farmers Market
DESCRIPTION:
URL:https://visitdelco.com/event/media-farmers-market/2026-11-01/
LOCATION:Media\, PA
CATEGORIES:Market,Seasonal
ATTACH;FMTTYPE=image/jpeg:https://visitdelco.com/wp-content/uploads/2026/04/665865893_1519498290178592_188479523590855349_n.jpg
END:VEVENT
BEGIN:VEVENT
DTSTART;TZID=America/New_York:20261108T100000
DTEND;TZID=America/New_York:20261108T130000
DTSTAMP:20260421T065354
CREATED:20260416T163127Z
LAST-MODIFIED:20260416T163127Z
UID:10034226-1794132000-1794142800@visitdelco.com
SUMMARY:Media Farmers Market
DESCRIPTION:
URL:https://visitdelco.com/event/media-farmers-market/2026-11-08/
LOCATION:Media\, PA
CATEGORIES:Market,Seasonal
ATTACH;FMTTYPE=image/jpeg:https://visitdelco.com/wp-content/uploads/2026/04/665865893_1519498290178592_188479523590855349_n.jpg
END:VEVENT
BEGIN:VEVENT
DTSTART;TZID=America/New_York:20261115T100000
DTEND;TZID=America/New_York:20261115T130000
DTSTAMP:20260421T065354
CREATED:20260416T163127Z
LAST-MODIFIED:20260416T163127Z
UID:10034227-1794736800-1794747600@visitdelco.com
SUMMARY:Media Farmers Market
DESCRIPTION:
URL:https://visitdelco.com/event/media-farmers-market/2026-11-15/
LOCATION:Media\, PA
CATEGORIES:Market,Seasonal
ATTACH;FMTTYPE=image/jpeg:https://visitdelco.com/wp-content/uploads/2026/04/665865893_1519498290178592_188479523590855349_n.jpg
END:VEVENT
END:VCALENDAR