BEGIN:VCALENDAR
VERSION:2.0
PRODID:-//Visit Delco, PA - ECPv6.15.17.1//NONSGML v1.0//EN
CALSCALE:GREGORIAN
METHOD:PUBLISH
X-WR-CALNAME:Visit Delco, PA
X-ORIGINAL-URL:https://visitdelco.com
X-WR-CALDESC:Events for Visit Delco, PA
REFRESH-INTERVAL;VALUE=DURATION:PT1H
X-Robots-Tag:noindex
X-PUBLISHED-TTL:PT1H
BEGIN:VTIMEZONE
TZID:America/New_York
BEGIN:DAYLIGHT
TZOFFSETFROM:-0500
TZOFFSETTO:-0400
TZNAME:EDT
DTSTART:20250309T070000
END:DAYLIGHT
BEGIN:STANDARD
TZOFFSETFROM:-0400
TZOFFSETTO:-0500
TZNAME:EST
DTSTART:20251102T060000
END:STANDARD
BEGIN:DAYLIGHT
TZOFFSETFROM:-0500
TZOFFSETTO:-0400
TZNAME:EDT
DTSTART:20260308T070000
END:DAYLIGHT
BEGIN:STANDARD
TZOFFSETFROM:-0400
TZOFFSETTO:-0500
TZNAME:EST
DTSTART:20261101T060000
END:STANDARD
BEGIN:DAYLIGHT
TZOFFSETFROM:-0500
TZOFFSETTO:-0400
TZNAME:EDT
DTSTART:20270314T070000
END:DAYLIGHT
BEGIN:STANDARD
TZOFFSETFROM:-0400
TZOFFSETTO:-0500
TZNAME:EST
DTSTART:20271107T060000
END:STANDARD
END:VTIMEZONE
BEGIN:VEVENT
DTSTART;TZID=America/New_York:20260523T140000
DTEND;TZID=America/New_York:20260523T160000
DTSTAMP:20260421T114307
CREATED:20260415T135633Z
LAST-MODIFIED:20260415T135633Z
UID:10034165-1779544800-1779552000@visitdelco.com
SUMMARY:Hedgerow Theatre:  ChipandGus
DESCRIPTION:Chip and Gus\, oddball acquaintances\, meet once a month in the grungy back room of an upstate New York sports bar\, to do the one thing they love…play ping pong. But this night is different…this night there is something else in the room. Gus (John Ahlin)\, a flamboyantly stoic professor of Philosophy and socially inept genius\, spouts jokes and pedantry. Chip (Christopher Patrick Mullen)\, is a goofy struggling music teacher and composer\, whose life hangs by a thread. On this particular evening\, Chip and Gus are on a collision course…only they don’t know it. \nThis spectacular\, gripping\, rapid-fire human symphony took FringeNYC by storm – celebrated as Winner Overall Excellence Award for Ensemble. Born in a Philadelphia-area garage\, ChipandGus comes home for a not-to-be-missed weekend of Pop-Up performances at Hedgerow Theatre\, in Media\, PA. Catch the production before it volleys across the Atlantic for the world-renowned Edinburgh Fringe Festival this summer
URL:https://visitdelco.com/event/hedgerow-theatre-chipandgus/2026-05-23/1/
LOCATION:Hedgerow Theatre\, 64 Rose Valley Road\, Media\, PA\, 19063\, United States
CATEGORIES:Theater,Arts & Culture
ATTACH;FMTTYPE=image/webp:https://visitdelco.com/wp-content/uploads/2026/04/chipandgus_original-petrich-001.webp
END:VEVENT
BEGIN:VEVENT
DTSTART;TZID=America/New_York:20260523T190000
DTEND;TZID=America/New_York:20260523T210000
DTSTAMP:20260421T114307
CREATED:20260415T135633Z
LAST-MODIFIED:20260415T135633Z
UID:10034166-1779562800-1779570000@visitdelco.com
SUMMARY:Hedgerow Theatre:  ChipandGus
DESCRIPTION:Chip and Gus\, oddball acquaintances\, meet once a month in the grungy back room of an upstate New York sports bar\, to do the one thing they love…play ping pong. But this night is different…this night there is something else in the room. Gus (John Ahlin)\, a flamboyantly stoic professor of Philosophy and socially inept genius\, spouts jokes and pedantry. Chip (Christopher Patrick Mullen)\, is a goofy struggling music teacher and composer\, whose life hangs by a thread. On this particular evening\, Chip and Gus are on a collision course…only they don’t know it. \nThis spectacular\, gripping\, rapid-fire human symphony took FringeNYC by storm – celebrated as Winner Overall Excellence Award for Ensemble. Born in a Philadelphia-area garage\, ChipandGus comes home for a not-to-be-missed weekend of Pop-Up performances at Hedgerow Theatre\, in Media\, PA. Catch the production before it volleys across the Atlantic for the world-renowned Edinburgh Fringe Festival this summer
URL:https://visitdelco.com/event/hedgerow-theatre-chipandgus/2026-05-23/2/
LOCATION:Hedgerow Theatre\, 64 Rose Valley Road\, Media\, PA\, 19063\, United States
CATEGORIES:Theater,Arts & Culture
ATTACH;FMTTYPE=image/webp:https://visitdelco.com/wp-content/uploads/2026/04/chipandgus_original-petrich-001.webp
END:VEVENT
BEGIN:VEVENT
DTSTART;TZID=America/New_York:20260524T140000
DTEND;TZID=America/New_York:20260524T160000
DTSTAMP:20260421T114307
CREATED:20260415T135633Z
LAST-MODIFIED:20260415T135633Z
UID:10034167-1779631200-1779638400@visitdelco.com
SUMMARY:Hedgerow Theatre:  ChipandGus
DESCRIPTION:Chip and Gus\, oddball acquaintances\, meet once a month in the grungy back room of an upstate New York sports bar\, to do the one thing they love…play ping pong. But this night is different…this night there is something else in the room. Gus (John Ahlin)\, a flamboyantly stoic professor of Philosophy and socially inept genius\, spouts jokes and pedantry. Chip (Christopher Patrick Mullen)\, is a goofy struggling music teacher and composer\, whose life hangs by a thread. On this particular evening\, Chip and Gus are on a collision course…only they don’t know it. \nThis spectacular\, gripping\, rapid-fire human symphony took FringeNYC by storm – celebrated as Winner Overall Excellence Award for Ensemble. Born in a Philadelphia-area garage\, ChipandGus comes home for a not-to-be-missed weekend of Pop-Up performances at Hedgerow Theatre\, in Media\, PA. Catch the production before it volleys across the Atlantic for the world-renowned Edinburgh Fringe Festival this summer
URL:https://visitdelco.com/event/hedgerow-theatre-chipandgus/2026-05-24/
LOCATION:Hedgerow Theatre\, 64 Rose Valley Road\, Media\, PA\, 19063\, United States
CATEGORIES:Theater,Arts & Culture
ATTACH;FMTTYPE=image/webp:https://visitdelco.com/wp-content/uploads/2026/04/chipandgus_original-petrich-001.webp
END:VEVENT
END:VCALENDAR