BEGIN:VCALENDAR
VERSION:2.0
PRODID:-//Visit Delco, PA - ECPv6.15.17.1//NONSGML v1.0//EN
CALSCALE:GREGORIAN
METHOD:PUBLISH
X-WR-CALNAME:Visit Delco, PA
X-ORIGINAL-URL:https://visitdelco.com
X-WR-CALDESC:Events for Visit Delco, PA
REFRESH-INTERVAL;VALUE=DURATION:PT1H
X-Robots-Tag:noindex
X-PUBLISHED-TTL:PT1H
BEGIN:VTIMEZONE
TZID:America/New_York
BEGIN:DAYLIGHT
TZOFFSETFROM:-0500
TZOFFSETTO:-0400
TZNAME:EDT
DTSTART:20250309T070000
END:DAYLIGHT
BEGIN:STANDARD
TZOFFSETFROM:-0400
TZOFFSETTO:-0500
TZNAME:EST
DTSTART:20251102T060000
END:STANDARD
BEGIN:DAYLIGHT
TZOFFSETFROM:-0500
TZOFFSETTO:-0400
TZNAME:EDT
DTSTART:20260308T070000
END:DAYLIGHT
BEGIN:STANDARD
TZOFFSETFROM:-0400
TZOFFSETTO:-0500
TZNAME:EST
DTSTART:20261101T060000
END:STANDARD
BEGIN:DAYLIGHT
TZOFFSETFROM:-0500
TZOFFSETTO:-0400
TZNAME:EDT
DTSTART:20270314T070000
END:DAYLIGHT
BEGIN:STANDARD
TZOFFSETFROM:-0400
TZOFFSETTO:-0500
TZNAME:EST
DTSTART:20271107T060000
END:STANDARD
END:VTIMEZONE
BEGIN:VEVENT
DTSTART;TZID=America/New_York:20260430T150000
DTEND;TZID=America/New_York:20260430T170000
DTSTAMP:20260421T121918
CREATED:20260213T225556Z
LAST-MODIFIED:20260213T225556Z
UID:10033221-1777561200-1777568400@visitdelco.com
SUMMARY:Lansdowne Theater:  Jon Anderson & The Band Geeks
DESCRIPTION:Jon Anderson is undoubtedly one of the most recognizable voices in music as the lead vocalist and creative force behind YES. Anderson was the author and a major creative influence behind the ground-breaking album Fragile\, as well as the series of epic\, complex pieces such as “Awaken\,” “Gates of Delirium” and especially “Close to the Edge” which were central to the band’s success. Additionally\, Anderson co-authored the group’s biggest hits\, including “I’ve Seen All Good People\,” “Roundabout” and “Owner Of A Lonely Heart.” After 50 years of success in the music business\, Jon has worked with many variations of YES\, as well as collaborations with Vangelis\, Kitaro\, Roine Stolt and Jean-Luc Ponty. He has released several critically acclaimed solo albums including “Olias of Sunhillow\,” “Song of Seven\,” “Animation\,” “Three Ships\,” “Toltec” and “Survival and Other Stories” and most recently “1000 Hands” to name just a few.\n\nThe Band Geeks began as the house band for the Band Geek podcast\, an internet show created by Richie Castellano (Blue Öyster Cult). The band gained popularity on YouTube with their incredibly detailed recreations of music by artists like Queen\, Toto\, Black Sabbath and Yes\, which have earned the Band Geeks over 30 million views.\n\nFollowing their successful summer of 2025 tour in support of their debut album True and their live album Perpetual Change\, Jon Anderson and The Band Geeks announce their 2026 “YES Epics\, Classics\, and More” tour\, featuring well known YES classics and deep cuts as well as songs from True.
URL:https://visitdelco.com/event/lansdowne-theater-jon-anderson-the-band-geeks/2026-04-30/
LOCATION:Lansdowne Theater\, 31 N. Lansdowne Avenue\, Lansdowne\, PA\, 19050\, United States
CATEGORIES:Concerts & Live Music,Arts & Culture
ATTACH;FMTTYPE=image/jpeg:https://visitdelco.com/wp-content/uploads/2026/02/Screenshot_13-2-2026_125546_thelansdownetheater.com_.jpeg
END:VEVENT
BEGIN:VEVENT
DTSTART;TZID=America/New_York:20260502T150000
DTEND;TZID=America/New_York:20260502T170000
DTSTAMP:20260421T121918
CREATED:20260213T225556Z
LAST-MODIFIED:20260213T225556Z
UID:10033222-1777734000-1777741200@visitdelco.com
SUMMARY:Lansdowne Theater:  Jon Anderson & The Band Geeks
DESCRIPTION:Jon Anderson is undoubtedly one of the most recognizable voices in music as the lead vocalist and creative force behind YES. Anderson was the author and a major creative influence behind the ground-breaking album Fragile\, as well as the series of epic\, complex pieces such as “Awaken\,” “Gates of Delirium” and especially “Close to the Edge” which were central to the band’s success. Additionally\, Anderson co-authored the group’s biggest hits\, including “I’ve Seen All Good People\,” “Roundabout” and “Owner Of A Lonely Heart.” After 50 years of success in the music business\, Jon has worked with many variations of YES\, as well as collaborations with Vangelis\, Kitaro\, Roine Stolt and Jean-Luc Ponty. He has released several critically acclaimed solo albums including “Olias of Sunhillow\,” “Song of Seven\,” “Animation\,” “Three Ships\,” “Toltec” and “Survival and Other Stories” and most recently “1000 Hands” to name just a few.\n\nThe Band Geeks began as the house band for the Band Geek podcast\, an internet show created by Richie Castellano (Blue Öyster Cult). The band gained popularity on YouTube with their incredibly detailed recreations of music by artists like Queen\, Toto\, Black Sabbath and Yes\, which have earned the Band Geeks over 30 million views.\n\nFollowing their successful summer of 2025 tour in support of their debut album True and their live album Perpetual Change\, Jon Anderson and The Band Geeks announce their 2026 “YES Epics\, Classics\, and More” tour\, featuring well known YES classics and deep cuts as well as songs from True.
URL:https://visitdelco.com/event/lansdowne-theater-jon-anderson-the-band-geeks/2026-05-02/
LOCATION:Lansdowne Theater\, 31 N. Lansdowne Avenue\, Lansdowne\, PA\, 19050\, United States
CATEGORIES:Concerts & Live Music,Arts & Culture
ATTACH;FMTTYPE=image/jpeg:https://visitdelco.com/wp-content/uploads/2026/02/Screenshot_13-2-2026_125546_thelansdownetheater.com_.jpeg
END:VEVENT
END:VCALENDAR