BEGIN:VCALENDAR
VERSION:2.0
PRODID:-//Visit Delco, PA - ECPv6.15.17.1//NONSGML v1.0//EN
CALSCALE:GREGORIAN
METHOD:PUBLISH
X-WR-CALNAME:Visit Delco, PA
X-ORIGINAL-URL:https://visitdelco.com
X-WR-CALDESC:Events for Visit Delco, PA
REFRESH-INTERVAL;VALUE=DURATION:PT1H
X-Robots-Tag:noindex
X-PUBLISHED-TTL:PT1H
BEGIN:VTIMEZONE
TZID:America/New_York
BEGIN:DAYLIGHT
TZOFFSETFROM:-0500
TZOFFSETTO:-0400
TZNAME:EDT
DTSTART:20250309T070000
END:DAYLIGHT
BEGIN:STANDARD
TZOFFSETFROM:-0400
TZOFFSETTO:-0500
TZNAME:EST
DTSTART:20251102T060000
END:STANDARD
BEGIN:DAYLIGHT
TZOFFSETFROM:-0500
TZOFFSETTO:-0400
TZNAME:EDT
DTSTART:20260308T070000
END:DAYLIGHT
BEGIN:STANDARD
TZOFFSETFROM:-0400
TZOFFSETTO:-0500
TZNAME:EST
DTSTART:20261101T060000
END:STANDARD
BEGIN:DAYLIGHT
TZOFFSETFROM:-0500
TZOFFSETTO:-0400
TZNAME:EDT
DTSTART:20270314T070000
END:DAYLIGHT
BEGIN:STANDARD
TZOFFSETFROM:-0400
TZOFFSETTO:-0500
TZNAME:EST
DTSTART:20271107T060000
END:STANDARD
END:VTIMEZONE
BEGIN:VEVENT
DTSTART;TZID=America/New_York:20260421T130000
DTEND;TZID=America/New_York:20260421T160000
DTSTAMP:20260421T065354
CREATED:20260210T011048Z
LAST-MODIFIED:20260210T011048Z
UID:10033177-1776776400-1776787200@visitdelco.com
SUMMARY:Intro to Wheel Throwing by LEDC/ Utility Works
DESCRIPTION:Come and learn the joys of making art you can use! \n\n\n\n\nThis class is perfect for beginner to intermediate wheel throwing students. Whether you’ve taken a pottery class before or this is your first time using the wheel\, you will be able to develop your ceramic skills to create beautiful functional pieces. We will cover foundational topics including centering\, handle making\, throwing functional forms (cups\, bowls\, plates\, etc.)\, trimming\, and surface decorations. Come and learn the joys of making art you can use!
URL:https://visitdelco.com/event/intro-to-wheel-throwing-by-ledc-utility-works/2026-04-21/
LOCATION:Lansdowne\, PA\, Lansdowne\, PA\, 19050\, United States
CATEGORIES:Arts & Culture,Workshops/Classes
ATTACH;FMTTYPE=image/jpeg:https://visitdelco.com/wp-content/uploads/2026/02/Screenshot_9-2-2026_151023_www.eventbrite.com_.jpeg
END:VEVENT
BEGIN:VEVENT
DTSTART;TZID=America/New_York:20260424T050000
DTEND;TZID=America/New_York:20260424T070000
DTSTAMP:20260421T065354
CREATED:20260309T222008Z
LAST-MODIFIED:20260309T222008Z
UID:10033413-1777006800-1777014000@visitdelco.com
SUMMARY:Tyler Arboretum:  Nature Journaling Series
DESCRIPTION:FOR ADULTS AGES 18+ \nFridays\, April 3\, 10\, 17\, 24\, 2026 \nTake a deep dive into the natural world. Use nature journaling to observe and record the flora and fauna around you. Engage your inner scientist\, writer\, and artist as you capture meaningful details. Learn simple tools and techniques for observing\, recording\, and sketching in a supportive setting at Tyler Arboretum\, exploring a new area in each of the four classes.
URL:https://visitdelco.com/event/tyler-arboretum-nature-journaling-series/2026-04-24/
LOCATION:Tyler Arboretum\, 515 Painter Road\, Media\, PA\, 19063\, United States
CATEGORIES:Gardens/ Nature/ Outdoors,Workshops/Classes
ATTACH;FMTTYPE=image/jpeg:https://visitdelco.com/wp-content/uploads/2026/03/Nature-Journaling-April-2026-800x450-1.jpg
END:VEVENT
BEGIN:VEVENT
DTSTART;TZID=America/New_York:20260424T180000
DTEND;TZID=America/New_York:20260424T200000
DTSTAMP:20260421T065354
CREATED:20260416T184327Z
LAST-MODIFIED:20260416T184327Z
UID:10034679-1777053600-1777060800@visitdelco.com
SUMMARY:Darlington Arts Center:  Terrarium & Sip Workshop
DESCRIPTION:
URL:https://visitdelco.com/event/darlington-arts-center-terrarium-sip-workshop/
LOCATION:Darlington Arts Center\, 977 Shavertown Road\, Garnet Valley\, PA\, 19060\, United States
CATEGORIES:Arts & Culture,Workshops/Classes
ATTACH;FMTTYPE=image/jpeg:https://visitdelco.com/wp-content/uploads/2026/04/Screenshot_16-4-2026_144228_www.instagram.com_.jpeg
END:VEVENT
BEGIN:VEVENT
DTSTART;TZID=America/New_York:20260426T080000
DTEND;TZID=America/New_York:20260426T093000
DTSTAMP:20260421T065354
CREATED:20260309T222324Z
LAST-MODIFIED:20260309T222324Z
UID:10033415-1777190400-1777195800@visitdelco.com
SUMMARY:Tyler Arboretum - Spring Workshop: Intro to Orienteering
DESCRIPTION:ADULTS & CHILDREN AGES 5+  \n\n\nUse a compass to find your way through increasingly challenging courses. At the end of the day\, take your compass home along with new confidence in your wayfinding skills! \nAbout your instructor: Tyler Arboretum Educator Erin Conway might not be able to remember road names\, but after a season of helping lost hikers in Maine’s backcountry\, she’s confident she can teach you how to find your way around Tyler’s 650 acres. Just don’t ask her which highway to take to get here! \n\n\nWhat to expect:   \n\n\n\nRain or shine. In the event of dangerous conditions (i.e.\, thunderstorms)\, an alternative version of the class will be held indoors\, and you can return at a later date to try the outdoor courses.\nMeet at the Visitor Center.\nHike up to 1.5 miles to reach and complete all the courses\, the more difficult of which will be off-trail.\nSeveral smaller courses will be set for the youngest wayfinders.\nThis is not a stroller-friendly program; if you are bringing a child ages 2 and under\, please use a carrier.\n\nWhat to bring: \n\n\n\nDress for the weather. \nSturdy shoes and long pants for walking off-trail\n\nPRE-REGISTRATION IS REQUIRED.  Please note: This program is designed for children ages 5+\, but feel free to bring younger siblings.  No need to register children 4 and under. Younger children will likely need a helping hand while sharing an adult’s compass.
URL:https://visitdelco.com/event/tyler-arboretum-spring-workshop-intro-to-orienteering/
LOCATION:Tyler Arboretum\, 515 Painter Road\, Media\, PA\, 19063\, United States
CATEGORIES:Family Fun,Gardens/ Nature/ Outdoors,Workshops/Classes
ATTACH;FMTTYPE=image/jpeg:https://visitdelco.com/wp-content/uploads/2026/03/Screenshot_9-3-2026_132230_tylerarboretum.org_.jpeg
END:VEVENT
BEGIN:VEVENT
DTSTART;TZID=America/New_York:20260428T130000
DTEND;TZID=America/New_York:20260428T160000
DTSTAMP:20260421T065354
CREATED:20260210T011048Z
LAST-MODIFIED:20260210T011048Z
UID:10033178-1777381200-1777392000@visitdelco.com
SUMMARY:Intro to Wheel Throwing by LEDC/ Utility Works
DESCRIPTION:Come and learn the joys of making art you can use! \n\n\n\n\nThis class is perfect for beginner to intermediate wheel throwing students. Whether you’ve taken a pottery class before or this is your first time using the wheel\, you will be able to develop your ceramic skills to create beautiful functional pieces. We will cover foundational topics including centering\, handle making\, throwing functional forms (cups\, bowls\, plates\, etc.)\, trimming\, and surface decorations. Come and learn the joys of making art you can use!
URL:https://visitdelco.com/event/intro-to-wheel-throwing-by-ledc-utility-works/2026-04-28/
LOCATION:Lansdowne\, PA\, Lansdowne\, PA\, 19050\, United States
CATEGORIES:Arts & Culture,Workshops/Classes
ATTACH;FMTTYPE=image/jpeg:https://visitdelco.com/wp-content/uploads/2026/02/Screenshot_9-2-2026_151023_www.eventbrite.com_.jpeg
END:VEVENT
BEGIN:VEVENT
DTSTART;TZID=America/New_York:20260503T100000
DTEND;TZID=America/New_York:20260503T180000
DTSTAMP:20260421T065354
CREATED:20260407T181418Z
LAST-MODIFIED:20260407T181424Z
UID:10034139-1777802400-1777831200@visitdelco.com
SUMMARY:The American Peony Society:  Exhibition Open to Public
DESCRIPTION:The American Peony Society\, held at the Delta Hotel Philadelphia Airport. will bring its 2026 Annual Convention to Philadelphia from May 2–5\, celebrating the theme “Honor Our Roots.” The event gathers peony enthusiasts\, growers\, and experts for garden tours\, educational seminars\, and a judged flower show featuring exceptional blooms at peak season. \nA highlight of the convention is the American Peony Society Flower Show and Exhibition\, where hundreds of carefully cultivated peonies are displayed and judged for top honors. This stunning showcase will be open to the public on Sunday\, May 3\, offering a rare opportunity to view a wide range of varieties and artistic arrangements all in one place. \nVisitors can expect an inspiring\, colorful experience that celebrates both horticultural excellence and the enduring beauty of peonies.
URL:https://visitdelco.com/event/the-american-peony-society-exhibition-open-to-public/
LOCATION:Delaware County\, PA\, United States
CATEGORIES:Gardens/ Nature/ Outdoors,Workshops/Classes,Seasonal,Educational
ATTACH;FMTTYPE=image/jpeg:https://visitdelco.com/wp-content/uploads/2026/04/Screenshot_7-4-2026_141210_chatgpt.com_.jpeg
END:VEVENT
BEGIN:VEVENT
DTSTART;TZID=America/New_York:20260505T130000
DTEND;TZID=America/New_York:20260505T160000
DTSTAMP:20260421T065354
CREATED:20260210T011048Z
LAST-MODIFIED:20260210T011048Z
UID:10033179-1777986000-1777996800@visitdelco.com
SUMMARY:Intro to Wheel Throwing by LEDC/ Utility Works
DESCRIPTION:Come and learn the joys of making art you can use! \n\n\n\n\nThis class is perfect for beginner to intermediate wheel throwing students. Whether you’ve taken a pottery class before or this is your first time using the wheel\, you will be able to develop your ceramic skills to create beautiful functional pieces. We will cover foundational topics including centering\, handle making\, throwing functional forms (cups\, bowls\, plates\, etc.)\, trimming\, and surface decorations. Come and learn the joys of making art you can use!
URL:https://visitdelco.com/event/intro-to-wheel-throwing-by-ledc-utility-works/2026-05-05/
LOCATION:Lansdowne\, PA\, Lansdowne\, PA\, 19050\, United States
CATEGORIES:Arts & Culture,Workshops/Classes
ATTACH;FMTTYPE=image/jpeg:https://visitdelco.com/wp-content/uploads/2026/02/Screenshot_9-2-2026_151023_www.eventbrite.com_.jpeg
END:VEVENT
BEGIN:VEVENT
DTSTART;TZID=America/New_York:20260507T183000
DTEND;TZID=America/New_York:20260507T203000
DTSTAMP:20260421T065354
CREATED:20260416T200746Z
LAST-MODIFIED:20260416T200746Z
UID:10034690-1778178600-1778185800@visitdelco.com
SUMMARY:Grace Winery: Charcuterie Workshop
DESCRIPTION:Join us for a delightful and creative Mother’s Day-themed charcuterie workshop! Whether you’re celebrating your mom\, a mother figure\, or treating yourself to a fun and relaxing experience\, this hands-on class is the perfect way to make sweet memories.
URL:https://visitdelco.com/event/grace-winery-charcuterie-workshop/
LOCATION:Grace Winery\, 50 Sweetwater Road\, Glen Mills\, PA\, 19342\, United States
CATEGORIES:Beer & Wine,Workshops/Classes
ATTACH;FMTTYPE=image/webp:https://visitdelco.com/wp-content/uploads/2026/04/OIP-4.webp
END:VEVENT
BEGIN:VEVENT
DTSTART;TZID=America/New_York:20260508T130000
DTEND;TZID=America/New_York:20260508T150000
DTSTAMP:20260421T065354
CREATED:20260303T233832Z
LAST-MODIFIED:20260303T233832Z
UID:10033376-1778245200-1778252400@visitdelco.com
SUMMARY:Mother’s Day Flower Bar at 2SP Brewing
DESCRIPTION:A Floral Experience to Celebrate the Women You Love!\nCelebrate Mother’s Day weekend with a fun girls night out at 2SP Brewing. Our Mother’s Day Flower Bar is a fun\, creative experience where you’ll laugh\, enjoy a sip\, and design a spring floral arrangement side-by-side with your favorite women!\nBring Mom\, Grandma\, Auntie\, daughters\, sisters\, or your besties and enjoy a fun night out surrounded by blooms\, laughter\, and brews!\nIncluded in your reservation:\nYour choice of flowers from our bloom bar: roses\, focal blooms\, accent flowers\, greenery & more!Accents: A unique selection of trim like “Happy Mother’s Day” picks\, birds\, butterflies and more!Vessel: We provide the container to make your arrangement!A welcome glass of beer or wine!
URL:https://visitdelco.com/event/mothers-day-flower-bar-at-2sp-brewing/
LOCATION:2SP Brewing Company\, 120 Concord Road - Suite 101-103\, Aston\, PA\, 19014\, United States
CATEGORIES:Workshops/Classes,Seasonal
ATTACH;FMTTYPE=image/jpeg:https://visitdelco.com/wp-content/uploads/2026/03/641419571_122212355714051148_3814570987800693964_n.jpg
END:VEVENT
BEGIN:VEVENT
DTSTART;TZID=America/New_York:20260509T090000
DTEND;TZID=America/New_York:20260509T150000
DTSTAMP:20260421T065354
CREATED:20260415T162423Z
LAST-MODIFIED:20260415T162423Z
UID:10034174-1778317200-1778338800@visitdelco.com
SUMMARY:Colonial Pennsylvania Plantation:  Art on the Farm: Animal Drawing
DESCRIPTION:The Philadelphia area has a long tradition of natural history illustration going back to Charles Wilson Peale’s natural history museum and the establishment of first art school in the country –The Pennsylvania Academy of the Fine Arts. Continuing this naturalistic tradition\, we are offering a unique opportunity to experience our historical farm family via a beginner animal drawing workshop. Guided by an experienced artist you will be introduced to a variety of techniques\, sources of inspiration and suggestions for structuring your own drawing practice. \n  \nInstructor Bio: \nBeth Haebel is a visual artist who has exhibited in juried shows and galleries in the area. She has been a volunteer at Colonial Farmstead for over ten years and has recently turned her attention to creating naturalistic paintings the animals who live and work at our farm. She has taught drawing and painting in a variety of settings including community art centers and museums. \n  \nLight refreshments will provided but we suggest you bring lunch. We will be working primarily on a table but you are welcome to bring a portable chair or stool. \nMaterials Needed: \nInexpensive newsprint pad approx. 8 x 10 \nSpiral bound sketchbook approximately 11 x 14 \nNumber 2 or HB pencils\, pen felt tip or ballpoint \nEraser – White pearl or pink
URL:https://visitdelco.com/event/colonial-pennsylvania-plantation-art-on-the-farm-animal-drawing/
LOCATION:Colonial PA Farmstead\, 3900 Sandy Flash Drive\, Newtown Square\, PA\, 19073\, United States
CATEGORIES:History & Heritage,Arts & Culture,Workshops/Classes,Educational
ATTACH;FMTTYPE=image/webp:https://visitdelco.com/wp-content/uploads/2026/04/sheepdrawingclass.webp
END:VEVENT
BEGIN:VEVENT
DTSTART;TZID=America/New_York:20260509T100000
DTEND;TZID=America/New_York:20260509T130000
DTSTAMP:20260421T065354
CREATED:20260415T162542Z
LAST-MODIFIED:20260415T162553Z
UID:10034175-1778320800-1778331600@visitdelco.com
SUMMARY:Colonial Pennsylvania Plantation:  Hand Tilling
DESCRIPTION:Explore the traditional skill and art of tilling using historical techniques and manual tools. This hands-on session led by the Farmstead’s Historic Farm Manager will cover manual tilling techniques\, dealing with sward\, soil health\, and integrated gardening. Participants will leave with a deeper understanding of how to prepare a productive field or plot using hand tools and labor. \n  \nLimit 10 participants \n$25 members/$45 non-members
URL:https://visitdelco.com/event/colonial-pennsylvania-plantation-hand-tilling/
LOCATION:Colonial PA Farmstead\, 3900 Sandy Flash Drive\, Newtown Square\, PA\, 19073\, United States
CATEGORIES:History & Heritage,Workshops/Classes,Educational
ATTACH;FMTTYPE=image/webp:https://visitdelco.com/wp-content/uploads/2026/04/colonial-farmhouse-small.webp
END:VEVENT
BEGIN:VEVENT
DTSTART;TZID=America/New_York:20260509T100000
DTEND;TZID=America/New_York:20260509T130000
DTSTAMP:20260421T065354
CREATED:20260416T170920Z
LAST-MODIFIED:20260416T170920Z
UID:10034320-1778320800-1778331600@visitdelco.com
SUMMARY:Colonial Pennsylvania Farmstead:  Hand Tilling
DESCRIPTION:Explore the traditional skill and art of tilling using historical techniques and manual tools. This hands-on session led by the Farmstead’s Historic Farm Manager will cover manual tilling techniques\, dealing with sward\, soil health\, and integrated gardening. Participants will leave with a deeper understanding of how to prepare a productive field or plot using hand tools and labor. \n  \nLimit 10 participants \n$25 members/$45 non-members
URL:https://visitdelco.com/event/colonial-pennsylvania-farmstead-hand-tilling/
LOCATION:Colonial PA Farmstead\, 3900 Sandy Flash Drive\, Newtown Square\, PA\, 19073\, United States
CATEGORIES:History & Heritage,Workshops/Classes
ATTACH;FMTTYPE=image/webp:https://visitdelco.com/wp-content/uploads/2026/04/house1.webp
END:VEVENT
BEGIN:VEVENT
DTSTART;TZID=America/New_York:20260509T110000
DTEND;TZID=America/New_York:20260509T150000
DTSTAMP:20260421T065354
CREATED:20260416T171036Z
LAST-MODIFIED:20260416T171036Z
UID:10034321-1778324400-1778338800@visitdelco.com
SUMMARY:Colonial Pennsylvania Farmstead: Breadbasket of the Revolution: Bread and Cheese Workshop
DESCRIPTION:Discover why Pennsylvania was known as the “breadbasket” of the colonies and how the production of bread and cheese was essential to daily life and the local economy. Participants will step into the colonial kitchen to prepare bread and cheese and have the opportunity to sample flavors of the past. \n  \n$55 members/$75 non-members \nLimit 8 participants
URL:https://visitdelco.com/event/colonial-pennsylvania-farmstead-breadbasket-of-the-revolution-bread-and-cheese-workshop/
LOCATION:Colonial PA Farmstead\, 3900 Sandy Flash Drive\, Newtown Square\, PA\, 19073\, United States
CATEGORIES:History & Heritage,Workshops/Classes
ATTACH;FMTTYPE=image/webp:https://visitdelco.com/wp-content/uploads/2026/04/harvesttablekitchen1.webp
END:VEVENT
BEGIN:VEVENT
DTSTART;TZID=America/New_York:20260510T110000
DTEND;TZID=America/New_York:20260510T130000
DTSTAMP:20260421T065354
CREATED:20260416T201216Z
LAST-MODIFIED:20260416T201216Z
UID:10034694-1778410800-1778418000@visitdelco.com
SUMMARY:Grace Winery: Mother's Day Bouquet Bar
DESCRIPTION:Celebrate Mother’s Day with a beautiful\, memory-making experience. Our Mother’s Day Flower Bar is a joyful\, creative experience where you’ll slow down\, sip something lovely\, and design a stunning floral arrangement side-by-side with the women who mean the most to you.\n\nBring Mom\, Grandma\, Auntie\, daughters\, sisters\, or your besties and enjoy a relaxed day surrounded by blooms\, laughter\, and vineyard views!
URL:https://visitdelco.com/event/grace-winery-mothers-day-bouquet-bar/
LOCATION:Grace Winery\, 50 Sweetwater Road\, Glen Mills\, PA\, 19342\, United States
CATEGORIES:Beer & Wine,Workshops/Classes
ATTACH;FMTTYPE=image/jpeg:https://visitdelco.com/wp-content/uploads/2026/04/Screenshot_16-4-2026_16116_www.gracewinery.com_.jpeg
END:VEVENT
BEGIN:VEVENT
DTSTART;TZID=America/New_York:20260512T130000
DTEND;TZID=America/New_York:20260512T160000
DTSTAMP:20260421T065354
CREATED:20260210T011048Z
LAST-MODIFIED:20260210T011048Z
UID:10033180-1778590800-1778601600@visitdelco.com
SUMMARY:Intro to Wheel Throwing by LEDC/ Utility Works
DESCRIPTION:Come and learn the joys of making art you can use! \n\n\n\n\nThis class is perfect for beginner to intermediate wheel throwing students. Whether you’ve taken a pottery class before or this is your first time using the wheel\, you will be able to develop your ceramic skills to create beautiful functional pieces. We will cover foundational topics including centering\, handle making\, throwing functional forms (cups\, bowls\, plates\, etc.)\, trimming\, and surface decorations. Come and learn the joys of making art you can use!
URL:https://visitdelco.com/event/intro-to-wheel-throwing-by-ledc-utility-works/2026-05-12/
LOCATION:Lansdowne\, PA\, Lansdowne\, PA\, 19050\, United States
CATEGORIES:Arts & Culture,Workshops/Classes
ATTACH;FMTTYPE=image/jpeg:https://visitdelco.com/wp-content/uploads/2026/02/Screenshot_9-2-2026_151023_www.eventbrite.com_.jpeg
END:VEVENT
BEGIN:VEVENT
DTSTART;TZID=America/New_York:20260516T050000
DTEND;TZID=America/New_York:20260516T100000
DTSTAMP:20260421T065354
CREATED:20260204T200822Z
LAST-MODIFIED:20260204T200822Z
UID:10032790-1778907600-1778925600@visitdelco.com
SUMMARY:Newlin Grist Mill Presents:  Textile Demonstration
DESCRIPTION:Creating fabric and clothing in colonial Pennsylvania took many steps and many specialized tools. Come experience how some of those tools were used and how much work went into making the clothing that people wore every day. Try your hand at spinning wool using handheld drop spindles. \nEva Mergen has studied modern and historic textile production most of her life. She learned to sew as a child and got her first spinning wheel at 16. From there she delved into the history of textile production going all the way back to pre-history and all the way up to the industrial revolution. She got her Masters degree in Experimental Archaeology\, which is the study of how items we made and used in the past. \n 
URL:https://visitdelco.com/event/newlin-grist-mill-presents-textile-demonstration/
LOCATION:Newlin Grist Mill\, 219 Cheyney Road\, Glen Mills\, PA\, 19342\, United States
CATEGORIES:History & Heritage,Workshops/Classes,Delco 250
ATTACH;FMTTYPE=image/jpeg:https://visitdelco.com/wp-content/uploads/2026/02/Screenshot_4-2-2026_1085_newlingristmill.org_.jpeg
END:VEVENT
BEGIN:VEVENT
DTSTART;TZID=America/New_York:20260517T080000
DTEND;TZID=America/New_York:20260517T100000
DTSTAMP:20260421T065354
CREATED:20260212T223943Z
LAST-MODIFIED:20260212T223943Z
UID:10033203-1779004800-1779012000@visitdelco.com
SUMMARY:J. Heinz National Wildlife Refuge at Tinicum:  Watercolor at the Boardwalk
DESCRIPTION:Let nature spark your creativity and let the watercolors flow! This workshop will introduce you to simple watercolor painting techniques to create one of a kind paintings. Join us on the trail by the boardwalk. All supplies provided.
URL:https://visitdelco.com/event/j-heinz-national-wildlife-refuge-at-tinicum-watercolor-at-the-boardwalk/2026-05-17/
LOCATION:John Heinz National Wildlife Refuge at Tinicum\, 8601 Lindbergh Blvd.\, Philadelphia\, PA\, 19153\, United States
CATEGORIES:Gardens/ Nature/ Outdoors,Workshops/Classes,Educational
ATTACH;FMTTYPE=image/jpeg:https://visitdelco.com/wp-content/uploads/2026/02/633743186_1384947430336002_948025375923924032_n.jpg
END:VEVENT
BEGIN:VEVENT
DTSTART;TZID=America/New_York:20260523T093000
DTEND;TZID=America/New_York:20260523T153000
DTSTAMP:20260421T065354
CREATED:20260416T171216Z
LAST-MODIFIED:20260416T171216Z
UID:10034322-1779528600-1779550200@visitdelco.com
SUMMARY:Colonial Pennsylvania Farmstead: Basketmaking
DESCRIPTION:Baskets were essential in the colonial period for gathering\, marketing\, and everyday household tasks; an indispensable tool in both town and farm life. Led by instructor\, Karen Wychock\, participants will create a square storage basket using traditional techniques. \nMeasuring 10” x 10” x 11\,” the basket features bushel basket handles and oak runners to support whatever it holds. You can choose to weave it natural or add color to create a pattern – the choice is yours! Whether you are a novice or an advanced weaver\, this basket will make the perfect addition to your home. \nAll materials are provided. Attendees are asked to bring an apron or towel\, as the reed will be worked wet. The workshop includes a 30-minute lunch break; participants should plan to bring their own lunch. \nLearn more about instructor Karen Wychock. \n$80 members/ $100 non members
URL:https://visitdelco.com/event/colonial-pennsylvania-farmstead-basketmaking/
LOCATION:Colonial PA Farmstead\, 3900 Sandy Flash Drive\, Newtown Square\, PA\, 19073\, United States
CATEGORIES:History & Heritage,Workshops/Classes
ATTACH;FMTTYPE=image/webp:https://visitdelco.com/wp-content/uploads/2026/04/square-with-stripe-no-apple.webp
END:VEVENT
BEGIN:VEVENT
DTSTART;TZID=America/New_York:20260525T110000
DTEND;TZID=America/New_York:20260525T160000
DTSTAMP:20260421T065354
CREATED:20260416T171524Z
LAST-MODIFIED:20260416T171524Z
UID:10034323-1779706800-1779724800@visitdelco.com
SUMMARY:Colonial Pennsylvania Farmstead: Revolutionary Gardens
DESCRIPTION:Discover how an 18th century garden served as the cornerstone for survival\, health\, and creativity for colonial farm families. \n  \nStorytime: 11:30 AM and 1:30 PM \n  \nLast admission at 3 PM. \n$12 for Adults\, $8 for Children 4-12\, Children under 4 are free
URL:https://visitdelco.com/event/colonial-pennsylvania-farmstead-revolutionary-gardens/
LOCATION:Colonial PA Farmstead\, 3900 Sandy Flash Drive\, Newtown Square\, PA\, 19073\, United States
CATEGORIES:History & Heritage,Family Fun,Workshops/Classes
ATTACH;FMTTYPE=image/webp:https://visitdelco.com/wp-content/uploads/2026/04/dsc_0229.webp
END:VEVENT
BEGIN:VEVENT
DTSTART;TZID=America/New_York:20260606T100000
DTEND;TZID=America/New_York:20260606T110000
DTSTAMP:20260421T065354
CREATED:20260204T201648Z
LAST-MODIFIED:20260204T201648Z
UID:10032796-1780740000-1780743600@visitdelco.com
SUMMARY:Newlin Grist Mill Presents: Whittling Workshop
DESCRIPTION:3-4pm\n$15/person\, max 8 people\nAges 12 and up \nRick Schuman of For Woodness Sake will be leading a beginner woodworking workshop. In this workshop you will create a wooden flower while you learn about techniques and tools for working with wood. Class size is limited to 8 participants. Cost is $15/person and includes all tools and materials. Click here to register. \n 
URL:https://visitdelco.com/event/newlin-grist-mill-presents-whittling-workshop/
LOCATION:Newlin Grist Mill\, 219 Cheyney Road\, Glen Mills\, PA\, 19342\, United States
CATEGORIES:History & Heritage,Workshops/Classes,Educational,Delco 250
ATTACH;FMTTYPE=image/jpeg:https://visitdelco.com/wp-content/uploads/2026/02/Screenshot_4-2-2026_101622_newlingristmill.org_.jpeg
END:VEVENT
END:VCALENDAR