BEGIN:VCALENDAR
VERSION:2.0
PRODID:-//Visit Delco, PA - ECPv6.15.17.1//NONSGML v1.0//EN
CALSCALE:GREGORIAN
METHOD:PUBLISH
X-WR-CALNAME:Visit Delco, PA
X-ORIGINAL-URL:https://visitdelco.com
X-WR-CALDESC:Events for Visit Delco, PA
REFRESH-INTERVAL;VALUE=DURATION:PT1H
X-Robots-Tag:noindex
X-PUBLISHED-TTL:PT1H
BEGIN:VTIMEZONE
TZID:America/New_York
BEGIN:DAYLIGHT
TZOFFSETFROM:-0500
TZOFFSETTO:-0400
TZNAME:EDT
DTSTART:20250309T070000
END:DAYLIGHT
BEGIN:STANDARD
TZOFFSETFROM:-0400
TZOFFSETTO:-0500
TZNAME:EST
DTSTART:20251102T060000
END:STANDARD
BEGIN:DAYLIGHT
TZOFFSETFROM:-0500
TZOFFSETTO:-0400
TZNAME:EDT
DTSTART:20260308T070000
END:DAYLIGHT
BEGIN:STANDARD
TZOFFSETFROM:-0400
TZOFFSETTO:-0500
TZNAME:EST
DTSTART:20261101T060000
END:STANDARD
BEGIN:DAYLIGHT
TZOFFSETFROM:-0500
TZOFFSETTO:-0400
TZNAME:EDT
DTSTART:20270314T070000
END:DAYLIGHT
BEGIN:STANDARD
TZOFFSETFROM:-0400
TZOFFSETTO:-0500
TZNAME:EST
DTSTART:20271107T060000
END:STANDARD
END:VTIMEZONE
BEGIN:VEVENT
DTSTART;TZID=America/New_York:20260425T100000
DTEND;TZID=America/New_York:20260425T130000
DTSTAMP:20260420T191323
CREATED:20260415T171517Z
LAST-MODIFIED:20260415T193155Z
UID:10034188-1777111200-1777122000@visitdelco.com
SUMMARY:Scott Arboretum & Gardens:  Arbor Day Celebration
DESCRIPTION:
URL:https://visitdelco.com/event/scott-arboretum-gardens-arbor-day-celebration/
LOCATION:Scott Arboretum & Gardens\, 500 College Avenue\, Swarthmore\, PA\, 19081\, United States
CATEGORIES:Family Fun,Festivals/ Fairs Parades,Educational
ATTACH;FMTTYPE=image/jpeg:https://visitdelco.com/wp-content/uploads/2026/04/Arbor-Day-2025008-600-by-400.jpg
END:VEVENT
BEGIN:VEVENT
DTSTART;TZID=America/New_York:20260426T110000
DTEND;TZID=America/New_York:20260426T160000
DTSTAMP:20260420T191323
CREATED:20260415T171343Z
LAST-MODIFIED:20260418T171201Z
UID:10034187-1777201200-1777219200@visitdelco.com
SUMMARY:Media Spring Arts Show 2026
DESCRIPTION:
URL:https://visitdelco.com/event/media-spring-arts-show-2026/
LOCATION:Downtown Media\, 30 E. State Street\, Media\, PA\, 19063\, United States
CATEGORIES:Family Fun,Festivals/ Fairs Parades,Food & Drink
ATTACH;FMTTYPE=image/png:https://visitdelco.com/wp-content/uploads/2026/04/Social-MAC_MBA_SAF-FB-1.png
END:VEVENT
BEGIN:VEVENT
DTSTART;TZID=America/New_York:20260503T090000
DTEND;TZID=America/New_York:20260503T170000
DTSTAMP:20260420T191323
CREATED:20260416T174949Z
LAST-MODIFIED:20260416T184135Z
UID:10034672-1777798800-1777827600@visitdelco.com
SUMMARY:18th Annual Wayne Art Center Plein Air Festival
DESCRIPTION:The Wayne Art Center Plein Air Festival is one of the longest-running and most popular outdoor painting events in the country. Founded in 2008\, the Wayne Art Center Plein Air Festival has welcomed over 500 artists to paint the splendor of the Philadelphia area and has become one of the most eagerly anticipated cultural events in the region. \nThe 18th Annual Wayne Art Center Plein Air Festival kicks-off on May 3\, 2026\, with the arrival of 32 juried\, nationally recognized\, and emerging artists who have ventured to Wayne\, Pennsylvania to capture the exceptional beauty of the Delaware Valley.
URL:https://visitdelco.com/event/18th-annual-wayne-art-center-plein-air-festival/2026-05-03/
LOCATION:Wayne Art Center \, 413 Maplewood Avenue\, Wayne\, 19087\, United States
CATEGORIES:Arts & Culture,Festivals/ Fairs Parades
ATTACH;FMTTYPE=image/jpeg:https://visitdelco.com/wp-content/uploads/2026/04/Screenshot_16-4-2026_13492_waynepleinair.org_.jpeg
END:VEVENT
BEGIN:VEVENT
DTSTART;TZID=America/New_York:20260503T100000
DTEND;TZID=America/New_York:20260503T150000
DTSTAMP:20260420T191323
CREATED:20260413T182115Z
LAST-MODIFIED:20260413T182443Z
UID:10034157-1777802400-1777820400@visitdelco.com
SUMMARY:Swarthmore Spring Makers Market
DESCRIPTION:
URL:https://visitdelco.com/event/spring-makers-market/
LOCATION:Swarthmore\, PA\, Swarthmore\, PA\, 19081\, United States
CATEGORIES:Family Fun,Arts & Culture,Festivals/ Fairs Parades,Market
ATTACH;FMTTYPE=image/jpeg:https://visitdelco.com/wp-content/uploads/2026/04/Screenshot_13-4-2026_141955_swarthmoretowncenter.com_.jpeg
END:VEVENT
BEGIN:VEVENT
DTSTART;TZID=America/New_York:20260504T090000
DTEND;TZID=America/New_York:20260504T170000
DTSTAMP:20260420T191323
CREATED:20260416T174949Z
LAST-MODIFIED:20260416T184135Z
UID:10034673-1777885200-1777914000@visitdelco.com
SUMMARY:18th Annual Wayne Art Center Plein Air Festival
DESCRIPTION:The Wayne Art Center Plein Air Festival is one of the longest-running and most popular outdoor painting events in the country. Founded in 2008\, the Wayne Art Center Plein Air Festival has welcomed over 500 artists to paint the splendor of the Philadelphia area and has become one of the most eagerly anticipated cultural events in the region. \nThe 18th Annual Wayne Art Center Plein Air Festival kicks-off on May 3\, 2026\, with the arrival of 32 juried\, nationally recognized\, and emerging artists who have ventured to Wayne\, Pennsylvania to capture the exceptional beauty of the Delaware Valley.
URL:https://visitdelco.com/event/18th-annual-wayne-art-center-plein-air-festival/2026-05-04/
LOCATION:Wayne Art Center \, 413 Maplewood Avenue\, Wayne\, 19087\, United States
CATEGORIES:Arts & Culture,Festivals/ Fairs Parades
ATTACH;FMTTYPE=image/jpeg:https://visitdelco.com/wp-content/uploads/2026/04/Screenshot_16-4-2026_13492_waynepleinair.org_.jpeg
END:VEVENT
BEGIN:VEVENT
DTSTART;TZID=America/New_York:20260506T090000
DTEND;TZID=America/New_York:20260506T170000
DTSTAMP:20260420T191323
CREATED:20260416T174949Z
LAST-MODIFIED:20260416T184135Z
UID:10034675-1778058000-1778086800@visitdelco.com
SUMMARY:18th Annual Wayne Art Center Plein Air Festival
DESCRIPTION:The Wayne Art Center Plein Air Festival is one of the longest-running and most popular outdoor painting events in the country. Founded in 2008\, the Wayne Art Center Plein Air Festival has welcomed over 500 artists to paint the splendor of the Philadelphia area and has become one of the most eagerly anticipated cultural events in the region. \nThe 18th Annual Wayne Art Center Plein Air Festival kicks-off on May 3\, 2026\, with the arrival of 32 juried\, nationally recognized\, and emerging artists who have ventured to Wayne\, Pennsylvania to capture the exceptional beauty of the Delaware Valley.
URL:https://visitdelco.com/event/18th-annual-wayne-art-center-plein-air-festival/2026-05-06/
LOCATION:Wayne Art Center \, 413 Maplewood Avenue\, Wayne\, 19087\, United States
CATEGORIES:Arts & Culture,Festivals/ Fairs Parades
ATTACH;FMTTYPE=image/jpeg:https://visitdelco.com/wp-content/uploads/2026/04/Screenshot_16-4-2026_13492_waynepleinair.org_.jpeg
END:VEVENT
BEGIN:VEVENT
DTSTART;TZID=America/New_York:20260507T090000
DTEND;TZID=America/New_York:20260507T170000
DTSTAMP:20260420T191323
CREATED:20260416T174949Z
LAST-MODIFIED:20260416T184135Z
UID:10034676-1778144400-1778173200@visitdelco.com
SUMMARY:18th Annual Wayne Art Center Plein Air Festival
DESCRIPTION:The Wayne Art Center Plein Air Festival is one of the longest-running and most popular outdoor painting events in the country. Founded in 2008\, the Wayne Art Center Plein Air Festival has welcomed over 500 artists to paint the splendor of the Philadelphia area and has become one of the most eagerly anticipated cultural events in the region. \nThe 18th Annual Wayne Art Center Plein Air Festival kicks-off on May 3\, 2026\, with the arrival of 32 juried\, nationally recognized\, and emerging artists who have ventured to Wayne\, Pennsylvania to capture the exceptional beauty of the Delaware Valley.
URL:https://visitdelco.com/event/18th-annual-wayne-art-center-plein-air-festival/2026-05-07/
LOCATION:Wayne Art Center \, 413 Maplewood Avenue\, Wayne\, 19087\, United States
CATEGORIES:Arts & Culture,Festivals/ Fairs Parades
ATTACH;FMTTYPE=image/jpeg:https://visitdelco.com/wp-content/uploads/2026/04/Screenshot_16-4-2026_13492_waynepleinair.org_.jpeg
END:VEVENT
BEGIN:VEVENT
DTSTART;TZID=America/New_York:20260508T090000
DTEND;TZID=America/New_York:20260508T170000
DTSTAMP:20260420T191323
CREATED:20260416T174949Z
LAST-MODIFIED:20260416T184135Z
UID:10034677-1778230800-1778259600@visitdelco.com
SUMMARY:18th Annual Wayne Art Center Plein Air Festival
DESCRIPTION:The Wayne Art Center Plein Air Festival is one of the longest-running and most popular outdoor painting events in the country. Founded in 2008\, the Wayne Art Center Plein Air Festival has welcomed over 500 artists to paint the splendor of the Philadelphia area and has become one of the most eagerly anticipated cultural events in the region. \nThe 18th Annual Wayne Art Center Plein Air Festival kicks-off on May 3\, 2026\, with the arrival of 32 juried\, nationally recognized\, and emerging artists who have ventured to Wayne\, Pennsylvania to capture the exceptional beauty of the Delaware Valley.
URL:https://visitdelco.com/event/18th-annual-wayne-art-center-plein-air-festival/2026-05-08/
LOCATION:Wayne Art Center \, 413 Maplewood Avenue\, Wayne\, 19087\, United States
CATEGORIES:Arts & Culture,Festivals/ Fairs Parades
ATTACH;FMTTYPE=image/jpeg:https://visitdelco.com/wp-content/uploads/2026/04/Screenshot_16-4-2026_13492_waynepleinair.org_.jpeg
END:VEVENT
BEGIN:VEVENT
DTSTART;TZID=America/New_York:20260509T090000
DTEND;TZID=America/New_York:20260509T170000
DTSTAMP:20260420T191323
CREATED:20260416T174949Z
LAST-MODIFIED:20260416T184135Z
UID:10034678-1778317200-1778346000@visitdelco.com
SUMMARY:18th Annual Wayne Art Center Plein Air Festival
DESCRIPTION:The Wayne Art Center Plein Air Festival is one of the longest-running and most popular outdoor painting events in the country. Founded in 2008\, the Wayne Art Center Plein Air Festival has welcomed over 500 artists to paint the splendor of the Philadelphia area and has become one of the most eagerly anticipated cultural events in the region. \nThe 18th Annual Wayne Art Center Plein Air Festival kicks-off on May 3\, 2026\, with the arrival of 32 juried\, nationally recognized\, and emerging artists who have ventured to Wayne\, Pennsylvania to capture the exceptional beauty of the Delaware Valley.
URL:https://visitdelco.com/event/18th-annual-wayne-art-center-plein-air-festival/2026-05-09/
LOCATION:Wayne Art Center \, 413 Maplewood Avenue\, Wayne\, 19087\, United States
CATEGORIES:Arts & Culture,Festivals/ Fairs Parades
ATTACH;FMTTYPE=image/jpeg:https://visitdelco.com/wp-content/uploads/2026/04/Screenshot_16-4-2026_13492_waynepleinair.org_.jpeg
END:VEVENT
BEGIN:VEVENT
DTSTART;TZID=America/New_York:20260517T070000
DTEND;TZID=America/New_York:20260517T130000
DTSTAMP:20260420T191323
CREATED:20260303T010019Z
LAST-MODIFIED:20260303T012114Z
UID:10033374-1779001200-1779022800@visitdelco.com
SUMMARY:Lansdowne Arts on the Avenue
DESCRIPTION:
URL:https://visitdelco.com/event/lansdowne-arts-on-the-avenue/
LOCATION:Lansdowne\, PA\, Lansdowne\, PA\, 19050\, United States
CATEGORIES:Family Fun,Arts & Culture,Festivals/ Fairs Parades
ATTACH;FMTTYPE=image/webp:https://visitdelco.com/wp-content/uploads/2026/03/image.webp
END:VEVENT
BEGIN:VEVENT
DTSTART;TZID=America/New_York:20260613T070000
DTEND;TZID=America/New_York:20260613T150000
DTSTAMP:20260420T191323
CREATED:20260107T224212Z
LAST-MODIFIED:20260107T234818Z
UID:10029539-1781334000-1781362800@visitdelco.com
SUMMARY:Havertown Irish Festival
DESCRIPTION:
URL:https://visitdelco.com/event/havertown-irish-festival/
LOCATION:Havertown\, PA\, Havertown\, PA\, 19083\, United States
CATEGORIES:Concerts & Live Music,Family Fun,Arts & Culture,Festivals/ Fairs Parades
ATTACH;FMTTYPE=image/jpeg:https://visitdelco.com/wp-content/uploads/2026/01/Screenshot_7-1-2026_124120_www.ticketleap.events.jpeg
END:VEVENT
END:VCALENDAR